BEGIN:VCALENDAR
VERSION:2.0
PRODID:-//MUNICH FABRIC START - ECPv6.15.12.2//NONSGML v1.0//EN
CALSCALE:GREGORIAN
METHOD:PUBLISH
X-ORIGINAL-URL:https://www.munichfabricstart.com/en/
X-WR-CALDESC:Events for MUNICH FABRIC START
REFRESH-INTERVAL;VALUE=DURATION:PT1H
X-Robots-Tag:noindex
X-PUBLISHED-TTL:PT1H
BEGIN:VTIMEZONE
TZID:Europe/Berlin
BEGIN:DAYLIGHT
TZOFFSETFROM:+0100
TZOFFSETTO:+0200
TZNAME:CEST
DTSTART:20230326T010000
END:DAYLIGHT
BEGIN:STANDARD
TZOFFSETFROM:+0200
TZOFFSETTO:+0100
TZNAME:CET
DTSTART:20231029T010000
END:STANDARD
BEGIN:DAYLIGHT
TZOFFSETFROM:+0100
TZOFFSETTO:+0200
TZNAME:CEST
DTSTART:20240331T010000
END:DAYLIGHT
BEGIN:STANDARD
TZOFFSETFROM:+0200
TZOFFSETTO:+0100
TZNAME:CET
DTSTART:20241027T010000
END:STANDARD
BEGIN:DAYLIGHT
TZOFFSETFROM:+0100
TZOFFSETTO:+0200
TZNAME:CEST
DTSTART:20250330T010000
END:DAYLIGHT
BEGIN:STANDARD
TZOFFSETFROM:+0200
TZOFFSETTO:+0100
TZNAME:CET
DTSTART:20251026T010000
END:STANDARD
END:VTIMEZONE
BEGIN:VEVENT
DTSTART;TZID=Europe/Berlin:20240903T130000
DTEND;TZID=Europe/Berlin:20240903T133000
DTSTAMP:20260423T160435
CREATED:20240625T133439Z
LAST-MODIFIED:20240625T133439Z
UID:7263-1725368400-1725370200@www.munichfabricstart.com
SUMMARY:Yoona.ai – AI in Fashion: Examples\, Best Practices\, and What’s Next
DESCRIPTION:More details will be announced soon.
URL:https://www.munichfabricstart.com/en/event/yoona-ai-ai-in-fashion-examples-best-practices-and-whats-next/
LOCATION:TREND LECTURES | Keyhouse – Hall 7
CATEGORIES:Technology Talk
END:VEVENT
BEGIN:VEVENT
DTSTART;TZID=Europe/Berlin:20240903T120000
DTEND;TZID=Europe/Berlin:20240903T130000
DTSTAMP:20260423T160435
CREATED:20240821T072641Z
LAST-MODIFIED:20240821T073200Z
UID:7972-1725364800-1725368400@www.munichfabricstart.com
SUMMARY:BLUE D.E.W. – DENIM.EDUCATION.WORKSHOP
DESCRIPTION:Explore the Essentials of Washing
URL:https://www.munichfabricstart.com/en/event/blue-d-e-w-denim-education-workshop/
LOCATION:ROUND TABLE | Bluezone – Hall 7
CATEGORIES:Workshop
END:VEVENT
BEGIN:VEVENT
DTSTART;TZID=Europe/Berlin:20240903T120000
DTEND;TZID=Europe/Berlin:20240903T130000
DTSTAMP:20260423T160435
CREATED:20240626T083149Z
LAST-MODIFIED:20240730T143318Z
UID:7320-1725364800-1725368400@www.munichfabricstart.com
SUMMARY:Peclers Paris – WOMEN'S FASHION TRENDS  FW 25 – 26: REDUKTION\, STRENGE VERSUS EMOTION\, KREATIVITÄT
DESCRIPTION:Eine Saison mit Fokus auf einem minimalistischen\, essenziellen Look auf der einen Seite\, wertigen Materialien und luxuriösem Chic. Auf der anderen Seite wollen wir der Effizienz\, Perfektion und einem durchgetakteten Alltag etwas entgegensetzen: Wir leben unsere Sehnsucht nach Romantik\, einer selbstbewussten Femininität aus und experimentieren mit der Verfremdung des Vertrauten. Generische Codes werden verwandelt durch Farbe und kreative Kontexte.
URL:https://www.munichfabricstart.com/en/event/peclers-paris-fashion-trends-herbst-winter-2025-26/
LOCATION:Room K1 in front of Hall 1 | MOC
CATEGORIES:Trend Presentation
END:VEVENT
BEGIN:VEVENT
DTSTART;TZID=Europe/Berlin:20240903T120000
DTEND;TZID=Europe/Berlin:20240903T130000
DTSTAMP:20260423T160435
CREATED:20240625T132855Z
LAST-MODIFIED:20240827T142530Z
UID:7258-1725364800-1725368400@www.munichfabricstart.com
SUMMARY:Denim Deal Germany – Unveiling first Signatories
DESCRIPTION:Join this panel discussion where the future of the Denim Deal in Germany will be disclosed. Sharing their mission\, vision and goals in forming part of the global initiative driving the production of 1 billion pair of jeans containing at least 20% PCR. We will be diving into the type of collaboration needed and its potential challenges in scaling the use of PCR cotton in denim. \nModerated by Angela Velasquez.
URL:https://www.munichfabricstart.com/en/event/denim-deal-germany-unveiling-first-signatories/
LOCATION:TREND LECTURES | Keyhouse – Hall 7
CATEGORIES:Panel Discussion
END:VEVENT
BEGIN:VEVENT
DTSTART;TZID=Europe/Berlin:20240903T113000
DTEND;TZID=Europe/Berlin:20240903T120000
DTSTAMP:20260423T160435
CREATED:20240816T091944Z
LAST-MODIFIED:20240816T092409Z
UID:7931-1725363000-1725364800@www.munichfabricstart.com
SUMMARY:Vicunha Denim With Zero Fresh Water
DESCRIPTION:The Brazilian textile giant invests to treat domestic sewage to feed water to industries and city.
URL:https://www.munichfabricstart.com/en/event/vicunha-denim-with-zero-fresh-water/
LOCATION:ROUND TABLE | Bluezone – Hall 7
CATEGORIES:Educational Talk
END:VEVENT
BEGIN:VEVENT
DTSTART;TZID=Europe/Berlin:20240903T110000
DTEND;TZID=Europe/Berlin:20240903T120000
DTSTAMP:20260423T160435
CREATED:20240625T131934Z
LAST-MODIFIED:20240723T112402Z
UID:7246-1725361200-1725364800@www.munichfabricstart.com
SUMMARY:Adidas X Shape Innovate – In conversation with Drishti Masand: Discovering Innovations – Adidas' Journey with the New Cotton Project and T-REX
DESCRIPTION:Join us for an engaging “In Conversation with…” session featuring Drishti Masand\, Senior Manager\, Sustainability Direction at adidas. Drishti will delve into how adidas leverages innovation and public research projects such as the EU-funded T-REX Project. Such initiatives are industry-wide team collaborations that speak to our efforts\, allowing us to learn from the best and share our learnings with partners\, which ultimately propels the industry to become more circular. Don’t miss this opportunity to learn about the innovative steps adidas is taking towards a more sustainable future.
URL:https://www.munichfabricstart.com/en/event/adidas-x-shape-innovate-in-conversation-with-drishti-masand/
LOCATION:TREND LECTURES | Keyhouse – Hall 7
CATEGORIES:Innovation Talk
END:VEVENT
BEGIN:VEVENT
DTSTART;TZID=Europe/Berlin:20240903T103000
DTEND;TZID=Europe/Berlin:20240903T110000
DTSTAMP:20260423T160435
CREATED:20240717T061851Z
LAST-MODIFIED:20240717T061851Z
UID:7600-1725359400-1725361200@www.munichfabricstart.com
SUMMARY:Key Conversation and Deep Dive about Future-oriented Sustainable Material Developments
DESCRIPTION:Join Simon Angel and material experts for an inspirational talk about future-proof material solutions that will add value to a sustainable and circular industry.
URL:https://www.munichfabricstart.com/en/event/key-conversation-and-deep-dive-about-future-oriented-sustainable-material-developments-3/
LOCATION:TREND LECTURES | Keyhouse – Hall 7
CATEGORIES:Educational Talk
END:VEVENT
BEGIN:VEVENT
DTSTART;TZID=Europe/Berlin:20240903T100000
DTEND;TZID=Europe/Berlin:20240903T103000
DTSTAMP:20260423T160435
CREATED:20240703T100551Z
LAST-MODIFIED:20240801T140612Z
UID:7659-1725357600-1725359400@www.munichfabricstart.com
SUMMARY:MONSIEUR-T. – Bluezone Denim Trends
DESCRIPTION:Age & Trend\, Tops & Bottoms\, Cores & Innovation. Insight & Inspiration for upcoming bestsellers.
URL:https://www.munichfabricstart.com/en/event/monsieur-t-bluezone-trends/
LOCATION:TREND LECTURES | Keyhouse – Hall 7
CATEGORIES:Trend Presentation
END:VEVENT
BEGIN:VEVENT
DTSTART;TZID=Europe/Berlin:20240124T170000
DTEND;TZID=Europe/Berlin:20240124T173000
DTSTAMP:20260423T160435
CREATED:20240110T181440Z
LAST-MODIFIED:20240110T181440Z
UID:6581-1706115600-1706117400@www.munichfabricstart.com
SUMMARY:Unveiling the Ozone Revolution: How Chemistry Research is Rewriting Laundry History
DESCRIPTION:Learn how the chemistry research innovations has provided the missing value to Ozone\, giving it the chance to become a useful and rich part of the washing process.
URL:https://www.munichfabricstart.com/en/event/unveiling-the-ozone-revolution-how-chemistry-research-is-rewriting-laundry-history/
LOCATION:TREND LECTURES | Keyhouse – Hall 5
CATEGORIES:Presentation
END:VEVENT
BEGIN:VEVENT
DTSTART;TZID=Europe/Berlin:20240124T163000
DTEND;TZID=Europe/Berlin:20240124T170000
DTSTAMP:20260423T160435
CREATED:20240115T181607Z
LAST-MODIFIED:20240115T214728Z
UID:6714-1706113800-1706115600@www.munichfabricstart.com
SUMMARY:Recycling-Verfahren & -Technologien
DESCRIPTION:Die Herausforderungen von Textilrecycling als Lösung für die Zukunft der Bekleidungsindustrie
URL:https://www.munichfabricstart.com/en/event/walk4recycling-textiles-post-consumer-recycling-vom-polo-shirt-in-einen-strickpullover/
LOCATION:TREND LECTURES | Keyhouse – Hall 5
CATEGORIES:Educational Session
END:VEVENT
BEGIN:VEVENT
DTSTART;TZID=Europe/Berlin:20240124T163000
DTEND;TZID=Europe/Berlin:20240124T170000
DTSTAMP:20260423T160435
CREATED:20240112T160733Z
LAST-MODIFIED:20240117T180913Z
UID:6651-1706113800-1706115600@www.munichfabricstart.com
SUMMARY:Denim Hunter – The Documentary (Q&A)
DESCRIPTION:Q&A Session with the director and main character of the movie.
URL:https://www.munichfabricstart.com/en/event/denim-hunter-the-documentary-6/
LOCATION:SEMINAR ZONE | BLUEZONE – Hall 7
CATEGORIES:Q&A
END:VEVENT
BEGIN:VEVENT
DTSTART;TZID=Europe/Berlin:20240124T160000
DTEND;TZID=Europe/Berlin:20240124T163000
DTSTAMP:20260423T160435
CREATED:20240104T131558Z
LAST-MODIFIED:20240104T131558Z
UID:6527-1706112000-1706113800@www.munichfabricstart.com
SUMMARY:See how Stratasys Advanced 3DFashion Direct-to-Textile 3D Printing Technology is Disrupting the Industry
DESCRIPTION:The textile and fashion industries are riding a wave of unprecedented change\, and the introduction of cutting-edge 3D printing technology is set to revolutionize their approach to production. Join us to hear more and secure your place on the journey to a more mindful manufacturing future.
URL:https://www.munichfabricstart.com/en/event/see-how-stratasys-advanced-3dfashion-direct-to-textile-3d-printing-technology-is-disrupting-the-industry/
LOCATION:TREND LECTURES | Keyhouse – Hall 5
CATEGORIES:Presentation
END:VEVENT
BEGIN:VEVENT
DTSTART;TZID=Europe/Berlin:20240124T153000
DTEND;TZID=Europe/Berlin:20240124T163000
DTSTAMP:20260423T160435
CREATED:20240112T160554Z
LAST-MODIFIED:20240112T160900Z
UID:6647-1706110200-1706113800@www.munichfabricstart.com
SUMMARY:Denim Hunter – The Documentary (Film Screening)
DESCRIPTION:A road movie documentary following a denim hunter on his journey to find the rarest jeans on earth.
URL:https://www.munichfabricstart.com/en/event/denim-hunter-the-documentary-5/
LOCATION:SEMINAR ZONE | BLUEZONE – Hall 7
CATEGORIES:Movie – Screening
END:VEVENT
BEGIN:VEVENT
DTSTART;TZID=Europe/Berlin:20240124T153000
DTEND;TZID=Europe/Berlin:20240124T160000
DTSTAMP:20260423T160435
CREATED:20240109T172719Z
LAST-MODIFIED:20240109T172719Z
UID:6565-1706110200-1706112000@www.munichfabricstart.com
SUMMARY:BioTexFuture: Biobased solutions to address the EU Textile Strategy 2030
DESCRIPTION:The EU Textile Strategy 2030 is setting the scene for the European textile sector in the upcoming years. With the BioTexFuture innovation space on bio-based textile research we are presenting novel ideas\, promising approaches and viable solutions.
URL:https://www.munichfabricstart.com/en/event/biotexfuture-biobased-solutions-to-address-the-eu-textile-strategy-2030/
LOCATION:TREND LECTURES | Keyhouse – Hall 5
CATEGORIES:Innovation Talk
END:VEVENT
BEGIN:VEVENT
DTSTART;TZID=Europe/Berlin:20240124T150000
DTEND;TZID=Europe/Berlin:20240124T153000
DTSTAMP:20260423T160435
CREATED:20240112T160443Z
LAST-MODIFIED:20240112T160919Z
UID:6643-1706108400-1706110200@www.munichfabricstart.com
SUMMARY:Denim Hunter – The Documentary (Introduction)
DESCRIPTION:A personal introduction to the road movie documentary by the director and main character.
URL:https://www.munichfabricstart.com/en/event/denim-hunter-the-documentary-4/
LOCATION:SEMINAR ZONE | BLUEZONE – Hall 7
CATEGORIES:Movie – Introduction
END:VEVENT
BEGIN:VEVENT
DTSTART;TZID=Europe/Berlin:20240124T150000
DTEND;TZID=Europe/Berlin:20240124T153000
DTSTAMP:20260423T160435
CREATED:20231213T121822Z
LAST-MODIFIED:20231215T143212Z
UID:6304-1706108400-1706110200@www.munichfabricstart.com
SUMMARY:AI – The Role of AI in Fashion: From Design to Production
DESCRIPTION:Learn how artificial intelligence is revolutionizing product design by offering unprecedented insights through data analysis and recognition. Designers can leverage AI to streamline the creative process\, generating innovative solutions and enhancing user experiences. The integration of AI in product design enables personalized and adaptive features\, catering to individual preferences and user needs. As technology continues to advance\, the synergy between human creativity and AI capabilities is reshaping the landscape of design\, fostering a dynamic and efficient approach to creating cutting-edge products.
URL:https://www.munichfabricstart.com/en/event/ai-the-role-of-ai-in-fashion-from-design-to-production/
LOCATION:TREND LECTURES | Keyhouse – Hall 5
CATEGORIES:Keynote
END:VEVENT
BEGIN:VEVENT
DTSTART;TZID=Europe/Berlin:20240124T143000
DTEND;TZID=Europe/Berlin:20240124T150000
DTSTAMP:20260423T160435
CREATED:20240103T184145Z
LAST-MODIFIED:20240108T190048Z
UID:6497-1706106600-1706108400@www.munichfabricstart.com
SUMMARY:Sustainable Practices: Balancing Profit and Ethics
DESCRIPTION:This insightful session is dedicated to exploring how businesses in the fashion and textile industry can successfully marry profitability with ethical practices\, emphasising clarity in decision-making and communication. The lecture will provide an overview of the industry’s current landscape\, highlighting the increasing necessity for sustainable practices.
URL:https://www.munichfabricstart.com/en/event/sustainable-practices-balancing-profit-and-ethics/
LOCATION:TREND LECTURES | Keyhouse – Hall 5
CATEGORIES:Mini Lecture
END:VEVENT
BEGIN:VEVENT
DTSTART;TZID=Europe/Berlin:20240124T140000
DTEND;TZID=Europe/Berlin:20240124T143000
DTSTAMP:20260423T160435
CREATED:20231227T095846Z
LAST-MODIFIED:20240108T172241Z
UID:6461-1706104800-1706106600@www.munichfabricstart.com
SUMMARY:Scope 3 und THG-Emissionen – Relevanz in der textilen Wertschöpfungskette
DESCRIPTION:Die Berechnung der Treibhausgas-Emissionen entlang der Lieferkette gewinnt angesichts der Erderwärmung und des Pariser Abkommens\, das eine Begrenzung auf 1\,5 Grad anstrebt\, zunehmend an Bedeutung für Unternehmen. Dabei ist insbesondere der Bereich Scope 3 entscheidend. Der Vortrag bietet einen Einstieg in dieses Thema und untersucht\, was unter die Scope 3 Kategorie fällt\, wie man diese Emissionen berechnet und welche Herausforderungen sowie Chancen sich dabei ergeben.
URL:https://www.munichfabricstart.com/en/event/scope-3-und-thg-emissionen-relevanz-der-in-der-textilen-wertschoepfungskette/
LOCATION:TREND LECTURES | Keyhouse – Hall 5
CATEGORIES:Educational Session
END:VEVENT
BEGIN:VEVENT
DTSTART;TZID=Europe/Berlin:20240124T130000
DTEND;TZID=Europe/Berlin:20240124T140000
DTSTAMP:20260423T160435
CREATED:20240115T175719Z
LAST-MODIFIED:20240119T130210Z
UID:6686-1706101200-1706104800@www.munichfabricstart.com
SUMMARY:FASHION FORWARD – Einfluss von Materialien und Herstellungsprozessen auf Modedesign
DESCRIPTION:Welche Rolle spielen Materialien im Modedesign? Wie können Tradition und Innovation eine Symbiose eingehen? Und welche Materialien sind wirklich am „nachhaltigsten“? Designer:innen und Marken verfolgen heutzutage diverse Strategien\, wenn es darum geht nachhaltige Stoffe in ihre Kollektionen zu integrieren – von neuartigen Fasern über umweltfreundliche Materialien bis hin zu Upcycling-Artikeln. In diesem Panel diskutieren wir gemeinsam mit unseren Speaker:innen\, welcher Prozess sich hinter der Wahl ihrer Materialien versteckt und wie diese unter anderem ihren Designprozess beeinflussen.
URL:https://www.munichfabricstart.com/en/event/fashion-forward-einfluss-von-materialien-und-herstellungsprozessen-auf-modedesign/
LOCATION:TREND LECTURES | Keyhouse – Hall 5
CATEGORIES:Panel Discussion
END:VEVENT
BEGIN:VEVENT
DTSTART;TZID=Europe/Berlin:20240124T120000
DTEND;TZID=Europe/Berlin:20240124T130000
DTSTAMP:20260423T160435
CREATED:20240115T185557Z
LAST-MODIFIED:20240117T181048Z
UID:6738-1706097600-1706101200@www.munichfabricstart.com
SUMMARY:The Biggest Sustainable Jeans
DESCRIPTION:Join the journey of Orta and Long John to create the biggest pair of blue jeans ever made.
URL:https://www.munichfabricstart.com/en/event/the-biggest-sustainable-jeans/
LOCATION:SEMINAR ZONE | BLUEZONE – Hall 7
CATEGORIES:Denim Talk
END:VEVENT
BEGIN:VEVENT
DTSTART;TZID=Europe/Berlin:20240124T120000
DTEND;TZID=Europe/Berlin:20240124T130000
DTSTAMP:20260423T160435
CREATED:20231227T095650Z
LAST-MODIFIED:20231227T165116Z
UID:6455-1706097600-1706101200@www.munichfabricstart.com
SUMMARY:Regenerative Fashion
DESCRIPTION:In dieser Diskussion gehen die Speaker*innen dem derzeitigen Trendbegriff „regenerativ“ auf die Spur und hinterfragen sowohl die Bedeutung als auch die Wirksamkeit von regenerativer Mode.
URL:https://www.munichfabricstart.com/en/event/regenerative-fashion/
LOCATION:TREND LECTURES | Keyhouse – Hall 5
CATEGORIES:Panel Discussion
END:VEVENT
BEGIN:VEVENT
DTSTART;TZID=Europe/Berlin:20240124T113000
DTEND;TZID=Europe/Berlin:20240124T120000
DTSTAMP:20260423T160435
CREATED:20231221T082749Z
LAST-MODIFIED:20240111T074713Z
UID:6408-1706095800-1706097600@www.munichfabricstart.com
SUMMARY:Navigating Through Challenges and Opportunities in Brand Identity Design
DESCRIPTION:What is the state of brand identity in the fashion industry today\, and where is it heading? A conversation about the delicate balance of design innovation in today’s digital age. Drawing from his hands-on experience with fashion trims\, Morten Frost Madsen\, Head of Design at Trimco Group\, will share insights on how to smoothly integrate trends and digital elements into a designer’s daily work. He will also touch upon the subtle integration of AI into the design process\, highlighting its role as a supportive tool rather than a disruptive force.
URL:https://www.munichfabricstart.com/en/event/adapting-to-the-digital-era-navigating-through-challenges-and-opportunities-in-brand-identity-design/
LOCATION:TREND LECTURES | Keyhouse – Hall 5
CATEGORIES:Innovation Talk
END:VEVENT
BEGIN:VEVENT
DTSTART;TZID=Europe/Berlin:20240124T110000
DTEND;TZID=Europe/Berlin:20240124T120000
DTSTAMP:20260423T160435
CREATED:20240115T183826Z
LAST-MODIFIED:20240116T121421Z
UID:6724-1706094000-1706097600@www.munichfabricstart.com
SUMMARY:The PoweR of R – Is it the letter R to Rescue us from failure?
DESCRIPTION:Join REICONICS by EVLOX\, RECOVER & JEANOLOGIA and RE&UP by ISKO as the pioneers in Circular Denim to talk about their mission\, visions and facts. Learn about how the industry of the future is evolving successfully in Recycling\, Repurposing\, Reforming and Reinventing the Remains end to landfills by Resolving the Textile Waste Management problem.
URL:https://www.munichfabricstart.com/en/event/the-power-of-r-is-it-the-letter-r-to-rescue-us-from-failure/
LOCATION:SEMINAR ZONE | BLUEZONE – Hall 7
CATEGORIES:Innovation Panel
END:VEVENT
BEGIN:VEVENT
DTSTART;TZID=Europe/Berlin:20240124T110000
DTEND;TZID=Europe/Berlin:20240124T113000
DTSTAMP:20260423T160435
CREATED:20240104T120912Z
LAST-MODIFIED:20240109T163019Z
UID:6515-1706094000-1706095800@www.munichfabricstart.com
SUMMARY:Mastering global design & production
DESCRIPTION:How 3D/2D CAD can work miracles in the supply chain and ensure great results. A best practice perspective from the industry.
URL:https://www.munichfabricstart.com/en/event/mastering-global-design-production/
LOCATION:TREND LECTURES | Keyhouse – Hall 5
CATEGORIES:Fashion Best Practices
END:VEVENT
BEGIN:VEVENT
DTSTART;TZID=Europe/Berlin:20240124T103000
DTEND;TZID=Europe/Berlin:20240124T110000
DTSTAMP:20260423T160435
CREATED:20240112T152012Z
LAST-MODIFIED:20240115T124104Z
UID:6602-1706092200-1706094000@www.munichfabricstart.com
SUMMARY:BLUEZONE SIGNATURE – DENIM TRENDS & CORES
DESCRIPTION:A Sneak-peak Into Lasting Trends Of Denim And Jeans Wear
URL:https://www.munichfabricstart.com/en/event/bluezone-signature-denim-trends-cores-2/
LOCATION:SEMINAR ZONE | BLUEZONE – Hall 7
CATEGORIES:Trend Presentation
END:VEVENT
BEGIN:VEVENT
DTSTART;TZID=Europe/Berlin:20240124T100000
DTEND;TZID=Europe/Berlin:20240124T110000
DTSTAMP:20260423T160435
CREATED:20240103T185642Z
LAST-MODIFIED:20240103T185642Z
UID:6503-1706090400-1706094000@www.munichfabricstart.com
SUMMARY:Key Conversation and Deep Dive about Future-oriented Sustainable Material Developments
DESCRIPTION:Join Simon Angel and material experts for an inspirational talk about future-proof material solutions that will add value to a sustainable and circular industry.
URL:https://www.munichfabricstart.com/en/event/key-conversation-and-deep-dive-about-future-oriented-sustainable-material-developments-2/
LOCATION:TREND LECTURES | Keyhouse – Hall 5
CATEGORIES:Sustainable Innovations Talk
END:VEVENT
BEGIN:VEVENT
DTSTART;TZID=Europe/Berlin:20240123T170000
DTEND;TZID=Europe/Berlin:20240123T180000
DTSTAMP:20260423T160435
CREATED:20240112T155326Z
LAST-MODIFIED:20240123T114208Z
UID:6639-1706029200-1706032800@www.munichfabricstart.com
SUMMARY:THE WOMEN IN DENIM CHAT – 360° Overview About Society\, Innovation\, Future.
DESCRIPTION:THE WOMEN IN DENIM CHAT – 360° Overview About Society\, Innovation\, Future.\n\nHeld by Lucie Germser & Anne Oudard\, founders of The Women in Denim.
URL:https://www.munichfabricstart.com/en/event/the-women-in-denim-chat-360-overview-about-society-innovation-future/
LOCATION:SEMINAR ZONE | BLUEZONE – Hall 7
CATEGORIES:Educational Talk
END:VEVENT
BEGIN:VEVENT
DTSTART;TZID=Europe/Berlin:20240123T163000
DTEND;TZID=Europe/Berlin:20240123T180000
DTSTAMP:20260423T160435
CREATED:20231213T152852Z
LAST-MODIFIED:20240116T081654Z
UID:6326-1706027400-1706032800@www.munichfabricstart.com
SUMMARY:THE ART OF LIVING
DESCRIPTION:What we want is: The joy of surprise\, inventiveness and experimentation\, a future informed by the past\, a past informed by the future\, memories and new experiences\, symbiosis with nature\, design that allows us to express our personalities and priorities\, a connection between outer and inner space. Words\, words\, words\, haven’t we been here before? Well\, this time\, it’s different and consumers are looking to designers to use their creative skills and play their part. DAVID SHAH unravels a morass of shifting trends to understand what design means in our time.
URL:https://www.munichfabricstart.com/en/event/the-art-of-living/
LOCATION:TREND LECTURES | Keyhouse – Hall 5
CATEGORIES:Keynote
END:VEVENT
BEGIN:VEVENT
DTSTART;TZID=Europe/Berlin:20240123T163000
DTEND;TZID=Europe/Berlin:20240123T170000
DTSTAMP:20260423T160435
CREATED:20240112T154907Z
LAST-MODIFIED:20240117T180946Z
UID:6635-1706027400-1706029200@www.munichfabricstart.com
SUMMARY:Denim Hunter – The Documentary (Q&A)
DESCRIPTION:Q&A session with the director and main character of the movie.
URL:https://www.munichfabricstart.com/en/event/denim-hunter-the-documentary-3/
LOCATION:SEMINAR ZONE | BLUEZONE – Hall 7
CATEGORIES:Q&A
END:VEVENT
BEGIN:VEVENT
DTSTART;TZID=Europe/Berlin:20240123T153000
DTEND;TZID=Europe/Berlin:20240123T163000
DTSTAMP:20260423T160435
CREATED:20240112T154723Z
LAST-MODIFIED:20240112T161025Z
UID:6631-1706023800-1706027400@www.munichfabricstart.com
SUMMARY:Denim Hunter – The Documentary (Film Screening)
DESCRIPTION:A road movie documentary following a denim hunter on his journey to find the rarest jeans on earth.
URL:https://www.munichfabricstart.com/en/event/denim-hunter-the-documentary-2/
LOCATION:SEMINAR ZONE | BLUEZONE – Hall 7
CATEGORIES:Movie – Screening
END:VEVENT
END:VCALENDAR