BEGIN:VCALENDAR
VERSION:2.0
PRODID:-//MUNICH FABRIC START - ECPv6.15.12.2//NONSGML v1.0//EN
CALSCALE:GREGORIAN
METHOD:PUBLISH
X-WR-CALNAME:MUNICH FABRIC START
X-ORIGINAL-URL:https://www.munichfabricstart.com/en/
X-WR-CALDESC:Events for MUNICH FABRIC START
REFRESH-INTERVAL;VALUE=DURATION:PT1H
X-Robots-Tag:noindex
X-PUBLISHED-TTL:PT1H
BEGIN:VTIMEZONE
TZID:Europe/Berlin
BEGIN:DAYLIGHT
TZOFFSETFROM:+0100
TZOFFSETTO:+0200
TZNAME:CEST
DTSTART:20220327T010000
END:DAYLIGHT
BEGIN:STANDARD
TZOFFSETFROM:+0200
TZOFFSETTO:+0100
TZNAME:CET
DTSTART:20221030T010000
END:STANDARD
BEGIN:DAYLIGHT
TZOFFSETFROM:+0100
TZOFFSETTO:+0200
TZNAME:CEST
DTSTART:20230326T010000
END:DAYLIGHT
BEGIN:STANDARD
TZOFFSETFROM:+0200
TZOFFSETTO:+0100
TZNAME:CET
DTSTART:20231029T010000
END:STANDARD
BEGIN:DAYLIGHT
TZOFFSETFROM:+0100
TZOFFSETTO:+0200
TZNAME:CEST
DTSTART:20240331T010000
END:DAYLIGHT
BEGIN:STANDARD
TZOFFSETFROM:+0200
TZOFFSETTO:+0100
TZNAME:CET
DTSTART:20241027T010000
END:STANDARD
END:VTIMEZONE
BEGIN:VEVENT
DTSTART;TZID=Europe/Berlin:20230718T163000
DTEND;TZID=Europe/Berlin:20230718T170000
DTSTAMP:20260423T231827
CREATED:20230630T110553Z
LAST-MODIFIED:20230712T134133Z
UID:5689-1689697800-1689699600@www.munichfabricstart.com
SUMMARY:Meet "i-mannequin" – How digitization\, rapid prototyping and parametrization of 3D garment models affect the garment industry
DESCRIPTION:The i-Mannequin project aims at the research\, design and development of a system for digitization\, rapid prototyping and parametrization of 3D garment models affecting the garment industry\, as well as the parametric and rapid clothing of characters in digital creation applications\, where the specialized knowledge of designers is not required. The project i-Mannequin was implemented in the context of the Action RESEARCH – CREATE – INNOVATE and co-financed by the European Union and national resources through the OP. Competitiveness\, Entrepreneurship & Innovation (EPANEK).
URL:https://www.munichfabricstart.com/en/event/meet-i-mannequin-how-digitization-rapid-prototyping-and-parametrization-of-3d-garment-models-affect-the-garment-industry/
LOCATION:TREND LECTURES | Keyhouse – Hall 5
CATEGORIES:Digitisation Panel
END:VEVENT
BEGIN:VEVENT
DTSTART;TZID=Europe/Berlin:20230718T160000
DTEND;TZID=Europe/Berlin:20230718T170000
DTSTAMP:20260423T231827
CREATED:20230705T084948Z
LAST-MODIFIED:20230705T110951Z
UID:5834-1689696000-1689699600@www.munichfabricstart.com
SUMMARY:Women in Denim X Femgaze: The Transformative Role of the Female Gaze in Fashion
DESCRIPTION:Explore the groundbreaking shift occurring in the fashion industry. Traditionally influenced by the male gaze and its limited perspectives\, this seminar highlights the rising power of women’s voices demanding inclusivity and representation. Delving into the impact of social media\, evolving fashion trends\, and inspiring pop culture icons\, we uncover the forces driving change. Through this journey\, brands and companies gain insights on embracing the female gaze\, fostering authenticity\, expanding customer bases\, and reflecting societal changes.
URL:https://www.munichfabricstart.com/en/event/the-transformative-role-of-the-female-gaze-in-fashion/
LOCATION:SEMINAR ZONE | BLUEZONE – Hall 7
CATEGORIES:Trend Presentation
END:VEVENT
BEGIN:VEVENT
DTSTART;TZID=Europe/Berlin:20230718T150000
DTEND;TZID=Europe/Berlin:20230718T163000
DTSTAMP:20260423T231827
CREATED:20230630T173118Z
LAST-MODIFIED:20230704T065633Z
UID:5715-1689692400-1689697800@www.munichfabricstart.com
SUMMARY:Revolutionise or Perish: Exploring the Open Connector\, A Potential Lifeline for the Textile Industry
DESCRIPTION:The fashion industry is transitioning towards a more sustainable model\, and the Open Connector platform is enabling different services and experience providers across the entire value chain to industrialise circular business models. The aim of this workshop is to introduce attendees to the possibilities of this platform and how it can be utilised to create new revenue streams\, offer unique experiences\, and revolutionise physical retail spaces. \nThe workshop will utilise a variety of teaching methods\, including presentations\, interactive activities\, and group discussions. A comprehensive set of workshop materials will be provided\, including slides\, handouts\, and resources for further reading.  \nAGENDA: \n\nIntroduction to provide an overview of the current state of the fashion industry\, the need for a circular business model\, and the role of digital technology. \nThe Open Connector Concept – introduction to how it works and connects different services and providers across the entire value chain.\nDeep Dive into Applications to provide practical examples on how the Open Connector can be used to industrialise circular business models within the textile industry.\nConclusion and Q & A\n\n\nLimited space available – in order to attend\, please pre-register via email to: cm@munichfabricstart.com\n\nThe participation is free of charge!
URL:https://www.munichfabricstart.com/en/event/revolutionise-or-perish-exploring-the-open-connector-a-potential-lifeline-for-the-textile-industry/
LOCATION:TREND LECTURES | Keyhouse – Hall 5
CATEGORIES:Workshop
END:VEVENT
BEGIN:VEVENT
DTSTART;TZID=Europe/Berlin:20230718T150000
DTEND;TZID=Europe/Berlin:20230718T160000
DTSTAMP:20260423T231827
CREATED:20230531T125440Z
LAST-MODIFIED:20230626T110400Z
UID:5371-1689692400-1689696000@www.munichfabricstart.com
SUMMARY:A Supplier’s Guide to Key Sustainability Legislation in the EU\, US\, and UK
DESCRIPTION:The legislative landscape in Europe\, the UK\, and the USA is evolving quickly and is likely to have far-reaching implications for apparel suppliers worldwide. To better understand these legislative initiatives and their consequences for suppliers specifically\, Transformers Foundation came together with Epic Group\, Gore Fabrics\, Norlanka\, Shahi Exports\, Simple Approach\, and GIZ FABRIC to co-commission the Remedy Project to undertake legal analysis of 12 different legislative initiatives. The result is a public resource launching in July. This session will present senior executives within the denim supply chain with key insights and takeaways.
URL:https://www.munichfabricstart.com/en/event/a-suppliers-guide-to-key-sustainability-legislation-in-the-eu-us-and-uk/
LOCATION:SEMINAR ZONE | BLUEZONE – Hall 7
CATEGORIES:Panel Discussion
END:VEVENT
BEGIN:VEVENT
DTSTART;TZID=Europe/Berlin:20230718T140000
DTEND;TZID=Europe/Berlin:20230718T150000
DTSTAMP:20260423T231827
CREATED:20230612T072123Z
LAST-MODIFIED:20230612T073108Z
UID:5460-1689688800-1689692400@www.munichfabricstart.com
SUMMARY:How to support the Circular Economy - 6 loops for application models in the textile supply chain
DESCRIPTION:Application-related opportunities on how and where companies can start in their supply chain to promote circular products and processes. \n(Presentation will be held in German)
URL:https://www.munichfabricstart.com/en/event/foerderung-der-kreislaufwirtschaft-in-6-loops-mit-anwendungsmodellen-in-der-textilen-lieferkette/
LOCATION:TREND LECTURES | Keyhouse – Hall 5
CATEGORIES:Educational Session
END:VEVENT
BEGIN:VEVENT
DTSTART;TZID=Europe/Berlin:20230718T140000
DTEND;TZID=Europe/Berlin:20230718T143000
DTSTAMP:20260423T231827
CREATED:20230627T055657Z
LAST-MODIFIED:20230704T162725Z
UID:5584-1689688800-1689690600@www.munichfabricstart.com
SUMMARY:50 FADES OF RUEDI
DESCRIPTION:
URL:https://www.munichfabricstart.com/en/event/50-fades-of-ruedi/
LOCATION:SEMINAR ZONE | BLUEZONE – Hall 7
CATEGORIES:Denim Talk
END:VEVENT
BEGIN:VEVENT
DTSTART;TZID=Europe/Berlin:20230718T130000
DTEND;TZID=Europe/Berlin:20230718T140000
DTSTAMP:20260423T231827
CREATED:20230627T160034Z
LAST-MODIFIED:20230627T160034Z
UID:5610-1689685200-1689688800@www.munichfabricstart.com
SUMMARY:How To Trace From Seed To Fabric – A Success Story from Tejidos Royo\, Tailorlux and Retexcycle
DESCRIPTION:Physical and digital traceability of GMO free Spanish cotton for Tejidos Royo
URL:https://www.munichfabricstart.com/en/event/how-to-trace-from-seed-to-fabric-a-success-story-from-tejidos-royo-tailorlux-and-retexcycle/
LOCATION:TREND LECTURES | Keyhouse – Hall 5
CATEGORIES:Innovation Panel
END:VEVENT
BEGIN:VEVENT
DTSTART;TZID=Europe/Berlin:20230718T120000
DTEND;TZID=Europe/Berlin:20230718T130000
DTSTAMP:20260423T231827
CREATED:20230621T075329Z
LAST-MODIFIED:20230621T075329Z
UID:5529-1689681600-1689685200@www.munichfabricstart.com
SUMMARY:WOMEN´S FASHION TRENDS FW 24-25 – KREATIVITÄT & NACHHALTIGKEIT
DESCRIPTION:Unser Anliegen mehr Nachhaltigkeit in allen Bereichen der Mode zu etablieren\, prägt die Saison FW 24-25. Wir stellen im Rahmen unserer Trendthemen verschiedene Konzepte vor\, die eine gelungene Umsetzung nachhaltiger Prinzipien zeigen. Der Wandel von Werten im Umgang mit Geschlechter-Identität\, „Körperidealen“ und Verantwortung für unseren Planeten ist in allen Themen sichtbar. Mit selbstbewusster Kreativität begegnen wir den Herausforderungen der Zeit!
URL:https://www.munichfabricstart.com/en/event/womens-fashion-trends-fw-24-25-kreativitaet-nachhaltigkeit/
LOCATION:TREND LECTURES | Keyhouse – Hall 5
CATEGORIES:Trend Presentation
END:VEVENT
BEGIN:VEVENT
DTSTART;TZID=Europe/Berlin:20230718T113000
DTEND;TZID=Europe/Berlin:20230718T130000
DTSTAMP:20260423T231827
CREATED:20230628T134239Z
LAST-MODIFIED:20230718T083957Z
UID:5633-1689679800-1689685200@www.munichfabricstart.com
SUMMARY:NEWTOPIA – Reconstructing The Jeans of The Future From Scratch
DESCRIPTION:The Denim industry has done a lot on sustainability lately. If there’s still something missing this would be a full scale practice to create the methodology that describes how today’s Denim can be produced as good as it gets. Join this panel to learn from the expertise of our guests who will explain how things need to perform in order to reach the final scope: the most responsible denim on earth.
URL:https://www.munichfabricstart.com/en/event/newtopia-reconstructing-from-scratch-the-jeans-of-the-future/
LOCATION:SEMINAR ZONE | BLUEZONE – Hall 7
CATEGORIES:Innovation Panel
END:VEVENT
BEGIN:VEVENT
DTSTART;TZID=Europe/Berlin:20230718T113000
DTEND;TZID=Europe/Berlin:20230718T120000
DTSTAMP:20260423T231827
CREATED:20230619T082623Z
LAST-MODIFIED:20230620T093859Z
UID:5509-1689679800-1689681600@www.munichfabricstart.com
SUMMARY:THE TEXTILE INDUSTRY: WHAT TO EXPECT IN THE NEXT FIVE YEARS
DESCRIPTION:Exploring Key Trends and Transformations in the Textile Industry – In a world where change is the only constant\, how will the textile industry transform in the next five years? This insightful lecture will take you on a journey into the future\, exploring emerging trends\, breakthrough technologies\, and vital shifts in consumer behaviour that will redefine the textile industry. Be ready to discover how sustainability\, digitalization\, and innovative materials will shape the industry’s path\, paving the way for a new era of textiles.
URL:https://www.munichfabricstart.com/en/event/the-textile-industry-what-to-expect-in-the-next-five-years/
LOCATION:TREND LECTURES | Keyhouse – Hall 5
CATEGORIES:Mini Lecture
END:VEVENT
BEGIN:VEVENT
DTSTART;TZID=Europe/Berlin:20230718T110000
DTEND;TZID=Europe/Berlin:20230718T113000
DTSTAMP:20260423T231827
CREATED:20230704T102609Z
LAST-MODIFIED:20230704T102609Z
UID:5789-1689678000-1689679800@www.munichfabricstart.com
SUMMARY:DENIM SENSES by AMD – Akademie Mode & Design\, Fachbereich Design der Hochschule Fresenius
DESCRIPTION:We are born with 5 senses. They accompany us for a lifetime. Let us feel\, taste\, hear our environment\, smell and see what surrounds us. How do they inspire trends? The students from the AMD Akademie Mode & Design Düsseldorf will give you an insight on how they translated senses into their presentation and which upcoming trends inspired them.
URL:https://www.munichfabricstart.com/en/event/denim-senses-by-amd-akademie-mode-design-fachbereich-design-der-hochschule-fresenius/
LOCATION:SEMINAR ZONE | BLUEZONE – Hall 7
CATEGORIES:Trend Presentation
END:VEVENT
BEGIN:VEVENT
DTSTART;TZID=Europe/Berlin:20230718T110000
DTEND;TZID=Europe/Berlin:20230718T113000
DTSTAMP:20260423T231827
CREATED:20230630T170622Z
LAST-MODIFIED:20230630T170622Z
UID:5705-1689678000-1689679800@www.munichfabricstart.com
SUMMARY:Pioneering 3D Design and Digital Fabrics to unleash creativity and accelerate your Design Process
DESCRIPTION:Explore the Future of 3D Fashion Today with us! The world is currently undergoing a digital revolution\, and the fashion industry is an integral part of this transformation process. At CLO\, we emphasize the importance of innovation in all areas of product development\, such as digital assets. In this presentation\,\nwe want to show how the fashion industry and its various stakeholders are joining us in driving innovation. We want to show that our transition to 3D fashion design technology is just the first step in fostering more creativity\, innovation and collaboration in the field.
URL:https://www.munichfabricstart.com/en/event/pioneering-3d-design-and-digital-fabrics-to-unleash-creativity-and-accelerate-your-design-process/
LOCATION:TREND LECTURES | Keyhouse – Hall 5
CATEGORIES:Innovation Talk
END:VEVENT
BEGIN:VEVENT
DTSTART;TZID=Europe/Berlin:20230718T103000
DTEND;TZID=Europe/Berlin:20230718T110000
DTSTAMP:20260423T231827
CREATED:20230626T163031Z
LAST-MODIFIED:20230628T081355Z
UID:5574-1689676200-1689678000@www.munichfabricstart.com
SUMMARY:Regenerative Hemp in Textile Use
DESCRIPTION:Redefining Sustainability in the Textile Industry with Regenerative Farming Methods for High-Quality Hemp Textiles
URL:https://www.munichfabricstart.com/en/event/regenerative-hemp-in-textile-use/
LOCATION:TREND LECTURES | Keyhouse – Hall 5
CATEGORIES:Future Fabrics
END:VEVENT
BEGIN:VEVENT
DTSTART;TZID=Europe/Berlin:20230718T103000
DTEND;TZID=Europe/Berlin:20230718T110000
DTSTAMP:20260423T231827
CREATED:20230622T152707Z
LAST-MODIFIED:20230622T152707Z
UID:5553-1689676200-1689678000@www.munichfabricstart.com
SUMMARY:DENIM TRENDS & CORES of BLUEZONE
DESCRIPTION:Diving into lasting DENIM key-trends: Explore the thoughts behind BLUEZONE’s 10 trendspots.
URL:https://www.munichfabricstart.com/en/event/denim-trends-cores-of-bluezone/
LOCATION:SEMINAR ZONE | BLUEZONE – Hall 7
CATEGORIES:Trend Presentation
END:VEVENT
BEGIN:VEVENT
DTSTART;TZID=Europe/Berlin:20230125T170000
DTEND;TZID=Europe/Berlin:20230125T183000
DTSTAMP:20260423T231827
CREATED:20220803T094832Z
LAST-MODIFIED:20230116T081004Z
UID:3030-1674666000-1674671400@www.munichfabricstart.com
SUMMARY:A Vibe shift is coming - Get ready for spring/summer 2024
DESCRIPTION:Often\, fashion trends are merely new variations on already familiar themes over many seasons. But then at some point there is suddenly a fundamental break\, a completely new attitude to life\, a completely different basic mood\, a “vibe shift”. We are at such a turning point now. The 20s are taking shape and it is becoming clear: the Lifestyle of Health and Sustainability that has dominated the last two decades has reached its end. Find out what this means for fashion and what follows L.O.H.A.S. at the trend presentation by DMI analysts. \n (This lecture will be held in German)
URL:https://www.munichfabricstart.com/en/event/should-we-slow-down-or-speed-up-an-introduction-to-a-w-23-24/
LOCATION:Room K1 in front of Hall 1 | MOC
CATEGORIES:Trend Presentation
END:VEVENT
BEGIN:VEVENT
DTSTART;TZID=Europe/Berlin:20230125T170000
DTEND;TZID=Europe/Berlin:20230125T180000
DTSTAMP:20260423T231827
CREATED:20230111T093251Z
LAST-MODIFIED:20230111T093251Z
UID:4332-1674666000-1674669600@www.munichfabricstart.com
SUMMARY:Key Conversation about Future-oriented Sustainable Material Developments
DESCRIPTION:Join Simon Angel and Nicole Espey for an inspirational talk with material experts about future-proof material solutions that will add value to a sustainable and circular industry.
URL:https://www.munichfabricstart.com/en/event/key-conversation-about-future-oriented-sustainable-material-developments/
LOCATION:TREND LECTURES | Keyhouse – Hall 5
CATEGORIES:Future Fabrics
END:VEVENT
BEGIN:VEVENT
DTSTART;TZID=Europe/Berlin:20230125T160000
DTEND;TZID=Europe/Berlin:20230125T170000
DTSTAMP:20260423T231827
CREATED:20230116T142735Z
LAST-MODIFIED:20230116T142735Z
UID:4608-1674662400-1674666000@www.munichfabricstart.com
SUMMARY:Status of Greenwashing in the Industry – Brands\, Retailers\, Supply Chain
DESCRIPTION:
URL:https://www.munichfabricstart.com/en/event/status-of-greenwashing-in-the-industry-brands-retailers-supply-chain/
LOCATION:SEMINAR ZONE | BLUEZONE – Hall 7
CATEGORIES:Educational Talk
END:VEVENT
BEGIN:VEVENT
DTSTART;TZID=Europe/Berlin:20230125T160000
DTEND;TZID=Europe/Berlin:20230125T170000
DTSTAMP:20260423T231827
CREATED:20230104T093429Z
LAST-MODIFIED:20230104T093429Z
UID:4173-1674662400-1674666000@www.munichfabricstart.com
SUMMARY:Empowering sustainable textiles via circularity and bio-based materials
DESCRIPTION:Centexbel will be presenting insights of 2 European projects: HEREWEAR (www.herewear.eu) and CISUTAC (www.cisutac.eu). HEREWEAR aims at the creation of a European ecosystem for locally produced textiles and clothing made from bio-based resources. CISUTAC wants to increase textile circularity in Europe by developing new technologies for sorting and recycling\, and by influencing sectorial and customers behaviours.
URL:https://www.munichfabricstart.com/en/event/empowering-sustainable-textiles-via-circularity-and-bio-based-materials/
LOCATION:TREND LECTURES | Keyhouse – Hall 5
CATEGORIES:Keynote
END:VEVENT
BEGIN:VEVENT
DTSTART;TZID=Europe/Berlin:20230125T150000
DTEND;TZID=Europe/Berlin:20230125T160000
DTSTAMP:20260423T231827
CREATED:20230109T153018Z
LAST-MODIFIED:20230123T173244Z
UID:4305-1674658800-1674662400@www.munichfabricstart.com
SUMMARY:Transformers Foundation - Fiber Technology
DESCRIPTION:Innovation and the power of collaboration
URL:https://www.munichfabricstart.com/en/event/transformers-foundation-fiber-technology/
LOCATION:SEMINAR ZONE | BLUEZONE – Hall 7
CATEGORIES:Panel Discussion
END:VEVENT
BEGIN:VEVENT
DTSTART;TZID=Europe/Berlin:20230125T150000
DTEND;TZID=Europe/Berlin:20230125T160000
DTSTAMP:20260423T231827
CREATED:20221219T135704Z
LAST-MODIFIED:20230116T080642Z
UID:3920-1674658800-1674662400@www.munichfabricstart.com
SUMMARY:Future Materials: The Race for New Textiles
DESCRIPTION:Textiles are getting a sustainability makeover thanks to recycled textiles\, regeneratively farmed cotton and mushroom-based leather\, but are these materials worth the investment and long-term commitments required to scale.
URL:https://www.munichfabricstart.com/en/event/future-materials-the-race-for-new-textiles/
LOCATION:TREND LECTURES | Keyhouse – Hall 5
CATEGORIES:Innovation Panel
END:VEVENT
BEGIN:VEVENT
DTSTART;TZID=Europe/Berlin:20230125T140000
DTEND;TZID=Europe/Berlin:20230125T150000
DTSTAMP:20260423T231827
CREATED:20230116T145553Z
LAST-MODIFIED:20230116T145553Z
UID:4631-1674655200-1674658800@www.munichfabricstart.com
SUMMARY:Thought & Insight about Raw Denim & The Future of Raw Denim
DESCRIPTION:
URL:https://www.munichfabricstart.com/en/event/thought-insight-about-raw-denim-the-future-of-raw-denim/
LOCATION:SEMINAR ZONE | BLUEZONE – Hall 7
CATEGORIES:Denim Talk
END:VEVENT
BEGIN:VEVENT
DTSTART;TZID=Europe/Berlin:20230125T140000
DTEND;TZID=Europe/Berlin:20230125T150000
DTSTAMP:20260423T231827
CREATED:20230104T154721Z
LAST-MODIFIED:20230117T152501Z
UID:4212-1674655200-1674658800@www.munichfabricstart.com
SUMMARY:TW Talk powered by ISKO: Can circular fashion change fashion behavior?
DESCRIPTION:At the light of the upcoming EU legislation\, past experiences\, new processes and business models\, experts and industry insiders discuss about what needs to change for the future of fashion and of the planet.
URL:https://www.munichfabricstart.com/en/event/tw-talk-powered-by-isko-is-circularity-the-future/
LOCATION:TREND LECTURES | Keyhouse – Hall 5
CATEGORIES:Educational Talk
END:VEVENT
BEGIN:VEVENT
DTSTART;TZID=Europe/Berlin:20230125T133000
DTEND;TZID=Europe/Berlin:20230125T140000
DTSTAMP:20260423T231827
CREATED:20230104T055508Z
LAST-MODIFIED:20230104T055508Z
UID:4169-1674653400-1674655200@www.munichfabricstart.com
SUMMARY:Fabric: Digital Twin in Virtual Reality
DESCRIPTION:(in English)
URL:https://www.munichfabricstart.com/en/event/fabric-digital-twin-in-virtual-reality/
LOCATION:Assyst Experience – Hall 2 | C 14
CATEGORIES:Keynote
END:VEVENT
BEGIN:VEVENT
DTSTART;TZID=Europe/Berlin:20230125T130000
DTEND;TZID=Europe/Berlin:20230125T140000
DTSTAMP:20260423T231827
CREATED:20230116T143334Z
LAST-MODIFIED:20230116T143429Z
UID:4613-1674651600-1674655200@www.munichfabricstart.com
SUMMARY:New Products for a Sustainable Future in the Denim Industry
DESCRIPTION:
URL:https://www.munichfabricstart.com/en/event/new-products-for-a-sustainable-future-in-the-denim-industry/
LOCATION:SEMINAR ZONE | BLUEZONE – Hall 7
CATEGORIES:Future Fabrics
END:VEVENT
BEGIN:VEVENT
DTSTART;TZID=Europe/Berlin:20230125T130000
DTEND;TZID=Europe/Berlin:20230125T133000
DTSTAMP:20260423T231827
CREATED:20230116T133633Z
LAST-MODIFIED:20230120T131108Z
UID:4565-1674651600-1674653400@www.munichfabricstart.com
SUMMARY:Digitize your entire knitwear design process
DESCRIPTION:
URL:https://www.munichfabricstart.com/en/event/intelligent-knitwear-first-time-right/
LOCATION:Assyst Experience – Hall 2 | C 14
END:VEVENT
BEGIN:VEVENT
DTSTART;TZID=Europe/Berlin:20230125T123000
DTEND;TZID=Europe/Berlin:20230125T140000
DTSTAMP:20260423T231827
CREATED:20221219T151409Z
LAST-MODIFIED:20221219T151409Z
UID:3924-1674649800-1674655200@www.munichfabricstart.com
SUMMARY:SELF-EMPOWERMENT
DESCRIPTION:Conflict\, inflation\, recession\, energy crisis\, massive inequality\, climate change… Who’s dealing with all this? Certainly not the politicians\, bankers\, economists\, and institutions that are meant to run our world! Hardly surprising\, then\, that no one trusts or believes them anymore! Better to empower ourselves\, to take charge of our own destinies and well-being in terms of BODY…MIND…HERITAGE…FAMILY…COMMUNITY…IDENTITY…SELF- EXPRESSION…SURVIVAL…AND THE METAVERSE. David Shah unravels the design elements involved in giving consumers the physical and psychological boost they need to engage the future.
URL:https://www.munichfabricstart.com/en/event/self-empowerment/
LOCATION:TREND LECTURES | Keyhouse – Hall 5
CATEGORIES:Keynote
END:VEVENT
BEGIN:VEVENT
DTSTART;TZID=Europe/Berlin:20230125T123000
DTEND;TZID=Europe/Berlin:20230125T130000
DTSTAMP:20260423T231827
CREATED:20230116T120118Z
LAST-MODIFIED:20230120T131254Z
UID:4555-1674649800-1674651600@www.munichfabricstart.com
SUMMARY:Color Management in the Supply Chain
DESCRIPTION:
URL:https://www.munichfabricstart.com/en/event/color-management-in-the-supply-chain/
LOCATION:Assyst Experience – Hall 2 | C 14
CATEGORIES:Keynote
END:VEVENT
BEGIN:VEVENT
DTSTART;TZID=Europe/Berlin:20230125T123000
DTEND;TZID=Europe/Berlin:20230125T130000
DTSTAMP:20260423T231827
CREATED:20230116T083654Z
LAST-MODIFIED:20230116T092148Z
UID:4487-1674649800-1674651600@www.munichfabricstart.com
SUMMARY:Sustainable Cotton Projects – Learn More About Bossa's Organic\, Traceable BCI & Regenerative Cotton Projects
DESCRIPTION:
URL:https://www.munichfabricstart.com/en/event/sustainable-cotton-projects-learn-more-about-bossas-organic-traceable-bci-regenerative-cotton-projects/
LOCATION:SEMINAR ZONE | BLUEZONE – Hall 7
CATEGORIES:Presentation
END:VEVENT
BEGIN:VEVENT
DTSTART;TZID=Europe/Berlin:20230125T120000
DTEND;TZID=Europe/Berlin:20230125T123000
DTSTAMP:20260423T231827
CREATED:20230111T160532Z
LAST-MODIFIED:20230113T164357Z
UID:4353-1674648000-1674649800@www.munichfabricstart.com
SUMMARY:JOINING FORCE/S
DESCRIPTION:How trade shows are a connecting force within the inspiring relationship between the ( Denim-) Industry and Universities. There is a great shift happening today with a new wave of Generation Z members entering the workplace.
URL:https://www.munichfabricstart.com/en/event/joining-force-s/
LOCATION:SEMINAR ZONE | BLUEZONE – Hall 7
CATEGORIES:Presentation
END:VEVENT
BEGIN:VEVENT
DTSTART;TZID=Europe/Berlin:20230125T120000
DTEND;TZID=Europe/Berlin:20230125T123000
DTSTAMP:20260423T231827
CREATED:20230104T111626Z
LAST-MODIFIED:20230104T112124Z
UID:4183-1674648000-1674649800@www.munichfabricstart.com
SUMMARY:Details that count - How sustainable trends are transforming trims and packaging
DESCRIPTION:A must-have in every brand’s strategy\, sustainability should be considered across all areas of the garment – no matter how small. As permanent or temporary elements of a product\, trims and packaging are a priority in terms of material and waste management and as potential communication channels. Learnings and forecasts on trends and requirements for trims and packaging in an industry that aims toward a circular future.
URL:https://www.munichfabricstart.com/en/event/details-that-count-how-sustainable-trends-are-transforming-trims-and-packaging/
LOCATION:TREND LECTURES | Keyhouse – Hall 5
CATEGORIES:Educational Talk
END:VEVENT
END:VCALENDAR