BEGIN:VCALENDAR
VERSION:2.0
PRODID:-//MUNICH FABRIC START - ECPv6.15.12.2//NONSGML v1.0//EN
CALSCALE:GREGORIAN
METHOD:PUBLISH
X-WR-CALNAME:MUNICH FABRIC START
X-ORIGINAL-URL:https://www.munichfabricstart.com/en/
X-WR-CALDESC:Events for MUNICH FABRIC START
REFRESH-INTERVAL;VALUE=DURATION:PT1H
X-Robots-Tag:noindex
X-PUBLISHED-TTL:PT1H
BEGIN:VTIMEZONE
TZID:Europe/Berlin
BEGIN:DAYLIGHT
TZOFFSETFROM:+0100
TZOFFSETTO:+0200
TZNAME:CEST
DTSTART:20220327T010000
END:DAYLIGHT
BEGIN:STANDARD
TZOFFSETFROM:+0200
TZOFFSETTO:+0100
TZNAME:CET
DTSTART:20221030T010000
END:STANDARD
BEGIN:DAYLIGHT
TZOFFSETFROM:+0100
TZOFFSETTO:+0200
TZNAME:CEST
DTSTART:20230326T010000
END:DAYLIGHT
BEGIN:STANDARD
TZOFFSETFROM:+0200
TZOFFSETTO:+0100
TZNAME:CET
DTSTART:20231029T010000
END:STANDARD
BEGIN:DAYLIGHT
TZOFFSETFROM:+0100
TZOFFSETTO:+0200
TZNAME:CEST
DTSTART:20240331T010000
END:DAYLIGHT
BEGIN:STANDARD
TZOFFSETFROM:+0200
TZOFFSETTO:+0100
TZNAME:CET
DTSTART:20241027T010000
END:STANDARD
END:VTIMEZONE
BEGIN:VEVENT
DTSTART;TZID=Europe/Berlin:20230125T130000
DTEND;TZID=Europe/Berlin:20230125T133000
DTSTAMP:20260424T015503
CREATED:20230116T133633Z
LAST-MODIFIED:20230120T131108Z
UID:4565-1674651600-1674653400@www.munichfabricstart.com
SUMMARY:Digitize your entire knitwear design process
DESCRIPTION:
URL:https://www.munichfabricstart.com/en/event/intelligent-knitwear-first-time-right/
LOCATION:Assyst Experience – Hall 2 | C 14
END:VEVENT
BEGIN:VEVENT
DTSTART;TZID=Europe/Berlin:20230125T123000
DTEND;TZID=Europe/Berlin:20230125T140000
DTSTAMP:20260424T015503
CREATED:20221219T151409Z
LAST-MODIFIED:20221219T151409Z
UID:3924-1674649800-1674655200@www.munichfabricstart.com
SUMMARY:SELF-EMPOWERMENT
DESCRIPTION:Conflict\, inflation\, recession\, energy crisis\, massive inequality\, climate change… Who’s dealing with all this? Certainly not the politicians\, bankers\, economists\, and institutions that are meant to run our world! Hardly surprising\, then\, that no one trusts or believes them anymore! Better to empower ourselves\, to take charge of our own destinies and well-being in terms of BODY…MIND…HERITAGE…FAMILY…COMMUNITY…IDENTITY…SELF- EXPRESSION…SURVIVAL…AND THE METAVERSE. David Shah unravels the design elements involved in giving consumers the physical and psychological boost they need to engage the future.
URL:https://www.munichfabricstart.com/en/event/self-empowerment/
LOCATION:TREND LECTURES | Keyhouse – Hall 5
CATEGORIES:Keynote
END:VEVENT
BEGIN:VEVENT
DTSTART;TZID=Europe/Berlin:20230125T123000
DTEND;TZID=Europe/Berlin:20230125T130000
DTSTAMP:20260424T015503
CREATED:20230116T120118Z
LAST-MODIFIED:20230120T131254Z
UID:4555-1674649800-1674651600@www.munichfabricstart.com
SUMMARY:Color Management in the Supply Chain
DESCRIPTION:
URL:https://www.munichfabricstart.com/en/event/color-management-in-the-supply-chain/
LOCATION:Assyst Experience – Hall 2 | C 14
CATEGORIES:Keynote
END:VEVENT
BEGIN:VEVENT
DTSTART;TZID=Europe/Berlin:20230125T123000
DTEND;TZID=Europe/Berlin:20230125T130000
DTSTAMP:20260424T015503
CREATED:20230116T083654Z
LAST-MODIFIED:20230116T092148Z
UID:4487-1674649800-1674651600@www.munichfabricstart.com
SUMMARY:Sustainable Cotton Projects – Learn More About Bossa's Organic\, Traceable BCI & Regenerative Cotton Projects
DESCRIPTION:
URL:https://www.munichfabricstart.com/en/event/sustainable-cotton-projects-learn-more-about-bossas-organic-traceable-bci-regenerative-cotton-projects/
LOCATION:SEMINAR ZONE | BLUEZONE – Hall 7
CATEGORIES:Presentation
END:VEVENT
BEGIN:VEVENT
DTSTART;TZID=Europe/Berlin:20230125T120000
DTEND;TZID=Europe/Berlin:20230125T123000
DTSTAMP:20260424T015503
CREATED:20230111T160532Z
LAST-MODIFIED:20230113T164357Z
UID:4353-1674648000-1674649800@www.munichfabricstart.com
SUMMARY:JOINING FORCE/S
DESCRIPTION:How trade shows are a connecting force within the inspiring relationship between the ( Denim-) Industry and Universities. There is a great shift happening today with a new wave of Generation Z members entering the workplace.
URL:https://www.munichfabricstart.com/en/event/joining-force-s/
LOCATION:SEMINAR ZONE | BLUEZONE – Hall 7
CATEGORIES:Presentation
END:VEVENT
BEGIN:VEVENT
DTSTART;TZID=Europe/Berlin:20230125T120000
DTEND;TZID=Europe/Berlin:20230125T123000
DTSTAMP:20260424T015503
CREATED:20230104T111626Z
LAST-MODIFIED:20230104T112124Z
UID:4183-1674648000-1674649800@www.munichfabricstart.com
SUMMARY:Details that count - How sustainable trends are transforming trims and packaging
DESCRIPTION:A must-have in every brand’s strategy\, sustainability should be considered across all areas of the garment – no matter how small. As permanent or temporary elements of a product\, trims and packaging are a priority in terms of material and waste management and as potential communication channels. Learnings and forecasts on trends and requirements for trims and packaging in an industry that aims toward a circular future.
URL:https://www.munichfabricstart.com/en/event/details-that-count-how-sustainable-trends-are-transforming-trims-and-packaging/
LOCATION:TREND LECTURES | Keyhouse – Hall 5
CATEGORIES:Educational Talk
END:VEVENT
BEGIN:VEVENT
DTSTART;TZID=Europe/Berlin:20230125T120000
DTEND;TZID=Europe/Berlin:20230125T123000
DTSTAMP:20260424T015503
CREATED:20230104T055043Z
LAST-MODIFIED:20230104T055043Z
UID:4159-1674648000-1674649800@www.munichfabricstart.com
SUMMARY:Circular eco systems
DESCRIPTION:
URL:https://www.munichfabricstart.com/en/event/circular-eco-systems/
LOCATION:Assyst Experience – Hall 2 | C 14
CATEGORIES:Keynote
END:VEVENT
BEGIN:VEVENT
DTSTART;TZID=Europe/Berlin:20230125T113000
DTEND;TZID=Europe/Berlin:20230125T120000
DTSTAMP:20260424T015503
CREATED:20230116T102525Z
LAST-MODIFIED:20230116T102525Z
UID:4506-1674646200-1674648000@www.munichfabricstart.com
SUMMARY:One Company – One World of Solutions – Style3D and Assyst
DESCRIPTION:
URL:https://www.munichfabricstart.com/en/event/one-company-one-world-of-solutions-style3d-and-assyst-2/
LOCATION:Assyst Experience – Hall 2 | C 14
CATEGORIES:Keynote
END:VEVENT
BEGIN:VEVENT
DTSTART;TZID=Europe/Berlin:20230125T113000
DTEND;TZID=Europe/Berlin:20230125T120000
DTSTAMP:20260424T015503
CREATED:20230116T084508Z
LAST-MODIFIED:20230116T084508Z
UID:4490-1674646200-1674648000@www.munichfabricstart.com
SUMMARY:DISCOVERY – BLUEZONE Denim Trends
DESCRIPTION:Inspirational Denim Direction and Denim-consumer Insights
URL:https://www.munichfabricstart.com/en/event/discovery-bluezone-denim-trends/
LOCATION:SEMINAR ZONE | BLUEZONE – Hall 7
CATEGORIES:Trend Presentation
END:VEVENT
BEGIN:VEVENT
DTSTART;TZID=Europe/Berlin:20230125T113000
DTEND;TZID=Europe/Berlin:20230125T120000
DTSTAMP:20260424T015503
CREATED:20221219T193527Z
LAST-MODIFIED:20221221T141643Z
UID:4010-1674646200-1674648000@www.munichfabricstart.com
SUMMARY:Textile Innovations: What To Expect in 2023
DESCRIPTION:Driven by a shift in values\, the global textile industry\, in 2023\, will likely keep sustainability and circularity goals at the top of its agenda. As companies strategically sharpen their approach to the innovative dynamics driving the textile industry in 2023\, is your business equipped to accelerate and scale game-changing innovations that will address most of the pain points in the supply chain? Let’s talk about it.
URL:https://www.munichfabricstart.com/en/event/textile-innovations-what-to-expect-in-2023/
LOCATION:TREND LECTURES | Keyhouse – Hall 5
CATEGORIES:Mini Lecture
END:VEVENT
BEGIN:VEVENT
DTSTART;TZID=Europe/Berlin:20230125T110000
DTEND;TZID=Europe/Berlin:20230125T113000
DTSTAMP:20260424T015503
CREATED:20230112T175307Z
LAST-MODIFIED:20230112T175307Z
UID:4459-1674644400-1674646200@www.munichfabricstart.com
SUMMARY:Revolutionize your design process with true-to-life 3D garment simulation.
DESCRIPTION:Get faster\, increase accuracy\, shorten your calendar and expand your design. We create cutting-edge 3D garment visualization technologies that cultivate a more creative and sustainable landscape for the fashion industry. CLO’s robust Simulation engine allows you to create styles with countless layers and intricate details\, which consistently solve glaring obstacles in your product life cycle. With multiple successful enterprise-wide adoptions\, we provide the best-in-class solutions for brands and vendors of all sizes.
URL:https://www.munichfabricstart.com/en/event/revolutionize-your-design-process-with-true-to-life-3d-garment-simulation/
LOCATION:TREND LECTURES | Keyhouse – Hall 5
CATEGORIES:Presentation
END:VEVENT
BEGIN:VEVENT
DTSTART;TZID=Europe/Berlin:20230125T110000
DTEND;TZID=Europe/Berlin:20230125T113000
DTSTAMP:20260424T015503
CREATED:20230104T054442Z
LAST-MODIFIED:20230116T115732Z
UID:4149-1674644400-1674646200@www.munichfabricstart.com
SUMMARY:3D2Real – How digital do we have to become and how physical should we stay?
DESCRIPTION:
URL:https://www.munichfabricstart.com/en/event/3d2real-how-digital-do-we-have-to-become-and-how-physical-should-we-stay/
LOCATION:Assyst Experience – Hall 2 | C 14
CATEGORIES:Keynote
END:VEVENT
BEGIN:VEVENT
DTSTART;TZID=Europe/Berlin:20230125T104500
DTEND;TZID=Europe/Berlin:20230125T110000
DTSTAMP:20260424T015503
CREATED:20230116T134522Z
LAST-MODIFIED:20230116T134522Z
UID:4587-1674643500-1674644400@www.munichfabricstart.com
SUMMARY:ASSYST EXPERIENCE – Opening & Vision
DESCRIPTION:
URL:https://www.munichfabricstart.com/en/event/assyst-experience-opening-vision-2/
LOCATION:Assyst Experience – Hall 2 | C 14
CATEGORIES:Opening
END:VEVENT
BEGIN:VEVENT
DTSTART;TZID=Europe/Berlin:20230124T183000
DTEND;TZID=Europe/Berlin:20230124T191500
DTSTAMP:20260424T015503
CREATED:20221219T192651Z
LAST-MODIFIED:20230113T192148Z
UID:4004-1674585000-1674587700@www.munichfabricstart.com
SUMMARY:Circular Economy: The Solution to Everything or just a placebo?
DESCRIPTION:Everyone seems to talk about Circular Economy as the key to a more sustainable fashion business. Reading headlines and marketing claims one could believe that the industry is already fully circular. Circular Economy: a reality check.
URL:https://www.munichfabricstart.com/en/event/circular-economy-the-solution-to-everything-or-just-a-placebo/
LOCATION:TREND LECTURES | Keyhouse – Hall 5
CATEGORIES:Critical Disclosure
END:VEVENT
BEGIN:VEVENT
DTSTART;TZID=Europe/Berlin:20230124T183000
DTEND;TZID=Europe/Berlin:20230124T190000
DTSTAMP:20260424T015503
CREATED:20230109T144229Z
LAST-MODIFIED:20230109T153857Z
UID:4276-1674585000-1674586800@www.munichfabricstart.com
SUMMARY:Women in Denim presents THE BOOMBOX MUSIC QUIZZ
DESCRIPTION:What a better way to connect while having fun and drinks all together? THE WOMEN IN DENIM invite you to end our fruitful working day with the most unexpected music quizz you’ve ever participated to. Wear your best bling bling outfit and join us for a pure moment of fun.
URL:https://www.munichfabricstart.com/en/event/women-in-denim-music-quizz/
LOCATION:SEMINAR ZONE | BLUEZONE – Hall 7
CATEGORIES:Quiz
END:VEVENT
BEGIN:VEVENT
DTSTART;TZID=Europe/Berlin:20230124T180000
DTEND;TZID=Europe/Berlin:20230124T190000
DTSTAMP:20260424T015503
CREATED:20230105T154836Z
LAST-MODIFIED:20230105T154836Z
UID:4239-1674583200-1674586800@www.munichfabricstart.com
SUMMARY:Denim and the Renegade: Selling Rebel Style
DESCRIPTION:How to Drive Sales by Speaking to Subcultures
URL:https://www.munichfabricstart.com/en/event/denim-and-the-renegade-selling-rebel-style/
LOCATION:SEMINAR ZONE | BLUEZONE – Hall 7
CATEGORIES:Presentation
END:VEVENT
BEGIN:VEVENT
DTSTART;TZID=Europe/Berlin:20230124T180000
DTEND;TZID=Europe/Berlin:20230124T183000
DTSTAMP:20260424T015503
CREATED:20230104T130125Z
LAST-MODIFIED:20230113T190831Z
UID:4203-1674583200-1674585000@www.munichfabricstart.com
SUMMARY:Transparency in Fashion
DESCRIPTION:A review of how some of the world’s largest fashion brands & retailers are developing according to their level of public disclosure on their human rights and environmental policies\, practices and impacts
URL:https://www.munichfabricstart.com/en/event/transparency-in-fashion/
LOCATION:TREND LECTURES | Keyhouse – Hall 5
CATEGORIES:Presentation
END:VEVENT
BEGIN:VEVENT
DTSTART;TZID=Europe/Berlin:20230124T171500
DTEND;TZID=Europe/Berlin:20230124T180000
DTSTAMP:20260424T015503
CREATED:20221219T170641Z
LAST-MODIFIED:20230113T190754Z
UID:3976-1674580500-1674583200@www.munichfabricstart.com
SUMMARY:The Status Quo of Fashion - Experts Evaluation
DESCRIPTION:
URL:https://www.munichfabricstart.com/en/event/the-status-quo-of-fashion-experts-evaluation/
LOCATION:TREND LECTURES | Keyhouse – Hall 5
CATEGORIES:Experts Evaluation
END:VEVENT
BEGIN:VEVENT
DTSTART;TZID=Europe/Berlin:20230124T171000
DTEND;TZID=Europe/Berlin:20230124T171500
DTSTAMP:20260424T015503
CREATED:20221219T165733Z
LAST-MODIFIED:20221219T165814Z
UID:3960-1674580200-1674580500@www.munichfabricstart.com
SUMMARY:The Status Quo of Fashion - Welcome
DESCRIPTION:
URL:https://www.munichfabricstart.com/en/event/the-status-quo-of-fashion-welcome/
LOCATION:TREND LECTURES | Keyhouse – Hall 5
CATEGORIES:Welcome
END:VEVENT
BEGIN:VEVENT
DTSTART;TZID=Europe/Berlin:20230124T170000
DTEND;TZID=Europe/Berlin:20230124T193000
DTSTAMP:20260424T015503
CREATED:20221219T163940Z
LAST-MODIFIED:20221219T164141Z
UID:3934-1674579600-1674588600@www.munichfabricstart.com
SUMMARY:The Status Quo of Fashion - How to shape businesses in an economical climate of decline
DESCRIPTION:A series of panel discussions\, expert dialogues and insights about key trends\, measures and opinions of trend experts\, forecasters and leading fashion editors
URL:https://www.munichfabricstart.com/en/event/the-status-quo-of-fashion/
LOCATION:TREND LECTURES | Keyhouse – Hall 5
CATEGORIES:Panel Series
END:VEVENT
BEGIN:VEVENT
DTSTART;TZID=Europe/Berlin:20230124T170000
DTEND;TZID=Europe/Berlin:20230124T171000
DTSTAMP:20260424T015503
CREATED:20221219T164557Z
LAST-MODIFIED:20221219T165837Z
UID:3944-1674579600-1674580200@www.munichfabricstart.com
SUMMARY:The Status Quo of Fashion - Opening
DESCRIPTION:
URL:https://www.munichfabricstart.com/en/event/the-status-quo-of-fashion-opening/
LOCATION:TREND LECTURES | Keyhouse – Hall 5
CATEGORIES:Opening
END:VEVENT
BEGIN:VEVENT
DTSTART;TZID=Europe/Berlin:20230124T163000
DTEND;TZID=Europe/Berlin:20230124T173000
DTSTAMP:20260424T015503
CREATED:20230109T151255Z
LAST-MODIFIED:20230123T160453Z
UID:4278-1674577800-1674581400@www.munichfabricstart.com
SUMMARY:FIBEROLOGY - European market advancements in preferred fibres
DESCRIPTION:
URL:https://www.munichfabricstart.com/en/event/material-matters-european-market-advancements-in-preferred-fibres/
LOCATION:SEMINAR ZONE | BLUEZONE – Hall 7
CATEGORIES:Panel Discussion
END:VEVENT
BEGIN:VEVENT
DTSTART;TZID=Europe/Berlin:20230124T160000
DTEND;TZID=Europe/Berlin:20230124T170000
DTSTAMP:20260424T015503
CREATED:20221219T153751Z
LAST-MODIFIED:20221219T153751Z
UID:3930-1674576000-1674579600@www.munichfabricstart.com
SUMMARY:In Conversation with Lisa Lang
DESCRIPTION:The importance of empowering the green transition.
URL:https://www.munichfabricstart.com/en/event/in-conversation-with-lisa-lang/
LOCATION:TREND LECTURES | Keyhouse – Hall 5
CATEGORIES:Interview
END:VEVENT
BEGIN:VEVENT
DTSTART;TZID=Europe/Berlin:20230124T150000
DTEND;TZID=Europe/Berlin:20230124T160000
DTSTAMP:20260424T015503
CREATED:20230109T152529Z
LAST-MODIFIED:20230120T143204Z
UID:4298-1674572400-1674576000@www.munichfabricstart.com
SUMMARY:Transformers Foundation – Fashion’s Chemical Certification’s Complex
DESCRIPTION:Needless complicated\, woefully ineffective
URL:https://www.munichfabricstart.com/en/event/transformers-foundation-fashions-chemical-certifications-complex/
LOCATION:SEMINAR ZONE | BLUEZONE – Hall 7
CATEGORIES:Panel Discussion
END:VEVENT
BEGIN:VEVENT
DTSTART;TZID=Europe/Berlin:20230124T150000
DTEND;TZID=Europe/Berlin:20230124T160000
DTSTAMP:20260424T015503
CREATED:20230102T100136Z
LAST-MODIFIED:20230102T100136Z
UID:4077-1674572400-1674576000@www.munichfabricstart.com
SUMMARY:Color goes DIGITAL - How to manage colors professionally in the digital workspace
DESCRIPTION:We are in 2023 – nobody can ignore the digital progress in all parts of our life anymore. Nobody can reject to start working with digital color data anymore. Pantone will show you\, what are the challenges and opportunities to work with Color from Design to production with Digital Pantone Data. Learn\, how can you make sure\, your Pantone Color Data is up to date and correctly addressed in a Design Software. \nPANTONE Connect\, the new Color App will enable you to get the correct Pantone Color Data into a Design Software and will also enable you to work efficient and accurate with the best digital support for Color.
URL:https://www.munichfabricstart.com/en/event/color-goes-digital-how-to-manage-colors-professionally-in-the-digital-workspace/
LOCATION:TREND LECTURES | Keyhouse – Hall 5
CATEGORIES:Trend Presentation
END:VEVENT
BEGIN:VEVENT
DTSTART;TZID=Europe/Berlin:20230124T143000
DTEND;TZID=Europe/Berlin:20230124T150000
DTSTAMP:20260424T015503
CREATED:20221230T074309Z
LAST-MODIFIED:20221230T074536Z
UID:4071-1674570600-1674572400@www.munichfabricstart.com
SUMMARY:Virtual dressing rooms: How to select\, integrate and benefit from them
DESCRIPTION:Virtual dressing rooms have matured over the past decade to a point where multiple commercial solutions are available. These solutions vary substantially in their technical requirements\, the customer experience they enable\, and ultimately how they benefit shoppers and retailers. Find out which solution will fit your business the best!
URL:https://www.munichfabricstart.com/en/event/virtual-dressing-rooms-how-to-select-integrate-and-benefit-from-them/
LOCATION:TREND LECTURES | Keyhouse – Hall 5
CATEGORIES:Automation & Digitization
END:VEVENT
BEGIN:VEVENT
DTSTART;TZID=Europe/Berlin:20230124T133000
DTEND;TZID=Europe/Berlin:20230124T140000
DTSTAMP:20260424T015503
CREATED:20230104T053651Z
LAST-MODIFIED:20230113T193319Z
UID:4137-1674567000-1674568800@www.munichfabricstart.com
SUMMARY:Virtual models for the digital era
DESCRIPTION:
URL:https://www.munichfabricstart.com/en/event/virtual-models-for-the-digital-era/
LOCATION:Assyst Experience – Hall 2 | C 14
CATEGORIES:Keynote
END:VEVENT
BEGIN:VEVENT
DTSTART;TZID=Europe/Berlin:20230124T130000
DTEND;TZID=Europe/Berlin:20230124T140000
DTSTAMP:20260424T015503
CREATED:20220728T105408Z
LAST-MODIFIED:20230103T153610Z
UID:2892-1674565200-1674568800@www.munichfabricstart.com
SUMMARY:WOMEN´S FASHION TRENDS  SS 24 – DIE MUST HAVES DER SAISON
DESCRIPTION:Die Saison SS24 bringt das Bedürfnis zum Ausdruck\, sich wieder auf das Wesentliche zu besinnen und gleichzeitig Quellen der Inspiration\, Überraschung und Kreativität zu kultivieren… die Grundlagen der Mode. Wir betonen selbstbewusst und ungehemmt alle Facetten der Weiblichkeit: Glamouröser Auftritt im Alltag\, Spiel mit Geschlechter-Identität bis hin zu Schlichtheit\, die sich mit Funktionalität und Mobilität verbindet.
URL:https://www.munichfabricstart.com/en/event/womens-fashion-trends-fw-23-24/
LOCATION:TREND LECTURES | Keyhouse – Hall 5
CATEGORIES:Trend Presentation
END:VEVENT
BEGIN:VEVENT
DTSTART;TZID=Europe/Berlin:20230124T130000
DTEND;TZID=Europe/Berlin:20230124T133000
DTSTAMP:20260424T015503
CREATED:20230116T112027Z
LAST-MODIFIED:20230116T112027Z
UID:4547-1674565200-1674567000@www.munichfabricstart.com
SUMMARY:Ready to Fit – Ready to Market – Reliable Fit in the Supply Chain
DESCRIPTION:
URL:https://www.munichfabricstart.com/en/event/ready-to-fit-ready-to-market-reliable-fit-in-the-supply-chain/
LOCATION:Assyst Experience – Hall 2 | C 14
CATEGORIES:Keynote
END:VEVENT
BEGIN:VEVENT
DTSTART;TZID=Europe/Berlin:20230124T123000
DTEND;TZID=Europe/Berlin:20230124T130000
DTSTAMP:20260424T015503
CREATED:20230116T111504Z
LAST-MODIFIED:20230116T111514Z
UID:4536-1674563400-1674565200@www.munichfabricstart.com
SUMMARY:Design & Produce First Time Right
DESCRIPTION:
URL:https://www.munichfabricstart.com/en/event/design-produce-first-time-right/
LOCATION:Assyst Experience – Hall 2 | C 14
CATEGORIES:Keynote
END:VEVENT
END:VCALENDAR