BEGIN:VCALENDAR
VERSION:2.0
PRODID:-//MUNICH FABRIC START - ECPv6.15.12.2//NONSGML v1.0//EN
CALSCALE:GREGORIAN
METHOD:PUBLISH
X-ORIGINAL-URL:https://www.munichfabricstart.com/en/
X-WR-CALDESC:Events for MUNICH FABRIC START
REFRESH-INTERVAL;VALUE=DURATION:PT1H
X-Robots-Tag:noindex
X-PUBLISHED-TTL:PT1H
BEGIN:VTIMEZONE
TZID:Europe/Berlin
BEGIN:DAYLIGHT
TZOFFSETFROM:+0100
TZOFFSETTO:+0200
TZNAME:CEST
DTSTART:20240331T010000
END:DAYLIGHT
BEGIN:STANDARD
TZOFFSETFROM:+0200
TZOFFSETTO:+0100
TZNAME:CET
DTSTART:20241027T010000
END:STANDARD
BEGIN:DAYLIGHT
TZOFFSETFROM:+0100
TZOFFSETTO:+0200
TZNAME:CEST
DTSTART:20250330T010000
END:DAYLIGHT
BEGIN:STANDARD
TZOFFSETFROM:+0200
TZOFFSETTO:+0100
TZNAME:CET
DTSTART:20251026T010000
END:STANDARD
BEGIN:DAYLIGHT
TZOFFSETFROM:+0100
TZOFFSETTO:+0200
TZNAME:CEST
DTSTART:20260329T010000
END:DAYLIGHT
BEGIN:STANDARD
TZOFFSETFROM:+0200
TZOFFSETTO:+0100
TZNAME:CET
DTSTART:20261025T010000
END:STANDARD
BEGIN:DAYLIGHT
TZOFFSETFROM:+0100
TZOFFSETTO:+0200
TZNAME:CEST
DTSTART:20270328T010000
END:DAYLIGHT
BEGIN:STANDARD
TZOFFSETFROM:+0200
TZOFFSETTO:+0100
TZNAME:CET
DTSTART:20271031T010000
END:STANDARD
END:VTIMEZONE
BEGIN:VEVENT
DTSTART;TZID=Europe/Berlin:20260128T140000
DTEND;TZID=Europe/Berlin:20260128T150000
DTSTAMP:20260421T124212
CREATED:20251222T161258Z
LAST-MODIFIED:20251222T164738Z
UID:10855-1769608800-1769612400@www.munichfabricstart.com
SUMMARY:Textile Recycling Reality: What Is Actually Possible by 2026
DESCRIPTION:Recycling capacity doesn’t scale at the speed of brand promises.\nTextile recycling is often presented as a future solution\, yet current infrastructure\, economics and material complexity tell a more constrained story. This panel addresses what recycling technologies can realistically deliver by 2026\, where capacity gaps remain\, and how suppliers and brands should recalibrate expectations.
URL:https://www.munichfabricstart.com/en/event/textile-recycling-reality-what-is-actually-possible-by-2026/
LOCATION:THE STAGE | MOC – Hall 2
CATEGORIES:Panel Discussion
END:VEVENT
BEGIN:VEVENT
DTSTART;TZID=Europe/Berlin:20260128T133000
DTEND;TZID=Europe/Berlin:20260128T140000
DTSTAMP:20260421T124212
CREATED:20251208T092727Z
LAST-MODIFIED:20251208T093248Z
UID:10665-1769607000-1769608800@www.munichfabricstart.com
SUMMARY:Circular Design: From Trend to Transformation with Cradle to Cradle Certified®
DESCRIPTION:
URL:https://www.munichfabricstart.com/en/event/circular-design-from-trend-to-transformation-with-cradle-to-cradle-certified/
LOCATION:THE STAGE | MOC – Hall 2
CATEGORIES:Circularity Talk
END:VEVENT
BEGIN:VEVENT
DTSTART;TZID=Europe/Berlin:20260128T130000
DTEND;TZID=Europe/Berlin:20260128T133000
DTSTAMP:20260421T124212
CREATED:20251212T102106Z
LAST-MODIFIED:20251212T102106Z
UID:10735-1769605200-1769607000@www.munichfabricstart.com
SUMMARY:VDMD | Digitale Musterung zur nachhaltigen Produktentwicklung
DESCRIPTION:
URL:https://www.munichfabricstart.com/en/event/vdmd-digitale-musterung-zur-nachhaltigen-produktentwicklung/
LOCATION:THE STAGE | MOC – Hall 2
CATEGORIES:Digitisation Talk
END:VEVENT
BEGIN:VEVENT
DTSTART;TZID=Europe/Berlin:20260128T123000
DTEND;TZID=Europe/Berlin:20260128T130000
DTSTAMP:20260421T124212
CREATED:20260109T174104Z
LAST-MODIFIED:20260109T174104Z
UID:10949-1769603400-1769605200@www.munichfabricstart.com
SUMMARY:What Europe Will Expect From Your Fabrics Next
DESCRIPTION:No legal waffle. No sustainability theatre. Just a clear explanation of what brands will now demand\, what data factories must provide\, and where the real risks sit if you get it wrong. From wash-tests and fibre traceability to audits\, labelling and waste responsibility\, these rules are already influencing how collections are designed\, sourced\, priced and approved.\nIf you make clothing for the European market\, this is no longer background noise. It is the operating environment. Understand it now\, or be quietly excluded later.
URL:https://www.munichfabricstart.com/en/event/what-europe-will-expect-from-your-fabrics-next/
LOCATION:THE STAGE | MOC – Hall 2
CATEGORIES:Mini Lecture
END:VEVENT
BEGIN:VEVENT
DTSTART;TZID=Europe/Berlin:20260128T120000
DTEND;TZID=Europe/Berlin:20260128T123000
DTSTAMP:20260421T124212
CREATED:20251212T112603Z
LAST-MODIFIED:20251212T114158Z
UID:10753-1769601600-1769603400@www.munichfabricstart.com
SUMMARY:Munich Fabric Start X Olivia Does Design: PLEASURE – Colours\, Materials & Styling der Accessoires-Trends für Spring.Summer 27
DESCRIPTION:
URL:https://www.munichfabricstart.com/en/event/munich-fabric-start-x-olivia-does-design-pleasure-colours-materials-styling-der-accessoires-trends-fuer-spring-summer-27/
LOCATION:THE STAGE | MOC – Hall 2
CATEGORIES:Trend Presentation
END:VEVENT
BEGIN:VEVENT
DTSTART;TZID=Europe/Berlin:20260128T110000
DTEND;TZID=Europe/Berlin:20260128T120000
DTSTAMP:20260421T124212
CREATED:20251204T172412Z
LAST-MODIFIED:20251204T172412Z
UID:10650-1769598000-1769601600@www.munichfabricstart.com
SUMMARY:Munich Fabric Start X O/M COLLECTIVE: PLEASURE – Colours\, Fabrics\, Styling (Wo)Mens Key Trends for Spring.Summer 27
DESCRIPTION:Unter dem Namen o/m collective führen Katharina Majorek und Volker Orthmann ein Stilbüro in Düsseldorf. Ihr Schwerpunkt liegt auf der Entwicklung von Trendpublikationen\, Farb- und Modekonzepten. Seit 2023 sind sie für die Leitfarben und Trends der MUNICH FABRIC START verantwortlich. In diesem exklusiven Trendvortrag informieren Katharina Majorek und Volker Orthmann über die Farben\, Stoffe und Stylings für die Womens- und Menswear der Saison Spring.Summer 27.
URL:https://www.munichfabricstart.com/en/event/munich-fabric-start-x-o-m-collective-pleasure-colours-fabrics-styling-womens-key-trends-for-spring-summer-27/
LOCATION:THE STAGE | MOC – Hall 2
CATEGORIES:Trend Presentation
END:VEVENT
BEGIN:VEVENT
DTSTART;TZID=Europe/Berlin:20260128T103000
DTEND;TZID=Europe/Berlin:20260128T110000
DTSTAMP:20260421T124212
CREATED:20251212T100606Z
LAST-MODIFIED:20251212T100606Z
UID:10724-1769596200-1769598000@www.munichfabricstart.com
SUMMARY:SUSTAINABLE INNOVATIONS | Key Conversation and Deep Dive about Future-oriented Sustainable Material Developments
DESCRIPTION:Join Simon Angel and material experts for an inspirational talk about future-proof material solutions that will add value to a sustainable and circular industry.
URL:https://www.munichfabricstart.com/en/event/sustainable-innovations-key-conversation-and-deep-dive-about-future-oriented-sustainable-material-developments-2/
LOCATION:THE STAGE | MOC – Hall 2
CATEGORIES:Innovation Talk
END:VEVENT
BEGIN:VEVENT
DTSTART;TZID=Europe/Berlin:20260128T100000
DTEND;TZID=Europe/Berlin:20260128T103000
DTSTAMP:20260421T124212
CREATED:20251212T100351Z
LAST-MODIFIED:20260109T150016Z
UID:10718-1769594400-1769596200@www.munichfabricstart.com
SUMMARY:MONSIEUR-T. | THE PERFECT TIME FOR DENIM IMPERFECTION 
DESCRIPTION:The evolution of consumer expectations in the changing Denim market.\nA trend-seminar exclusively prepared for BLUEZONE MUNICH.
URL:https://www.munichfabricstart.com/en/event/monsieur-t-bluezones-exclusive-denim-trends/
LOCATION:THE STAGE | MOC – Hall 2
END:VEVENT
BEGIN:VEVENT
DTSTART;TZID=Europe/Berlin:20260127T170000
DTEND;TZID=Europe/Berlin:20260127T180000
DTSTAMP:20260421T124212
CREATED:20251212T104756Z
LAST-MODIFIED:20260114T111921Z
UID:10749-1769533200-1769536800@www.munichfabricstart.com
SUMMARY:VDMD TREND |  AM PULS Mega.Trend.Forecast FS 2027
DESCRIPTION:Urbanes erleben – Natur erforschen – Empathie zeigen – Zukunft gestalten
URL:https://www.munichfabricstart.com/en/event/vdmd-trend-am-puls-mega-trend-forecast-fs-2027/
LOCATION:THE STAGE | MOC – Hall 2
CATEGORIES:Trend Presentation
END:VEVENT
BEGIN:VEVENT
DTSTART;TZID=Europe/Berlin:20260127T160000
DTEND;TZID=Europe/Berlin:20260127T170000
DTSTAMP:20260421T124212
CREATED:20260109T175749Z
LAST-MODIFIED:20260115T174343Z
UID:10959-1769529600-1769533200@www.munichfabricstart.com
SUMMARY:SOURCING | MADE IN THE EU & NEIGHBOURHOOD: THE STRATEGIC FRONTIER
DESCRIPTION:Redefining Resilience\, Speed\, and Circularity through Nearshore Collaboration
URL:https://www.munichfabricstart.com/en/event/sourcing-made-in-the-eu-neighbourhood-the-strategic-frontier/
LOCATION:THE STAGE | MOC – Hall 2
CATEGORIES:Panel Discussion
END:VEVENT
BEGIN:VEVENT
DTSTART;TZID=Europe/Berlin:20260127T153000
DTEND;TZID=Europe/Berlin:20260127T160000
DTSTAMP:20260421T124212
CREATED:20251219T150356Z
LAST-MODIFIED:20251219T155926Z
UID:10822-1769527800-1769529600@www.munichfabricstart.com
SUMMARY:DIRT Charity x LOADS Collection: What Lies Within Our Fabrics? Land\, Life\, and Mental Wellbeing
DESCRIPTION:This presentation shows how we can transform farming practices that are currently harming soils\, ecosystems\, and the mental wellbeing of farming communities. Fortunately\, there are ways to farm differently\, ways that restore the land and create a positive impact. \nLOADS Collection and DIRT Charity explore a different path together: one rooted in re-connection. Reconnecting fibre to land\, land to people\, and people to what they wear on their skin. By farming in tune with nature and the human being\, they’re showcasing the first Demeter-certified textile worldwide\, and the path of development of new Demeter textile standards. Their approach offers a biodynamic alternative. One that restores soil health\, supports farmers’ wellbeing\, and transforms textiles into carriers of care\, culture\, and responsibility.
URL:https://www.munichfabricstart.com/en/event/dirt-charity-what-lies-within-our-fabrics-land-life-and-mental-wellbeing/
LOCATION:THE STAGE | MOC – Hall 2
CATEGORIES:Impulsvortrag
END:VEVENT
BEGIN:VEVENT
DTSTART;TZID=Europe/Berlin:20260127T150000
DTEND;TZID=Europe/Berlin:20260127T153000
DTSTAMP:20260421T124212
CREATED:20260110T080027Z
LAST-MODIFIED:20260115T121828Z
UID:10973-1769526000-1769527800@www.munichfabricstart.com
SUMMARY:AI in Textiles: Fabric Development\, Digital Tools & Real-World Efficiency
DESCRIPTION:AI isn’t replacing designers. It’s replacing slow decision-making.\nArtificial Intelligence is already reshaping parts of textile design\, development and decisionmaking\, but not always in visible ways. This panel looks at where AI is delivering measurable efficiency today\, where it reduces sampling and development cycles\, and where expectations remain misaligned with operational reality.
URL:https://www.munichfabricstart.com/en/event/ai-in-textiles-fabric-development-digital-tools-real-world-efficiency/
LOCATION:THE STAGE | MOC – Hall 2
CATEGORIES:Digitisation Talk
END:VEVENT
BEGIN:VEVENT
DTSTART;TZID=Europe/Berlin:20260127T143000
DTEND;TZID=Europe/Berlin:20260127T150000
DTSTAMP:20260421T124212
CREATED:20251215T094057Z
LAST-MODIFIED:20251215T124935Z
UID:10774-1769524200-1769526000@www.munichfabricstart.com
SUMMARY:Original-ID: From Science to Product – Simplified Brand Protection
DESCRIPTION:This talk shows how a Fraunhofer research approach was transformed into a market-ready technology for brand protection. It introduces the core idea of ORIGINAL-ID: a material-based fingerprint combined with a QR code that enables item-level authentication without chips\, NFC\, blockchain\, or changes to existing production processes. Finally\, it explains how brands can use ORIGINAL-ID as a simple\, scalable solution to protect products against counterfeiting\, verified instantly with a standard smartphone.
URL:https://www.munichfabricstart.com/en/event/original-id-from-science-to-product-simplified-brand-protection/
LOCATION:THE STAGE | MOC – Hall 2
CATEGORIES:Automation & Digitization,Digitisation Talk
END:VEVENT
BEGIN:VEVENT
DTSTART;TZID=Europe/Berlin:20260127T140000
DTEND;TZID=Europe/Berlin:20260127T143000
DTSTAMP:20260421T124212
CREATED:20260105T114837Z
LAST-MODIFIED:20260105T114837Z
UID:10917-1769522400-1769524200@www.munichfabricstart.com
SUMMARY:BRIGHTFIBER | From Materials to Market: When Circular Innovation Has to Scale
DESCRIPTION:
URL:https://www.munichfabricstart.com/en/event/brightfiber-from-materials-to-market-when-circular-innovation-has-to-scale/
LOCATION:THE STAGE | MOC – Hall 2
CATEGORIES:Fireside Chat
END:VEVENT
BEGIN:VEVENT
DTSTART;TZID=Europe/Berlin:20260127T130000
DTEND;TZID=Europe/Berlin:20260127T140000
DTSTAMP:20260421T124212
CREATED:20251222T162556Z
LAST-MODIFIED:20260116T104654Z
UID:10869-1769518800-1769522400@www.munichfabricstart.com
SUMMARY:Manufacturing Policy\, DPP & Traceability: What Suppliers Need to Know by 2026
DESCRIPTION:Compliance is no longer a checklist. It’s becoming a business model stress test. \nAs regulatory frameworks mandates and traceability tighten across Europe and beyond\, suppliers are increasingly exposed to legal\, operational and commercial risk. This session explores what upcoming manufacturing policies actually require\, where responsibility is shifting along the value chain\, and how suppliers can respond without undermining cost competitiveness or production timelines.
URL:https://www.munichfabricstart.com/en/event/manufacturing-policy-dpp-traceability-what-suppliers-need-to-know-by-2026/
LOCATION:THE STAGE | MOC – Hall 2
CATEGORIES:Panel Discussion
END:VEVENT
BEGIN:VEVENT
DTSTART;TZID=Europe/Berlin:20260127T120000
DTEND;TZID=Europe/Berlin:20260127T130000
DTSTAMP:20260421T124212
CREATED:20251204T165042Z
LAST-MODIFIED:20260109T153353Z
UID:10646-1769515200-1769518800@www.munichfabricstart.com
SUMMARY:Peclers Paris | WOMEN´S FASHION TRENDS Spring.Summer 27
DESCRIPTION:ZWISCHEN PRAGMATISMUS UND SEHNSUCHT NACH FANTASIE \nIn dieser Saison feiern wir eine Rückkehr zur Weiblichkeit und experimentieren mit neuen Interpretationen von Chic und Glamour. Inspirationen verschieben sich zunehmend von fiktiven\, digitalen Bereichen hin zu greifbareren Realitäten. Der Fokus liegt auf Formen\, Materialien oder Drucken\, überflüssige Details werden vermieden. Komfort spielt eine zentrale Rolle\, ist aber nun mit Stil und einer femininen Note verbunden.
URL:https://www.munichfabricstart.com/en/event/peclers-paris-womens-fashion-trends-spring-summer-27/
LOCATION:THE STAGE | MOC – Hall 2
CATEGORIES:Trend Presentation
END:VEVENT
BEGIN:VEVENT
DTSTART;TZID=Europe/Berlin:20260127T113000
DTEND;TZID=Europe/Berlin:20260127T120000
DTSTAMP:20260421T124212
CREATED:20260110T075751Z
LAST-MODIFIED:20260110T075751Z
UID:10969-1769513400-1769515200@www.munichfabricstart.com
SUMMARY:RETRAKT: From linear to circular – Transforming the textile sector
DESCRIPTION:
URL:https://www.munichfabricstart.com/en/event/retrakt-from-linear-to-circular-transforming-the-textile-sector/
LOCATION:THE STAGE | MOC – Hall 2
CATEGORIES:Innovation Talk
END:VEVENT
BEGIN:VEVENT
DTSTART;TZID=Europe/Berlin:20260127T110000
DTEND;TZID=Europe/Berlin:20260127T113000
DTSTAMP:20260421T124212
CREATED:20251212T095934Z
LAST-MODIFIED:20260109T150325Z
UID:10711-1769511600-1769513400@www.munichfabricstart.com
SUMMARY:MONSIEUR-T. | THE PERFECT TIME FOR DENIM IMPERFECTION
DESCRIPTION:The evolution of consumer expectations in the changing Denim market.\nA trend-seminar exclusively prepared for BLUEZONE MUNICH.
URL:https://www.munichfabricstart.com/en/event/bluezone-exclusive-denim-trends/
LOCATION:THE STAGE | MOC – Hall 2
CATEGORIES:Trend Presentation
END:VEVENT
BEGIN:VEVENT
DTSTART;TZID=Europe/Berlin:20260127T103000
DTEND;TZID=Europe/Berlin:20260127T110000
DTSTAMP:20260421T124212
CREATED:20251212T095703Z
LAST-MODIFIED:20251212T095703Z
UID:10705-1769509800-1769511600@www.munichfabricstart.com
SUMMARY:VDMD | Made in Germany neu gedacht: Wie ©ManuFashion – Manufakturen die Produktion revolutionieren
DESCRIPTION:
URL:https://www.munichfabricstart.com/en/event/vdmd-made-in-germany-neu-gedacht-wie-manufashion-manufakturen-die-produktion-revolutionieren/
LOCATION:THE STAGE | MOC – Hall 2
CATEGORIES:Educational Talk
END:VEVENT
BEGIN:VEVENT
DTSTART;TZID=Europe/Berlin:20260127T100000
DTEND;TZID=Europe/Berlin:20260127T103000
DTSTAMP:20260421T124212
CREATED:20251212T095335Z
LAST-MODIFIED:20251212T100451Z
UID:10697-1769508000-1769509800@www.munichfabricstart.com
SUMMARY:SUSTAINABLE INNOVATIONS | Key Conversation and Deep Dive about Future-oriented Sustainable Material Developments
DESCRIPTION:Join Simon Angel and material experts for an inspirational talk about future-proof material solutions that will add value to a sustainable and circular industry.
URL:https://www.munichfabricstart.com/en/event/key-conversation-and-deep-dive-about-future-oriented-sustainable-material-developments-8/
LOCATION:THE STAGE | MOC – Hall 2
CATEGORIES:Innovation Talk
END:VEVENT
BEGIN:VEVENT
DTSTART;TZID=Europe/Berlin:20250903T160000
DTEND;TZID=Europe/Berlin:20250903T170000
DTSTAMP:20260421T124212
CREATED:20250821T085704Z
LAST-MODIFIED:20250821T085704Z
UID:10230-1756915200-1756918800@www.munichfabricstart.com
SUMMARY:From Soil to Style: Weaving the Future with Natural Fibres & Local Production
DESCRIPTION:A conversation on cultivating transparent supply chains with natural fibres and building resilient communities in the fashion world. Join experts from Kombinat Konopny\, VLNAP\, and EU Cotton Alliance explore the economic and environmental case for a closer-to-home fashion industry.
URL:https://www.munichfabricstart.com/en/event/from-soil-to-style-weaving-the-future-with-natural-fibres-local-production/
LOCATION:THE STAGE | MOC – Hall 2
CATEGORIES:Innovation Panel
END:VEVENT
BEGIN:VEVENT
DTSTART;TZID=Europe/Berlin:20250903T150000
DTEND;TZID=Europe/Berlin:20250903T160000
DTSTAMP:20260421T124212
CREATED:20250808T080029Z
LAST-MODIFIED:20250831T115823Z
UID:10019-1756911600-1756915200@www.munichfabricstart.com
SUMMARY:Expert Panel – Sourcing in Africa: Opportunities for Growth
DESCRIPTION:Explore Africa as a sustainable sourcing region\, with insights from companies\, industry associations\, and development cooperation on opportunities\, challenges\, and support mechanisms.\nJoin Salvador Braedt and industry experts in this insightful discussion about the opportunities of sourcing in Africa.
URL:https://www.munichfabricstart.com/en/event/expert-panel-sourcing-in-africa-opportunities-for-growth/
LOCATION:THE STAGE | MOC – Hall 2
CATEGORIES:Panel Discussion
END:VEVENT
BEGIN:VEVENT
DTSTART;TZID=Europe/Berlin:20250903T140000
DTEND;TZID=Europe/Berlin:20250903T150000
DTSTAMP:20260421T124212
CREATED:20250731T162031Z
LAST-MODIFIED:20250826T134523Z
UID:10006-1756908000-1756911600@www.munichfabricstart.com
SUMMARY:INNOVATION PANEL – Integrating Innovation\, Impact & Transparency in Textile Supply Chains
DESCRIPTION:As the fashion and textile industry faces rising pressure to deliver on both sustainability and performance\, the need for integrated\, cross-sector collaboration has never been more urgent. This conversation brings together four unique perspectives from global brands and innovation hubs to policy leadership and academic research to explore how we can build more transparent\, resilient\, and responsible supply chains. \nModerated by Muchaneta ten Napel from ShapeInnovate.com in conversation with industry experts.
URL:https://www.munichfabricstart.com/en/event/expert-panel-integrating-innovation-impact-transparency-in-textile-supply-chains/
LOCATION:THE STAGE | MOC – Hall 2
CATEGORIES:Innovation Panel
END:VEVENT
BEGIN:VEVENT
DTSTART;TZID=Europe/Berlin:20250903T133000
DTEND;TZID=Europe/Berlin:20250903T140000
DTSTAMP:20260421T124212
CREATED:20250814T114139Z
LAST-MODIFIED:20250827T125217Z
UID:10121-1756906200-1756908000@www.munichfabricstart.com
SUMMARY:Baytech HMS x Future Fashion Assembly – Denim after the Loom: From Stone to System
DESCRIPTION:Denim’s most iconic moments were born in the wash house — but what comes after the loom is now being redefined. From hand-washed prototypes in the ‘80s to AI-powered production lines\, the post-loom space has become ground zero for impact\, creativity\, and reinvention. \nDenim After the Loom is a growing global panel series initiated by Beyza Baykan\, Managing Director of Baytech HMS (Hand Made Stone)\, spotlighting the people\, tools\, and systems reshaping how denim gets made. After a packed first edition in London\, the series now comes to Munich Fabric Start – this time as part of the first-ever dedicated Innovation Space co-curated by Baytech HMS and Future Fashion Assembly. \nThis fireside chat is one of the key moments within this innovation program designed to make innovation tangible through workshops\, live tools\, and hands-on demos from market-ready solutions for across the value chain.  \nIn this 30-minute session\, two influential voices in denim – one a pioneer of wash innovation\, the other a driver of future-forward production – come together to unpack where we’ve been and where we’re going. Moderated by Sofia Strazzanti\, Founder & CEO of Future Fashion Assembly\, we’ll explore the friction between tradition and tech\, how brands are navigating traceability demands\, and what it really takes to shift an industry without losing what made it iconic in the first place. \nExpect a conversation that’s unfiltered\, cross-generational\, and rooted in reality – designed to inspire both legacy makers and next-gen builders.
URL:https://www.munichfabricstart.com/en/event/baytech-hms-x-future-fashion-assembly-denim-after-the-loom-from-stone-to-system/
LOCATION:THE STAGE | MOC – Hall 2
CATEGORIES:Fireside Chat
END:VEVENT
BEGIN:VEVENT
DTSTART;TZID=Europe/Berlin:20250903T130000
DTEND;TZID=Europe/Berlin:20250903T133000
DTSTAMP:20260421T124212
CREATED:20250814T105142Z
LAST-MODIFIED:20250814T105319Z
UID:10104-1756904400-1756906200@www.munichfabricstart.com
SUMMARY:COLORO – The Art and Science of Color
DESCRIPTION:Unlocking creative potential\, predicting trends\, and building lasting brand identity through the language of unlimited color.
URL:https://www.munichfabricstart.com/en/event/coloro-the-art-and-science-of-color/
LOCATION:THE STAGE | MOC – Hall 2
CATEGORIES:Fireside Chat
END:VEVENT
BEGIN:VEVENT
DTSTART;TZID=Europe/Berlin:20250903T120000
DTEND;TZID=Europe/Berlin:20250903T130000
DTSTAMP:20260421T124212
CREATED:20250821T051341Z
LAST-MODIFIED:20250821T051341Z
UID:10211-1756900800-1756904400@www.munichfabricstart.com
SUMMARY:Closing the Loop: Scaling Circularity at Tommy Hilfiger
DESCRIPTION:A conversation on reshaping the fashion industry for good from pilot projects to global impact and PVH’s journey to a fully circular brand.
URL:https://www.munichfabricstart.com/en/event/closing-the-loop-scaling-circularity-at-tommy-hilfiger/
LOCATION:THE STAGE | MOC – Hall 2
CATEGORIES:Innovation Talk
END:VEVENT
BEGIN:VEVENT
DTSTART;TZID=Europe/Berlin:20250903T120000
DTEND;TZID=Europe/Berlin:20250903T121500
DTSTAMP:20260421T124212
CREATED:20250901T100233Z
LAST-MODIFIED:20250901T100408Z
UID:10334-1756900800-1756901700@www.munichfabricstart.com
SUMMARY:Munich Fabric Start X Olivia Does Design: Accessories Matter – Additionals Trends for Autumn.Winter 26/27
DESCRIPTION:
URL:https://www.munichfabricstart.com/en/event/munich-fabric-start-x-olivia-does-design-accessories-matter-additionals-trends-for-autumn-winter-26-27/
LOCATION:Room K1 in front of Hall 1 | MOC
CATEGORIES:Trend Presentation
END:VEVENT
BEGIN:VEVENT
DTSTART;TZID=Europe/Berlin:20250903T113000
DTEND;TZID=Europe/Berlin:20250903T120000
DTSTAMP:20260421T124212
CREATED:20250819T151312Z
LAST-MODIFIED:20250819T151312Z
UID:10168-1756899000-1756900800@www.munichfabricstart.com
SUMMARY:HOMEGROWN DENIM LEGENDS by BLUEZONE MUNICH – MEET ERWIN O. LICHER
DESCRIPTION:A conversation about the art\, craft\, and business of building iconic brands that pioneered to built the German\, Austrian\, and Swiss denim market\, connecting makers\, brands and buyers to shape its future.
URL:https://www.munichfabricstart.com/en/event/homegrown-denim-legends-by-bluezone-munich-meet-erwin-o-licher/
LOCATION:THE STAGE | MOC – Hall 2
CATEGORIES:Denim Talk
END:VEVENT
BEGIN:VEVENT
DTSTART;TZID=Europe/Berlin:20250903T110000
DTEND;TZID=Europe/Berlin:20250903T120000
DTSTAMP:20260421T124212
CREATED:20250614T093410Z
LAST-MODIFIED:20250901T095743Z
UID:9845-1756897200-1756900800@www.munichfabricstart.com
SUMMARY:Munich Fabric Start X O/M COLLECTIVE: RIGHT HERE RIGHT NOW – Colours\, Fabrics\, Styling (Wo)Mens Key Trends for Autumn.Winter 26/27
DESCRIPTION:Unter dem Namen o/m collective führen Katharina Majorek und Volker Orthmann ein Stilbüro in Düsseldorf. Ihr Schwerpunkt liegt auf der Entwicklung von Trendpublikationen\, Farb- und Modekonzepten. Seit 2023 sind sie für die Leitfarben und Trends der MUNICH FABRIC START verantwortlich. In diesem exklusiven Trendvortrag informieren Katharina Majorek und Volker Orthmann über die Farben\, Stoffe und Stylings für die Womens- und Menswear der Saison Autumn.Winter 26/27.
URL:https://www.munichfabricstart.com/en/event/munich-fabric-start-x-o-m-collective-right-here-right-now-colours-fabrics-styling-womens-key-trends-for-autumn-winter-26-27/
LOCATION:Room K1 in front of Hall 1 | MOC
CATEGORIES:Trend Presentation
END:VEVENT
BEGIN:VEVENT
DTSTART;TZID=Europe/Berlin:20250903T110000
DTEND;TZID=Europe/Berlin:20250903T113000
DTSTAMP:20260421T124212
CREATED:20250811T184317Z
LAST-MODIFIED:20250825T133143Z
UID:10060-1756897200-1756899000@www.munichfabricstart.com
SUMMARY:From Lab to Reality: How Design-Led Biomaterials Will Change Fashion and beyond
DESCRIPTION:Explore the revolutionary science and visionary design behind GOZEN’s LUNAFORM™\, a groundbreaking material empowering a creative future for the textile industry\, now!
URL:https://www.munichfabricstart.com/en/event/from-lab-to-reality-how-design-led-biomaterials-will-change-fashion/
LOCATION:THE STAGE | MOC – Hall 2
CATEGORIES:Fireside Chat
END:VEVENT
END:VCALENDAR