BEGIN:VCALENDAR
VERSION:2.0
PRODID:-//MUNICH FABRIC START - ECPv6.15.12.2//NONSGML v1.0//EN
CALSCALE:GREGORIAN
METHOD:PUBLISH
X-WR-CALNAME:MUNICH FABRIC START
X-ORIGINAL-URL:https://www.munichfabricstart.com/en/
X-WR-CALDESC:Events for MUNICH FABRIC START
REFRESH-INTERVAL;VALUE=DURATION:PT1H
X-Robots-Tag:noindex
X-PUBLISHED-TTL:PT1H
BEGIN:VTIMEZONE
TZID:Europe/Berlin
BEGIN:DAYLIGHT
TZOFFSETFROM:+0100
TZOFFSETTO:+0200
TZNAME:CEST
DTSTART:20210328T010000
END:DAYLIGHT
BEGIN:STANDARD
TZOFFSETFROM:+0200
TZOFFSETTO:+0100
TZNAME:CET
DTSTART:20211031T010000
END:STANDARD
BEGIN:DAYLIGHT
TZOFFSETFROM:+0100
TZOFFSETTO:+0200
TZNAME:CEST
DTSTART:20220327T010000
END:DAYLIGHT
BEGIN:STANDARD
TZOFFSETFROM:+0200
TZOFFSETTO:+0100
TZNAME:CET
DTSTART:20221030T010000
END:STANDARD
BEGIN:DAYLIGHT
TZOFFSETFROM:+0100
TZOFFSETTO:+0200
TZNAME:CEST
DTSTART:20230326T010000
END:DAYLIGHT
BEGIN:STANDARD
TZOFFSETFROM:+0200
TZOFFSETTO:+0100
TZNAME:CET
DTSTART:20231029T010000
END:STANDARD
END:VTIMEZONE
BEGIN:VEVENT
DTSTART;TZID=Europe/Berlin:20220901T160000
DTEND;TZID=Europe/Berlin:20220901T170000
DTSTAMP:20260424T053035
CREATED:20220822T072826Z
LAST-MODIFIED:20220831T115944Z
UID:3386-1662048000-1662051600@www.munichfabricstart.com
SUMMARY:Key Conversation about Future-oriented Sustainable Material and Production Developments
DESCRIPTION:– Textile and Interaction with Irene Purasachit & Piñatex: SI-curator Simon Angel in conversation with material experts on sustainable future-proof material solutions that will add value to a sustainable and circular industry.
URL:https://www.munichfabricstart.com/en/event/key-conversation-about-future-oriented-sustainable-material-and-production-developments-3/
LOCATION:TREND LECTURES | Keyhouse – Hall 5
CATEGORIES:Sustainable Innovations Talk
END:VEVENT
BEGIN:VEVENT
DTSTART;TZID=Europe/Berlin:20220901T140000
DTEND;TZID=Europe/Berlin:20220901T150000
DTSTAMP:20260424T053035
CREATED:20220822T072710Z
LAST-MODIFIED:20220829T060459Z
UID:3382-1662040800-1662044400@www.munichfabricstart.com
SUMMARY:Key Conversation about Future-oriented Sustainable Material and Production Developments
DESCRIPTION:Textile and well-being with Laura Deschl & Panorama Fabrics: SI-curator Simon Angel in conversation with material experts on sustainable future-proof material solutions that will add value to a sustainable and circular industry.
URL:https://www.munichfabricstart.com/en/event/key-conversation-about-future-oriented-sustainable-material-and-production-developments-2/
LOCATION:TREND LECTURES | Keyhouse – Hall 5
CATEGORIES:Sustainable Innovations Talk
END:VEVENT
BEGIN:VEVENT
DTSTART;TZID=Europe/Berlin:20220901T130000
DTEND;TZID=Europe/Berlin:20220901T133000
DTSTAMP:20260424T053035
CREATED:20220804T130500Z
LAST-MODIFIED:20220828T094258Z
UID:3066-1662037200-1662039000@www.munichfabricstart.com
SUMMARY:How Breakthrough Textile Recycling is Changing the Industry
DESCRIPTION:Recycling fabric might not be easy\, but some innovative companies have proven that it is not impossible. This lecture will explore various solutions that make it possible to recycle mixed-textile clothing like cotton-polyester blends and turn them into new raw materials that can be used in existing textile manufacturing processes.
URL:https://www.munichfabricstart.com/en/event/how-breakthrough-textile-recycling-is-changing-the-industry/
LOCATION:TREND LECTURES | Keyhouse – Hall 5
CATEGORIES:Mini Lecture
END:VEVENT
BEGIN:VEVENT
DTSTART;TZID=Europe/Berlin:20220901T120000
DTEND;TZID=Europe/Berlin:20220901T130000
DTSTAMP:20260424T053035
CREATED:20220822T064733Z
LAST-MODIFIED:20220829T054927Z
UID:3378-1662033600-1662037200@www.munichfabricstart.com
SUMMARY:Key Conversation about Future-oriented Sustainable Material and Production Developments
DESCRIPTION:Textile and Technology with Motorskins: SI-curator Simon Angel in conversation with material experts on sustainable future-proof material solutions that will add value to a sustainable and circular industry.
URL:https://www.munichfabricstart.com/en/event/key-conversation-about-future-oriented-sustainable-material-and-production-developments/
LOCATION:TREND LECTURES | Keyhouse – Hall 5
CATEGORIES:Sustainable Innovations Talk
END:VEVENT
BEGIN:VEVENT
DTSTART;TZID=Europe/Berlin:20220831T190000
DTEND;TZID=Europe/Berlin:20220831T200000
DTSTAMP:20260424T053035
CREATED:20220809T135521Z
LAST-MODIFIED:20220809T141942Z
UID:3085-1661972400-1661976000@www.munichfabricstart.com
SUMMARY:Does it really matter? The challenges of green fashion and its pitfalls within social and environmental compliance
DESCRIPTION:Who is responsible for tomorrow? Green and fair fashion is going through a credibility crisis. Without air-tight data and supply chain monitoring\, brands can no longer speak about their sustainability efforts. More and more social and environmental regulations such as the “Lieferkettensorgfaltspflichtengesetz” or the “EU Strategy for sustainable and circular textiles” are continuously being implemented\, and greenwashing guidelines guard sustainability communication. And even so\, does it really matter? Join a talk about the difficulties & importance of compliance\, supply chain transparency\, and their impact on your brand!
URL:https://www.munichfabricstart.com/en/event/does-it-really-matter-the-challenges-of-green-fashion-and-its-pitfalls-within-social-and-environmental-compliance/
LOCATION:TREND LECTURES | Keyhouse – Hall 5
CATEGORIES:Educational Talk
END:VEVENT
BEGIN:VEVENT
DTSTART;TZID=Europe/Berlin:20220831T180000
DTEND;TZID=Europe/Berlin:20220831T190000
DTSTAMP:20260424T053035
CREATED:20210817T053517Z
LAST-MODIFIED:20220728T085441Z
UID:1832-1661968800-1661972400@www.munichfabricstart.com
SUMMARY:THE CIRCLE BOOK 3: RE-ESTABLISH FRAMEWORK
DESCRIPTION:Get a preview of the third annual “The Circle Book”\, a collaborative project which garment capsule incorporating circular materials and design concepts. Each year\, The Circle Book evolves corresponding with society views. Including global designers\, fabrics mills\, responsible dyes and trims. What are some of the new materials used in the collection? How will circularity change with EU policy updates? Join us in a discussion to Act together Now!
URL:https://www.munichfabricstart.com/en/event/design-and-materials-for-circularity/
LOCATION:TREND LECTURES | Keyhouse – Hall 5
CATEGORIES:Panel Discussion
END:VEVENT
BEGIN:VEVENT
DTSTART;TZID=Europe/Berlin:20220831T173000
DTEND;TZID=Europe/Berlin:20220831T180000
DTSTAMP:20260424T053035
CREATED:20220804T130117Z
LAST-MODIFIED:20220804T130135Z
UID:3064-1661967000-1661968800@www.munichfabricstart.com
SUMMARY:Trends Reshaping the Future of Apparel Manufacturing
DESCRIPTION:As the textile industry continues to change how it does business\, this lecture will highlight some of the most exciting innovations driving textile manufacturing in 2022 and how these solutions are changing how the entire industry works as we know it.
URL:https://www.munichfabricstart.com/en/event/trends-reshaping-the-future-of-apparel-manufacturing/
LOCATION:TREND LECTURES | Keyhouse – Hall 5
CATEGORIES:Mini Lecture
END:VEVENT
BEGIN:VEVENT
DTSTART;TZID=Europe/Berlin:20220831T170000
DTEND;TZID=Europe/Berlin:20220831T180000
DTSTAMP:20260424T053035
CREATED:20220816T185739Z
LAST-MODIFIED:20220816T185739Z
UID:3206-1661965200-1661968800@www.munichfabricstart.com
SUMMARY:Strength & Style with NDL
DESCRIPTION:Strength n’ Style is an exclusive collection powered by Dyneema®. Dyneema is 15x stronger than steel at the same weight and has excellent abrasion-resistant. Dyneema blended into cotton creates a lighter\, more comfortable pair of jeans creating a classic denim look and ensuring maximum performance. Our Dyneema® denim collection is tougher yet just as comfortable as regular denim.
URL:https://www.munichfabricstart.com/en/event/strength-style-with-ndl/
LOCATION:SEMINAR ZONE | BLUEZONE – Hall 7
CATEGORIES:Educational Talk
END:VEVENT
BEGIN:VEVENT
DTSTART;TZID=Europe/Berlin:20220831T160000
DTEND;TZID=Europe/Berlin:20220831T173000
DTSTAMP:20260424T053035
CREATED:20220818T165653Z
LAST-MODIFIED:20220824T054938Z
UID:3290-1661961600-1661967000@www.munichfabricstart.com
SUMMARY:True Transformation Starts with Producers: Arbitrating Unethical Purchasing Practices & Beyond
DESCRIPTION:This session highlights how Transformers Foundation\, which represents the denim supply chain and its ideas for positive change\, is amplifying producer perspectives on sustainability and their efforts to drive change. Together with two other manufacturer-driven entities\, the Sustainable Terms of Trade Initiative and Miran Ali of the STAR Network\, we will explore arbitration mechanisms for unethical purchasing practices. \n\nSection – Introduction to Transformers Foundation\nAndrew Olah\, Founder & Board Member – Transformer’s Foundation – TBC\nSection 2 – Introduction to TF Deep Dive Report – 2022 – Chemical Certification\nAndrew Olah\, Founder & Board Member – Transformer’s Foundation\nSection – Introduction to TF Deep Dive Report – 2021 – Cotton\nAndrew Olah\, Founder & Board Member – Transformer’s Foundation\nSection 4 – Introduction to TF Deep Dive Report – 2020 – Ethical Purchasing Practices\nAndrew Olah\, Founder & Board Member – Transformer’s Foundation\nMiran Ali\, Star Network & STTI
URL:https://www.munichfabricstart.com/en/event/true-transformation-starts-with-producers-arbitrating-unethical-purchasing-practices-beyond/
LOCATION:TREND LECTURES | Keyhouse – Hall 5
CATEGORIES:Educational Talk
END:VEVENT
BEGIN:VEVENT
DTSTART;TZID=Europe/Berlin:20220831T160000
DTEND;TZID=Europe/Berlin:20220831T170000
DTSTAMP:20260424T053035
CREATED:20220822T084418Z
LAST-MODIFIED:20220822T145412Z
UID:3396-1661961600-1661965200@www.munichfabricstart.com
SUMMARY:Vietnam T&G- Towards Sustainability
DESCRIPTION:
URL:https://www.munichfabricstart.com/en/event/vietnam-tg-towards-sustainability/
LOCATION:THE SOURCE Hall 8 – Booth 62
CATEGORIES:Presentation
END:VEVENT
BEGIN:VEVENT
DTSTART;TZID=Europe/Berlin:20220831T160000
DTEND;TZID=Europe/Berlin:20220831T170000
DTSTAMP:20260424T053035
CREATED:20220728T114025Z
LAST-MODIFIED:20220728T114025Z
UID:2925-1661961600-1661965200@www.munichfabricstart.com
SUMMARY:Global Denim Video Awards
DESCRIPTION:Lights\, camera\, action…Carved in Blue is back with the Blue Lenz Denim Video Awards\, exclusively at Bluezone! Putting the spotlight on the creativity and storytelling. A video is an ideal medium to visually communicate the latest denim developments—whether it is a mill’s new finishing treatment\, a brand’s latest collection or a conversation on sustainability. Join us to see who are the 2022 winners.
URL:https://www.munichfabricstart.com/en/event/global-denim-video-awards/
LOCATION:SEMINAR ZONE | BLUEZONE – Hall 7
CATEGORIES:Presentation
END:VEVENT
BEGIN:VEVENT
DTSTART;TZID=Europe/Berlin:20220831T150000
DTEND;TZID=Europe/Berlin:20220831T160000
DTSTAMP:20260424T053035
CREATED:20210817T101446Z
LAST-MODIFIED:20210817T101446Z
UID:2871-1661958000-1661961600@www.munichfabricstart.com
SUMMARY:Recycled Wool as a Key for Circular Fashion: Case Studies and Scientific Insights
DESCRIPTION:The fashion system is experiencing an unprecedented change to meet high sustainability standards and facing numerous challenges to minimize waste and optimize existing materials through a low-impact circular economy. This talk will focus on a flagship fiber that is already helping fashion brands lower their footprints with circular textiles: MWool®\, the next generation of recycled wool by Manteco. Learn more about the possibilities and latest scientific insights about this material.
URL:https://www.munichfabricstart.com/en/event/material-challenges-how-to-make-fabrics-functional-fashionable-and-sustainable/
LOCATION:TREND LECTURES | Keyhouse – Hall 5
CATEGORIES:Circularity Panel
END:VEVENT
BEGIN:VEVENT
DTSTART;TZID=Europe/Berlin:20220831T140000
DTEND;TZID=Europe/Berlin:20220831T150000
DTSTAMP:20260424T053035
CREATED:20220811T131728Z
LAST-MODIFIED:20220826T103231Z
UID:3109-1661954400-1661958000@www.munichfabricstart.com
SUMMARY:The evolution of stretch – addressing comfort & sustainability
DESCRIPTION:Skinny jeans remain top sellers but looser styles are chipping away at their long-standing market dominance. Sustainable design guidelines recommend avoiding fibre blends. But comfort remains a top priority for consumers. How are denim mills and manufacturers navigating the complex market dynamics for elasticity in denims?
URL:https://www.munichfabricstart.com/en/event/the-evolution-of-stretch-addressing-comfort-sustainability/
LOCATION:TREND LECTURES | Keyhouse – Hall 5
CATEGORIES:Innovation Panel
END:VEVENT
BEGIN:VEVENT
DTSTART;TZID=Europe/Berlin:20220831T133000
DTEND;TZID=Europe/Berlin:20220831T140000
DTSTAMP:20260424T053035
CREATED:20220729T111257Z
LAST-MODIFIED:20220818T113536Z
UID:2939-1661952600-1661954400@www.munichfabricstart.com
SUMMARY:CAMPUS - BLUEZONE Denim Trends
DESCRIPTION:Linking the featured Denim Trends in our Trendzone Hall#7 to impacting facts and imagery of our society\, relevant Catwalk events & design trends. Our Denim expert Tilmann Wröbel takes you through the silver linings of tomorrows Denims. (EN)
URL:https://www.munichfabricstart.com/en/event/campus-bluezone-denim-trends/
LOCATION:SEMINAR ZONE | BLUEZONE – Hall 7
CATEGORIES:Trend Presentation
END:VEVENT
BEGIN:VEVENT
DTSTART;TZID=Europe/Berlin:20220831T130000
DTEND;TZID=Europe/Berlin:20220831T140000
DTSTAMP:20260424T053035
CREATED:20220728T082639Z
LAST-MODIFIED:20220728T082758Z
UID:2872-1661950800-1661954400@www.munichfabricstart.com
SUMMARY:PANTONE COLOR TRENDS FOR A/W 23/24 – EXPLORING THE RELATIONSHIP OF COLOR BETWEEN THE METAVERSE AND REALITY
DESCRIPTION:Get inspired from Pantone`s Color Trends Autumn / Winter 2023/2024 and learn how you can technically manage best the relationship of color appearance in the Metaverse versus the real world. Understand\, which digital data have to be aligned through the new Pantone Connect App\, to make sure\, color shows up in the best possible match between these two important worlds.
URL:https://www.munichfabricstart.com/en/event/pantone-color-trends-for-a-w-23-24-exploring-the-relationship-of-color-between-the-metaverse-and-reality/
LOCATION:TREND LECTURES | Keyhouse – Hall 5
CATEGORIES:Trend Presentation
END:VEVENT
BEGIN:VEVENT
DTSTART;TZID=Europe/Berlin:20220831T123000
DTEND;TZID=Europe/Berlin:20220831T130000
DTSTAMP:20260424T053035
CREATED:20220804T125824Z
LAST-MODIFIED:20220804T125839Z
UID:3060-1661949000-1661950800@www.munichfabricstart.com
SUMMARY:Textile Innovations: Fabrics for the Future
DESCRIPTION:With new technologies in textiles moving fast\, this lecture will elaborate on the latest textile innovations and leather alternatives designed with sustainability in their DNA.
URL:https://www.munichfabricstart.com/en/event/textile-innovations-fabrics-for-the-future/
LOCATION:TREND LECTURES | Keyhouse – Hall 5
CATEGORIES:Mini Lecture,Mini Lecture
END:VEVENT
BEGIN:VEVENT
DTSTART;TZID=Europe/Berlin:20220831T120000
DTEND;TZID=Europe/Berlin:20220831T123000
DTSTAMP:20260424T053035
CREATED:20220818T122154Z
LAST-MODIFIED:20220824T112143Z
UID:3277-1661947200-1661949000@www.munichfabricstart.com
SUMMARY:The Only Way to an Ethical and Transparent Industry
DESCRIPTION:Beating climate change and ensuring fair and just work for everyone in the supply chain? These industry goals are not possible to achieve without traceability. Learn more about the challenges of achieving traceability (specifically within cotton)\, as well as where traceability gets lost.
URL:https://www.munichfabricstart.com/en/event/the-only-way-to-an-ethical-and-transparent-industry/
LOCATION:TREND LECTURES | Keyhouse – Hall 5
CATEGORIES:Educational Talk
END:VEVENT
BEGIN:VEVENT
DTSTART;TZID=Europe/Berlin:20220831T113000
DTEND;TZID=Europe/Berlin:20220831T120000
DTSTAMP:20260424T053035
CREATED:20220818T122010Z
LAST-MODIFIED:20220818T122010Z
UID:3273-1661945400-1661947200@www.munichfabricstart.com
SUMMARY:Traceability from the source for future-proofed supply chains
DESCRIPTION:To answer consumer and regulators demand for increased transparency\, Haelixa has developed a solution to mark and trace garments from the source (waste or fiber)\, to prove claims of product origin\, recycling\, manufacturing and quality.
URL:https://www.munichfabricstart.com/en/event/traceability-from-the-source-for-future-proofed-supply-chains/
LOCATION:TREND LECTURES | Keyhouse – Hall 5
CATEGORIES:Educational Talk
END:VEVENT
BEGIN:VEVENT
DTSTART;TZID=Europe/Berlin:20220830T193000
DTEND;TZID=Europe/Berlin:20220830T200000
DTSTAMP:20260424T053035
CREATED:20220818T173828Z
LAST-MODIFIED:20220818T173828Z
UID:3352-1661887800-1661889600@www.munichfabricstart.com
SUMMARY:Empowering creativity – How digital textile printing supports young designers to unleash their creativity in a sustainable way
DESCRIPTION:Producing sustainable fashion and not being limited in creativity shouldn’t be a compromise.  Revolutionizing the fashion tech industry\, Kornit’s systems enable new\, unprecedented dimensions of digital textile printing in a sustainable way. With an example of young designers understanding the urge of re-thinking\, this talk shall give an insight of how creative boundaries can be overcome by using Kornit systems.
URL:https://www.munichfabricstart.com/en/event/empowering-creativity-how-digital-textile-printing-supports-young-designers-to-unleash-their-creativity-in-a-sustainable-way/
LOCATION:TREND LECTURES | Keyhouse – Hall 5
CATEGORIES:Panel Discussion
END:VEVENT
BEGIN:VEVENT
DTSTART;TZID=Europe/Berlin:20220830T191500
DTEND;TZID=Europe/Berlin:20220830T194500
DTSTAMP:20260424T053035
CREATED:20220729T114144Z
LAST-MODIFIED:20220825T054538Z
UID:2945-1661886900-1661888700@www.munichfabricstart.com
SUMMARY:THE WOMEN IN DENIM QUIZZ: ARE YOU A REAL DENIM GEEK?
DESCRIPTION:What a better way to connect while having fun and drinks all together? Let’s end our fruitful working day with the most unexpected quizz you’ve ever participated to: The women in denim quizz! It will be a mix of easy\, tough\, technical\, mainstream\, serious and stupid questions about denim.Your best skill will be speed & a great sense of humour. Join us everybody – you are welcome to a fun quizz! (EN)
URL:https://www.munichfabricstart.com/en/event/the-women-in-denim-quizz-are-you-a-real-denim-geek/
LOCATION:SEMINAR ZONE | BLUEZONE – Hall 7
CATEGORIES:Quiz
END:VEVENT
BEGIN:VEVENT
DTSTART;TZID=Europe/Berlin:20220830T190000
DTEND;TZID=Europe/Berlin:20220830T193000
DTSTAMP:20260424T053035
CREATED:20220815T071351Z
LAST-MODIFIED:20220816T041418Z
UID:3123-1661886000-1661887800@www.munichfabricstart.com
SUMMARY:Digitalization of the Fashion Product Lifecycle With Virtual Try-On
DESCRIPTION:Virtual Try-On (VTO) adds significant value to the entire fashion product lifecycle. VTO enables digital design reviews\, visual collection planning and the creation of compelling on-model images. It accelerates the time to market\, saves cost and facilitates remote working. It expands the utility of CAD models by powering customer-facing experiences\, such as virtual dressing rooms\, and branded Metaverse content.
URL:https://www.munichfabricstart.com/en/event/digitalization-of-the-fashion-product-lifecycle-with-virtual-try-on/
LOCATION:TREND LECTURES | Keyhouse – Hall 5
CATEGORIES:Presentation
END:VEVENT
BEGIN:VEVENT
DTSTART;TZID=Europe/Berlin:20220830T180000
DTEND;TZID=Europe/Berlin:20220830T190000
DTSTAMP:20260424T053035
CREATED:20220729T123749Z
LAST-MODIFIED:20220816T053811Z
UID:2998-1661882400-1661886000@www.munichfabricstart.com
SUMMARY:COLLABORATE TO REGENERATE - Can we transform the reputation of our industry from being less bad\, to doing good?
DESCRIPTION:The Journey to Carbon Neutrality\, improved Soil heath\, Biodiversity increase highlights attention to make garments less bad for the planet; Can Regenerative Agriculture play a roll into your strategy? The big ones Patagonia\, Hugo Boss & the Kering Group\, but also the German SME LAESSIG FASHION or the UK Start-up Bedstraw+Madder to name a few are all integrating this supply line into their sourcing. This talk focuses on a “farm-to-fashion” cotton-value-chain in which the brand is supportive from the seed onwards\, enabling the farm to develop a resilient eco-system through regenerative farming. This direct collaboration is build on long term commitment for positive change\, creating trust and preparing calculated risks in a short and transparent supply chain. The conversation will be suitable for both those new to the concept\, but also insights to those pioneering this approach. (EN)
URL:https://www.munichfabricstart.com/en/event/collaborate-to-regenerate-can-we-transform-the-reputation-of-our-industry-from-being-less-bad-to-doing-good/
LOCATION:TREND LECTURES | Keyhouse – Hall 5
CATEGORIES:Educational Talk
END:VEVENT
BEGIN:VEVENT
DTSTART;TZID=Europe/Berlin:20220830T173000
DTEND;TZID=Europe/Berlin:20220830T180000
DTSTAMP:20260424T053035
CREATED:20220804T125302Z
LAST-MODIFIED:20220804T125642Z
UID:3051-1661880600-1661882400@www.munichfabricstart.com
SUMMARY:In Conversation with Jenny Fredricsdotter of Re:newcell
DESCRIPTION:Although it is not a silver bullet for the suite of problems\, textile recycling is still an essential avenue for the fashion industry to continue exploring and shifting towards. Making the transition easier is Re:newcell. Normalising the reuse\, remake\, resell\, remake again\, resell again business model\, the Swedish company has been busy pioneering a sustainable and circular recycling method that could close the fashion loop by transforming textile waste into Circulose. Circulose is solely made from discarded textiles that have been turned into new high-quality fibres\, yarns and fabrics. Exploring Re:newcell’s influence when it comes to helping the fashion industry shift to circularity\, Muchaneta ten Napel of FashNerd.com will be talking to Jenny Fredricsdotter\, the Circular Business Manager of Re:newcell. The primary conversation areas will revolve around alternative materials\, fashion sustainability\, circular economy and mindful consumption. \n  \nJenny has over twenty years of experience in the fashion industry\, working with buying\, production and sourcing for companies like H&M and Gina Tricot in Europe and Asia. Jenny also studied Textile Economics at the Textile Colleague of Fashion in Borås\, Sweden and has taken several courses on fashion sustainability\, circular economy and mindful consumption. She joined Re:newcell in 2017.
URL:https://www.munichfabricstart.com/en/event/in-conversation-with-jenny-fredricsdotter-of-renewcell/
LOCATION:TREND LECTURES | Keyhouse – Hall 5
CATEGORIES:Educational Talk
END:VEVENT
BEGIN:VEVENT
DTSTART;TZID=Europe/Berlin:20220830T170000
DTEND;TZID=Europe/Berlin:20220830T190000
DTSTAMP:20260424T053035
CREATED:20220729T122338Z
LAST-MODIFIED:20220729T123922Z
UID:2960-1661878800-1661886000@www.munichfabricstart.com
SUMMARY:DECONSTRUCT & INVENT – Insights Into the Upcoming Trends of a Changing Society
DESCRIPTION:International trendsetters with backgrounds such as cosmetics\, consumers behavior\, sustainable design & denim\, will provide insight into the major changes of our trend-society. Discover the new identities\, the new «cool» & new emotions\, which will influence the denim-industry of tomorrow. (EN)
URL:https://www.munichfabricstart.com/en/event/deconstruct-invent-insights-into-the-upcoming-trends-of-a-changing-society/
LOCATION:SEMINAR ZONE | BLUEZONE – Hall 7
CATEGORIES:Trend Presentation
END:VEVENT
BEGIN:VEVENT
DTSTART;TZID=Europe/Berlin:20220830T160000
DTEND;TZID=Europe/Berlin:20220830T173000
DTSTAMP:20260424T053035
CREATED:20220818T171610Z
LAST-MODIFIED:20220824T054212Z
UID:3312-1661875200-1661880600@www.munichfabricstart.com
SUMMARY:Energy\, the silent and giant raw material in Denim
DESCRIPTION:Lets take a look at the state of energy as it relates to Denim production. What resources are being used today\, how is it stored\, what renewables sources are available now and in the future.
URL:https://www.munichfabricstart.com/en/event/energy-the-silent-and-giant-raw-material-in-denim/
LOCATION:TREND LECTURES | Keyhouse – Hall 5
CATEGORIES:Panel Discussion
END:VEVENT
BEGIN:VEVENT
DTSTART;TZID=Europe/Berlin:20220830T160000
DTEND;TZID=Europe/Berlin:20220830T170000
DTSTAMP:20260424T053035
CREATED:20220729T114834Z
LAST-MODIFIED:20220817T061046Z
UID:2923-1661875200-1661878800@www.munichfabricstart.com
SUMMARY:REAL OR NOT REAL? Debunking some of the assumptions in our industry
DESCRIPTION:Covering Chemicals\, Water usage\, GHG\, Energy\, Social accountability; Green Mirage: the empty promise of preferred fibers\, certifications and LCAs.
URL:https://www.munichfabricstart.com/en/event/real-or-no-real-debunking-some-of-the-assumptions-in-our-industry/
LOCATION:SEMINAR ZONE | BLUEZONE – Hall 7
CATEGORIES:Educational Talk
END:VEVENT
BEGIN:VEVENT
DTSTART;TZID=Europe/Berlin:20220830T150000
DTEND;TZID=Europe/Berlin:20220830T160000
DTSTAMP:20260424T053035
CREATED:20220817T043422Z
LAST-MODIFIED:20220817T043422Z
UID:3226-1661871600-1661875200@www.munichfabricstart.com
SUMMARY:The Denim Metaverse & all you need to know about NFT's and Blockchains
DESCRIPTION:Discover the do’s and dont’s\, the benefits and potential of blockchain and NFT’s for the denim industry.
URL:https://www.munichfabricstart.com/en/event/the-denim-metaverse-all-you-need-to-know-about-nfts-and-blockchains/
LOCATION:TREND LECTURES | Keyhouse – Hall 5
CATEGORIES:Educational Talk
END:VEVENT
BEGIN:VEVENT
DTSTART;TZID=Europe/Berlin:20220830T150000
DTEND;TZID=Europe/Berlin:20220830T160000
DTSTAMP:20260424T053035
CREATED:20220816T044748Z
LAST-MODIFIED:20220828T074306Z
UID:3131-1661871600-1661875200@www.munichfabricstart.com
SUMMARY:Jordan's View on Bossa's Smart Fiber Alternatives
DESCRIPTION:
URL:https://www.munichfabricstart.com/en/event/jordans-view-on-bossas-smart-fiber-alternatives/
LOCATION:SEMINAR ZONE | BLUEZONE – Hall 7
CATEGORIES:Presentation
END:VEVENT
BEGIN:VEVENT
DTSTART;TZID=Europe/Berlin:20220830T140000
DTEND;TZID=Europe/Berlin:20220830T150000
DTSTAMP:20260424T053035
CREATED:20220819T065957Z
LAST-MODIFIED:20220819T065957Z
UID:3369-1661868000-1661871600@www.munichfabricstart.com
SUMMARY:Extending the lifespan of a pair of jean
DESCRIPTION:As consumers adapt a new lifestyle with changing needs and buying patterns\, as well as becoming more conscious-savvy\, the “making” process reinvents itself with changing perspectives in design; embracing a more holistic approach from fiber-to-fashion\, implementing cutting-edge technologies. ORTA ANADOLU and THE LYCRA COMPANY join their forces and explore innovative solutions to extend lifespan of jeans presenting ORTA THUNDERBIRD Fabric Family designed by LYCRA(R) ADAPTIV Fiber Technology.
URL:https://www.munichfabricstart.com/en/event/extending-the-lifespan-of-a-pair-of-jean/
LOCATION:SEMINAR ZONE | BLUEZONE – Hall 7
CATEGORIES:Panel Discussion
END:VEVENT
BEGIN:VEVENT
DTSTART;TZID=Europe/Berlin:20220830T133000
DTEND;TZID=Europe/Berlin:20220830T140000
DTSTAMP:20260424T053035
CREATED:20220729T114921Z
LAST-MODIFIED:20220818T113719Z
UID:2935-1661866200-1661868000@www.munichfabricstart.com
SUMMARY:CAMPUS - BLUEZONE Denim Trends
DESCRIPTION:Linking the featured Denim Trends in our Trendzone Hall#7 to impacting facts and imagery of our society\, relevant Catwalk events & design trends. Our Denim expert Tilmann Wröbel takes you through the silver linings of tomorrows Denims. (EN)
URL:https://www.munichfabricstart.com/en/event/campus-bluezone-denim-trends-2/
LOCATION:SEMINAR ZONE | BLUEZONE – Hall 7
END:VEVENT
END:VCALENDAR