BEGIN:VCALENDAR
VERSION:2.0
PRODID:-//MUNICH FABRIC START - ECPv6.15.12.2//NONSGML v1.0//EN
CALSCALE:GREGORIAN
METHOD:PUBLISH
X-WR-CALNAME:MUNICH FABRIC START
X-ORIGINAL-URL:https://www.munichfabricstart.com/en/
X-WR-CALDESC:Events for MUNICH FABRIC START
REFRESH-INTERVAL;VALUE=DURATION:PT1H
X-Robots-Tag:noindex
X-PUBLISHED-TTL:PT1H
BEGIN:VTIMEZONE
TZID:Europe/Berlin
BEGIN:DAYLIGHT
TZOFFSETFROM:+0100
TZOFFSETTO:+0200
TZNAME:CEST
DTSTART:20200329T010000
END:DAYLIGHT
BEGIN:STANDARD
TZOFFSETFROM:+0200
TZOFFSETTO:+0100
TZNAME:CET
DTSTART:20201025T010000
END:STANDARD
BEGIN:DAYLIGHT
TZOFFSETFROM:+0100
TZOFFSETTO:+0200
TZNAME:CEST
DTSTART:20210328T010000
END:DAYLIGHT
BEGIN:STANDARD
TZOFFSETFROM:+0200
TZOFFSETTO:+0100
TZNAME:CET
DTSTART:20211031T010000
END:STANDARD
BEGIN:DAYLIGHT
TZOFFSETFROM:+0100
TZOFFSETTO:+0200
TZNAME:CEST
DTSTART:20220327T010000
END:DAYLIGHT
BEGIN:STANDARD
TZOFFSETFROM:+0200
TZOFFSETTO:+0100
TZNAME:CET
DTSTART:20221030T010000
END:STANDARD
BEGIN:DAYLIGHT
TZOFFSETFROM:+0100
TZOFFSETTO:+0200
TZNAME:CEST
DTSTART:20230326T010000
END:DAYLIGHT
BEGIN:STANDARD
TZOFFSETFROM:+0200
TZOFFSETTO:+0100
TZNAME:CET
DTSTART:20231029T010000
END:STANDARD
END:VTIMEZONE
BEGIN:VEVENT
DTSTART;TZID=Europe/Berlin:20220830T160000
DTEND;TZID=Europe/Berlin:20220830T173000
DTSTAMP:20260424T075815
CREATED:20220818T171610Z
LAST-MODIFIED:20220824T054212Z
UID:3312-1661875200-1661880600@www.munichfabricstart.com
SUMMARY:Energy\, the silent and giant raw material in Denim
DESCRIPTION:Lets take a look at the state of energy as it relates to Denim production. What resources are being used today\, how is it stored\, what renewables sources are available now and in the future.
URL:https://www.munichfabricstart.com/en/event/energy-the-silent-and-giant-raw-material-in-denim/
LOCATION:TREND LECTURES | Keyhouse – Hall 5
CATEGORIES:Panel Discussion
END:VEVENT
BEGIN:VEVENT
DTSTART;TZID=Europe/Berlin:20220830T160000
DTEND;TZID=Europe/Berlin:20220830T170000
DTSTAMP:20260424T075815
CREATED:20220729T114834Z
LAST-MODIFIED:20220817T061046Z
UID:2923-1661875200-1661878800@www.munichfabricstart.com
SUMMARY:REAL OR NOT REAL? Debunking some of the assumptions in our industry
DESCRIPTION:Covering Chemicals\, Water usage\, GHG\, Energy\, Social accountability; Green Mirage: the empty promise of preferred fibers\, certifications and LCAs.
URL:https://www.munichfabricstart.com/en/event/real-or-no-real-debunking-some-of-the-assumptions-in-our-industry/
LOCATION:SEMINAR ZONE | BLUEZONE – Hall 7
CATEGORIES:Educational Talk
END:VEVENT
BEGIN:VEVENT
DTSTART;TZID=Europe/Berlin:20220830T150000
DTEND;TZID=Europe/Berlin:20220830T160000
DTSTAMP:20260424T075815
CREATED:20220817T043422Z
LAST-MODIFIED:20220817T043422Z
UID:3226-1661871600-1661875200@www.munichfabricstart.com
SUMMARY:The Denim Metaverse & all you need to know about NFT's and Blockchains
DESCRIPTION:Discover the do’s and dont’s\, the benefits and potential of blockchain and NFT’s for the denim industry.
URL:https://www.munichfabricstart.com/en/event/the-denim-metaverse-all-you-need-to-know-about-nfts-and-blockchains/
LOCATION:TREND LECTURES | Keyhouse – Hall 5
CATEGORIES:Educational Talk
END:VEVENT
BEGIN:VEVENT
DTSTART;TZID=Europe/Berlin:20220830T150000
DTEND;TZID=Europe/Berlin:20220830T160000
DTSTAMP:20260424T075815
CREATED:20220816T044748Z
LAST-MODIFIED:20220828T074306Z
UID:3131-1661871600-1661875200@www.munichfabricstart.com
SUMMARY:Jordan's View on Bossa's Smart Fiber Alternatives
DESCRIPTION:
URL:https://www.munichfabricstart.com/en/event/jordans-view-on-bossas-smart-fiber-alternatives/
LOCATION:SEMINAR ZONE | BLUEZONE – Hall 7
CATEGORIES:Presentation
END:VEVENT
BEGIN:VEVENT
DTSTART;TZID=Europe/Berlin:20220830T140000
DTEND;TZID=Europe/Berlin:20220830T150000
DTSTAMP:20260424T075815
CREATED:20220819T065957Z
LAST-MODIFIED:20220819T065957Z
UID:3369-1661868000-1661871600@www.munichfabricstart.com
SUMMARY:Extending the lifespan of a pair of jean
DESCRIPTION:As consumers adapt a new lifestyle with changing needs and buying patterns\, as well as becoming more conscious-savvy\, the “making” process reinvents itself with changing perspectives in design; embracing a more holistic approach from fiber-to-fashion\, implementing cutting-edge technologies. ORTA ANADOLU and THE LYCRA COMPANY join their forces and explore innovative solutions to extend lifespan of jeans presenting ORTA THUNDERBIRD Fabric Family designed by LYCRA(R) ADAPTIV Fiber Technology.
URL:https://www.munichfabricstart.com/en/event/extending-the-lifespan-of-a-pair-of-jean/
LOCATION:SEMINAR ZONE | BLUEZONE – Hall 7
CATEGORIES:Panel Discussion
END:VEVENT
BEGIN:VEVENT
DTSTART;TZID=Europe/Berlin:20220830T133000
DTEND;TZID=Europe/Berlin:20220830T140000
DTSTAMP:20260424T075815
CREATED:20220729T114921Z
LAST-MODIFIED:20220818T113719Z
UID:2935-1661866200-1661868000@www.munichfabricstart.com
SUMMARY:CAMPUS - BLUEZONE Denim Trends
DESCRIPTION:Linking the featured Denim Trends in our Trendzone Hall#7 to impacting facts and imagery of our society\, relevant Catwalk events & design trends. Our Denim expert Tilmann Wröbel takes you through the silver linings of tomorrows Denims. (EN)
URL:https://www.munichfabricstart.com/en/event/campus-bluezone-denim-trends-2/
LOCATION:SEMINAR ZONE | BLUEZONE – Hall 7
END:VEVENT
BEGIN:VEVENT
DTSTART;TZID=Europe/Berlin:20220830T130000
DTEND;TZID=Europe/Berlin:20220830T140000
DTSTAMP:20260424T075815
CREATED:20220816T061216Z
LAST-MODIFIED:20220816T190231Z
UID:3212-1661864400-1661868000@www.munichfabricstart.com
SUMMARY:DENIM Then and Now
DESCRIPTION:How Denim was finished 20+2 years ago and how it has evolved through the years
URL:https://www.munichfabricstart.com/en/event/denim-then-and-now-2/
LOCATION:TREND LECTURES | Keyhouse – Hall 5
CATEGORIES:Educational Talk
END:VEVENT
BEGIN:VEVENT
DTSTART;TZID=Europe/Berlin:20210901T173000
DTEND;TZID=Europe/Berlin:20210901T180000
DTSTAMP:20260424T075815
CREATED:20210817T053322Z
LAST-MODIFIED:20210817T053322Z
UID:1831-1630517400-1630519200@www.munichfabricstart.com
SUMMARY:Popular Sustainable Textile Innovations Solutions
DESCRIPTION:With innovations like coffee ground fibres\, banana fibres\, stinging nettle fibres\, Piñatex and vegan alternative to leather taking the fashion industry by storm\, can they really replace\n“normal” textiles? (EN)
URL:https://www.munichfabricstart.com/en/event/popular-sustainable-textile-innovations-solutions/
LOCATION:Halle 6 / Kohlebunker / Zenith Areal
CATEGORIES:Mini Lecture
END:VEVENT
BEGIN:VEVENT
DTSTART;TZID=Europe/Berlin:20210901T133000
DTEND;TZID=Europe/Berlin:20210901T140000
DTSTAMP:20260424T075815
CREATED:20210819T113048Z
LAST-MODIFIED:20210819T113402Z
UID:1874-1630503000-1630504800@www.munichfabricstart.com
SUMMARY:BAST RECAST - Sustainable TENCEL™  X HEMP Innovations
DESCRIPTION:Listen from all the many collaborators on this years TENCEL™ BAST RECAST sustainable denim collection\, using latest technology in Wet spun and Cottonized Hemp. (EN)
URL:https://www.munichfabricstart.com/en/event/bast-recast-sustainable-tencel-x-hemp-innovations/
LOCATION:Halle 6 / Kohlebunker / Zenith Areal
CATEGORIES:Innovation Panel
END:VEVENT
BEGIN:VEVENT
DTSTART;TZID=Europe/Berlin:20210901T130000
DTEND;TZID=Europe/Berlin:20210901T133000
DTSTAMP:20260424T075815
CREATED:20210817T052624Z
LAST-MODIFIED:20210817T052624Z
UID:1827-1630501200-1630503000@www.munichfabricstart.com
SUMMARY:The Denim Industry - At the Intersection of People\, Planet and Purpose
DESCRIPTION:How the Denim Industry is changing and taking a more sustainable approach that harnesses a more sustainable denim for the next generation. (EN)
URL:https://www.munichfabricstart.com/en/event/the-denim-industry-at-the-intersection-of-people-planet-and-purpose/
LOCATION:Halle 6 / Kohlebunker / Zenith Areal
CATEGORIES:Mini Lecture
END:VEVENT
BEGIN:VEVENT
DTSTART;TZID=Europe/Berlin:20210901T123000
DTEND;TZID=Europe/Berlin:20210901T130000
DTSTAMP:20260424T075815
CREATED:20210817T052453Z
LAST-MODIFIED:20210817T052453Z
UID:1826-1630499400-1630501200@www.munichfabricstart.com
SUMMARY:Diving into the BLUEZONE Denim Trends
DESCRIPTION:Explore the next denim influences between the lines. (EN)
URL:https://www.munichfabricstart.com/en/event/diving-into-the-bluezone-denim-trends-2/
LOCATION:Halle 6 / Kohlebunker / Zenith Areal
CATEGORIES:Trend Presentation
END:VEVENT
BEGIN:VEVENT
DTSTART;TZID=Europe/Berlin:20210831T183000
DTEND;TZID=Europe/Berlin:20210831T190000
DTSTAMP:20260424T075815
CREATED:20210817T051414Z
LAST-MODIFIED:20210817T051414Z
UID:1825-1630434600-1630436400@www.munichfabricstart.com
SUMMARY:Raddis - A radical system for cotton products with a transparent & positive impact!
DESCRIPTION:Together we can change the paradigm of our industry and make cotton a source for good. We make it work through collaboration within the Raddis-system\, by regenerating ecosystems\, empowering lives\, and uniting people! Curious? Join our introduction! (EN)
URL:https://www.munichfabricstart.com/en/event/raddis-a-radical-system-for-cotton-products-with-a-transparent-positive-impact/
LOCATION:Halle 6 / Kohlebunker / Zenith Areal
CATEGORIES:Mini Lecture
END:VEVENT
BEGIN:VEVENT
DTSTART;TZID=Europe/Berlin:20210831T180000
DTEND;TZID=Europe/Berlin:20210831T183000
DTSTAMP:20260424T075815
CREATED:20210817T051011Z
LAST-MODIFIED:20210817T051011Z
UID:1824-1630432800-1630434600@www.munichfabricstart.com
SUMMARY:THE CIRCLE BOOK - ACT TOGETHER
DESCRIPTION:Collaboration for Circularity in The Circle Book 2 – Press Conference with The Circle Book Founders. (EN)
URL:https://www.munichfabricstart.com/en/event/act-together/
LOCATION:Halle 6 / Kohlebunker / Zenith Areal
CATEGORIES:Press Conference
END:VEVENT
BEGIN:VEVENT
DTSTART;TZID=Europe/Berlin:20210831T173000
DTEND;TZID=Europe/Berlin:20210831T180000
DTSTAMP:20260424T075815
CREATED:20210817T045451Z
LAST-MODIFIED:20210817T045451Z
UID:1823-1630431000-1630432800@www.munichfabricstart.com
SUMMARY:The Vision of a New Textiles Economy
DESCRIPTION:In a new textiles economy\, clothes\, textiles\, and fibres are kept at their highest value during use and reenter the economy afterwards\, never-ending up as waste. This vision is distinct and complements ongoing efforts to make the textiles system more sustainable by minimising its negative impacts. (EN)
URL:https://www.munichfabricstart.com/en/event/the-vision-of-a-new-textiles-economy/
LOCATION:Halle 6 / Kohlebunker / Zenith Areal
CATEGORIES:Mini Lecture
END:VEVENT
BEGIN:VEVENT
DTSTART;TZID=Europe/Berlin:20210831T170000
DTEND;TZID=Europe/Berlin:20210831T173000
DTSTAMP:20260424T075815
CREATED:20210817T044628Z
LAST-MODIFIED:20210817T044628Z
UID:1822-1630429200-1630431000@www.munichfabricstart.com
SUMMARY:BLUE LENZ DENIM VIDEO AWARDS X BLUEZONE
DESCRIPTION:The best in our industry will be highlighted and championed to credit the people and teams behind each of the denim videos in 8 different categories. (EN)
URL:https://www.munichfabricstart.com/en/event/blue-lenz-denim-video-awards-x-bluezone/
LOCATION:Halle 6 / Kohlebunker / Zenith Areal
CATEGORIES:Presentation
END:VEVENT
BEGIN:VEVENT
DTSTART;TZID=Europe/Berlin:20210831T160000
DTEND;TZID=Europe/Berlin:20210831T170000
DTSTAMP:20260424T075815
CREATED:20210817T042856Z
LAST-MODIFIED:20210817T042856Z
UID:1821-1630425600-1630429200@www.munichfabricstart.com
SUMMARY:Closing the loop - How circular can the Supply Chain be?
DESCRIPTION:The textile cycle should be closed – but how? Can circularity and good design be reconciled?\nAnd where are the limits? (EN)
URL:https://www.munichfabricstart.com/en/event/circularity-in-the-fashion-supply-chain/
LOCATION:Halle 6 / Kohlebunker / Zenith Areal
CATEGORIES:Circularity Panel
END:VEVENT
BEGIN:VEVENT
DTSTART;TZID=Europe/Berlin:20210831T150000
DTEND;TZID=Europe/Berlin:20210831T160000
DTSTAMP:20260424T075815
CREATED:20210817T041437Z
LAST-MODIFIED:20210817T041437Z
UID:1820-1630422000-1630425600@www.munichfabricstart.com
SUMMARY:Local Manufacturing - a reality or just a temporary green gimmick?
DESCRIPTION:Panel Discussion about urban local manufacturing philosophy with the help of automation\, digitized software and blockchain. Nowadays the apparel sector is facing new challenges to shift from low cost suppliers to local sources in the European neighbourhood. (EN)
URL:https://www.munichfabricstart.com/en/event/local-manufacturing-a-reality-or-just-a-temporary-green-gimmick/
LOCATION:Halle 6 / Kohlebunker / Zenith Areal
CATEGORIES:Panel Discussion
END:VEVENT
BEGIN:VEVENT
DTSTART;TZID=Europe/Berlin:20210831T133000
DTEND;TZID=Europe/Berlin:20210831T150000
DTSTAMP:20260424T075815
CREATED:20210816T181909Z
LAST-MODIFIED:20210816T181909Z
UID:1819-1630416600-1630422000@www.munichfabricstart.com
SUMMARY:NEWTOPIA OR DYSTOPIA - How to design and inspire such a polarised world?
DESCRIPTION:Are we moving to a new landscape\, where from science to the creative industries\, there is new focus on innovation that great things can be achieved in a small space of time\, that boundaries can be broken in a new\, collaborative way of working? Or have we missed an opportunity to change our world as we crave security and the familiarity of how it was\, stoking ever greater inequality\, generational wars and dystopian visions over climate change. How to design and inspire such a polarised world? (EN)
URL:https://www.munichfabricstart.com/en/event/newtopia-or-dystopia/
LOCATION:Halle 6 / Kohlebunker / Zenith Areal
CATEGORIES:Keynote
END:VEVENT
BEGIN:VEVENT
DTSTART;TZID=Europe/Berlin:20210831T130000
DTEND;TZID=Europe/Berlin:20210831T133000
DTSTAMP:20260424T075815
CREATED:20210816T181638Z
LAST-MODIFIED:20210816T181638Z
UID:1818-1630414800-1630416600@www.munichfabricstart.com
SUMMARY:What Should the Textile Industry of the Future Look Like?
DESCRIPTION:When it comes to securing the future for the textile\, clothes and fashion industry we need to understand that the only sustainable way to do business is not just to try to be a little less bad\, but rather find opportunities that are truly good and\ninnovative in order to get there. (EN)
URL:https://www.munichfabricstart.com/en/event/what-should-the-textile-industry-of-the-future-look-like/
LOCATION:Halle 6 / Kohlebunker / Zenith Areal
CATEGORIES:Mini Lecture
END:VEVENT
BEGIN:VEVENT
DTSTART;TZID=Europe/Berlin:20210831T123000
DTEND;TZID=Europe/Berlin:20210831T130000
DTSTAMP:20260424T075815
CREATED:20210816T180724Z
LAST-MODIFIED:20210816T180724Z
UID:1817-1630413000-1630414800@www.munichfabricstart.com
SUMMARY:Diving into the BLUEZONE Denim Trends
DESCRIPTION:Explore the next denim influences between the lines. (EN)
URL:https://www.munichfabricstart.com/en/event/diving-into-the-bluezone-denim-trends/
LOCATION:Halle 6 / Kohlebunker / Zenith Areal
CATEGORIES:Trend Presentation
END:VEVENT
END:VCALENDAR