BEGIN:VCALENDAR
VERSION:2.0
PRODID:-//MUNICH FABRIC START - ECPv6.15.12.2//NONSGML v1.0//EN
CALSCALE:GREGORIAN
METHOD:PUBLISH
X-ORIGINAL-URL:https://www.munichfabricstart.com/en/
X-WR-CALDESC:Events for MUNICH FABRIC START
REFRESH-INTERVAL;VALUE=DURATION:PT1H
X-Robots-Tag:noindex
X-PUBLISHED-TTL:PT1H
BEGIN:VTIMEZONE
TZID:Europe/Berlin
BEGIN:DAYLIGHT
TZOFFSETFROM:+0100
TZOFFSETTO:+0200
TZNAME:CEST
DTSTART:20240331T010000
END:DAYLIGHT
BEGIN:STANDARD
TZOFFSETFROM:+0200
TZOFFSETTO:+0100
TZNAME:CET
DTSTART:20241027T010000
END:STANDARD
BEGIN:DAYLIGHT
TZOFFSETFROM:+0100
TZOFFSETTO:+0200
TZNAME:CEST
DTSTART:20250330T010000
END:DAYLIGHT
BEGIN:STANDARD
TZOFFSETFROM:+0200
TZOFFSETTO:+0100
TZNAME:CET
DTSTART:20251026T010000
END:STANDARD
BEGIN:DAYLIGHT
TZOFFSETFROM:+0100
TZOFFSETTO:+0200
TZNAME:CEST
DTSTART:20260329T010000
END:DAYLIGHT
BEGIN:STANDARD
TZOFFSETFROM:+0200
TZOFFSETTO:+0100
TZNAME:CET
DTSTART:20261025T010000
END:STANDARD
END:VTIMEZONE
BEGIN:VEVENT
DTSTART;TZID=Europe/Berlin:20250902T153000
DTEND;TZID=Europe/Berlin:20250902T160000
DTSTAMP:20260421T172409
CREATED:20250614T092956Z
LAST-MODIFIED:20250614T092956Z
UID:9841-1756827000-1756828800@www.munichfabricstart.com
SUMMARY:The Fabric Connector - Better Materials\, Better Business 
DESCRIPTION:Why sustainable fabric choices are no longer just ethical – they’re strategic.
URL:https://www.munichfabricstart.com/en/event/the-fabric-connector-better-materials-better-business/
LOCATION:THE STAGE | MOC – Hall 2
CATEGORIES:Sustainability Talk
END:VEVENT
BEGIN:VEVENT
DTSTART;TZID=Europe/Berlin:20250902T150000
DTEND;TZID=Europe/Berlin:20250902T153000
DTSTAMP:20260421T172409
CREATED:20250729T144304Z
LAST-MODIFIED:20250729T144304Z
UID:9972-1756825200-1756827000@www.munichfabricstart.com
SUMMARY:WKS Textilveredlungs-GmbH: Outsource Smart – Key Success Factors Along the Textile Supply Chain
DESCRIPTION:Why End-to-End Outsourcing from Raw Material to Returns Is the Way Forward
URL:https://www.munichfabricstart.com/en/event/wks-textilveredlungs-gmbh-outsource-smart-key-success-factors-along-the-textile-supply-chain/
LOCATION:THE STAGE | MOC – Hall 2
CATEGORIES:Educational Talk
END:VEVENT
BEGIN:VEVENT
DTSTART;TZID=Europe/Berlin:20250902T143000
DTEND;TZID=Europe/Berlin:20250902T150000
DTSTAMP:20260421T172409
CREATED:20250614T091531Z
LAST-MODIFIED:20250614T091932Z
UID:9820-1756823400-1756825200@www.munichfabricstart.com
SUMMARY:Kombinat Konopny - Field to Fabric European Hemp Textiles
DESCRIPTION:
URL:https://www.munichfabricstart.com/en/event/kombinat-konopie-field-to-fabric-european-hemp-textiles/
LOCATION:THE STAGE | MOC – Hall 2
CATEGORIES:Sustainability Talk
END:VEVENT
BEGIN:VEVENT
DTSTART;TZID=Europe/Berlin:20250902T140000
DTEND;TZID=Europe/Berlin:20250902T143000
DTSTAMP:20260421T172409
CREATED:20250808T141503Z
LAST-MODIFIED:20250808T141503Z
UID:10052-1756821600-1756823400@www.munichfabricstart.com
SUMMARY:Shape Innovate: MAPPING FASHION 2035 – A Practical Roadmap for the Fashion and Textile Industry
DESCRIPTION:An industry-wide overview of where fashion and textiles stand today — and a practical look at the sustainability milestones the sector must hit by 2035. The session will provide a realistic\, actionable timeline addressing the challenges and opportunities across Luxury\, Fast Fashion\, and Ultra-Fast Fashion.\n\nJoin Muchaneta ten Napel on this insightful journey towards the future of fashion.
URL:https://www.munichfabricstart.com/en/event/shape-innovate-mapping-fashion-2035-a-practical-roadmap-for-the-fashion-and-textile-industry-2/
LOCATION:THE STAGE | MOC – Hall 2
CATEGORIES:Mini Lecture
END:VEVENT
BEGIN:VEVENT
DTSTART;TZID=Europe/Berlin:20250902T130000
DTEND;TZID=Europe/Berlin:20250902T140000
DTSTAMP:20260421T172409
CREATED:20250808T135704Z
LAST-MODIFIED:20250808T135704Z
UID:10045-1756818000-1756821600@www.munichfabricstart.com
SUMMARY:CIRCULARITY IN FOCUS – Beyond the Hype: Practical Strategies for a Circular Fashion System
DESCRIPTION:Navigating the New Textile Economy: A deep dive into the challenges and opportunities of textile circularity\, featuring insights from a manufacturer\, a sustainability expert\, a sourcing platform\, and a policy consultant. Discover how innovative technologies\, strategic partnerships\, and a data-driven approach are reshaping the future of fashion and textiles.
URL:https://www.munichfabricstart.com/en/event/circularity-in-focus-beyond-the-hype-practical-strategies-for-a-circular-fashion-system/
LOCATION:THE STAGE | MOC – Hall 2
CATEGORIES:Circularity Panel
END:VEVENT
BEGIN:VEVENT
DTSTART;TZID=Europe/Berlin:20250902T120000
DTEND;TZID=Europe/Berlin:20250902T130000
DTSTAMP:20260421T172409
CREATED:20250819T154411Z
LAST-MODIFIED:20250831T102421Z
UID:10195-1756814400-1756818000@www.munichfabricstart.com
SUMMARY:Blue Milestones: Exploring Denim's Cutting Edge in Dyeing\, Tech Features\, Innovation and New Approaches
DESCRIPTION:A Deep Dive into What’s Next in Denim – Redefining the future of denim by exploring pioneering technologies\, ethical dyeing methods\, and the functional innovations that are transforming the industry from fiber to finish.
URL:https://www.munichfabricstart.com/en/event/blue-milestones-exploring-denims-cutting-edge-in-dyeing-tech-features-innovation-and-new-approaches/
LOCATION:THE STAGE | MOC – Hall 2
CATEGORIES:Denim Innovation Talk
END:VEVENT
BEGIN:VEVENT
DTSTART;TZID=Europe/Berlin:20250902T120000
DTEND;TZID=Europe/Berlin:20250902T130000
DTSTAMP:20260421T172409
CREATED:20250614T085607Z
LAST-MODIFIED:20250728T055424Z
UID:9798-1756814400-1756818000@www.munichfabricstart.com
SUMMARY:Peclers Paris – WOMEN´S FASHION TRENDS FW 26-27 – Urbanisierung als Impulsgeber für einen modernen Look
DESCRIPTION:Immer mehr Menschen leben in Städten und machen sie zu den wichtigsten Lebensräumen der Zukunft. Diese Urbanisierung beeinflusst Modetrends: Funktionale\, innovative und vielseitige Kleidung hilft uns\, den alltäglichen Herausforderungen zu begegnen. Wandelbare Outfits werden inspiriert von Architektur und Vielfalt der Städte; nachhaltige Materialien und clevere Accessoires stehen im Fokus. Streetwear verschmilzt mit High Fashion. So entsteht eine Mode\, die das urbane Lebensgefühl widerspiegelt und individuelle Ausdrucksformen ermöglicht.
URL:https://www.munichfabricstart.com/en/event/peclers-paris-womens-fashion-trends-autumn-winter-26-27/
LOCATION:Room K1 in front of Hall 1 | MOC
CATEGORIES:Trend Presentation
END:VEVENT
BEGIN:VEVENT
DTSTART;TZID=Europe/Berlin:20250902T113000
DTEND;TZID=Europe/Berlin:20250902T120000
DTSTAMP:20260421T172409
CREATED:20250614T090340Z
LAST-MODIFIED:20250614T090353Z
UID:9810-1756812600-1756814400@www.munichfabricstart.com
SUMMARY:BIOTEXFUTURE – New textile bio-innovations: Providing an outlook for 2025 & 2026
DESCRIPTION:
URL:https://www.munichfabricstart.com/en/event/biotexfuture-new-textile-bio-innovations-providing-an-outlook-for-2025-2026/
LOCATION:THE STAGE | MOC – Hall 2
CATEGORIES:Educational Session
END:VEVENT
BEGIN:VEVENT
DTSTART;TZID=Europe/Berlin:20250902T110000
DTEND;TZID=Europe/Berlin:20250902T113000
DTSTAMP:20260421T172409
CREATED:20250614T091258Z
LAST-MODIFIED:20250724T182323Z
UID:9814-1756810800-1756812600@www.munichfabricstart.com
SUMMARY:BLUEZONE TRENDS: NEXUS – EXCLUSIVE DENIM TRENDS
DESCRIPTION:A deep blue dive into key cores of today & tomorrow.\nInfluencing brand management\, looks & products.
URL:https://www.munichfabricstart.com/en/event/bluezone-trends-nexus-exclusive-denim-trends/
LOCATION:THE STAGE | MOC – Hall 2
CATEGORIES:Trend Presentation
END:VEVENT
BEGIN:VEVENT
DTSTART;TZID=Europe/Berlin:20250902T103000
DTEND;TZID=Europe/Berlin:20250902T110000
DTSTAMP:20260421T172409
CREATED:20250614T090036Z
LAST-MODIFIED:20250724T155343Z
UID:9805-1756809000-1756810800@www.munichfabricstart.com
SUMMARY:Sustainable Innovations - Key Conversation and Deep Dive about Future-oriented Sustainable Material Developments
DESCRIPTION:Join Simon Angel and material experts for an inspirational talk about future-proof material solutions that will add value to a sustainable and circular industry.
URL:https://www.munichfabricstart.com/en/event/key-conversation-and-deep-dive-about-future-oriented-sustainable-material-developments-7/
LOCATION:THE STAGE | MOC – Hall 2
CATEGORIES:Innovation Talk
END:VEVENT
BEGIN:VEVENT
DTSTART;TZID=Europe/Berlin:20250122T160000
DTEND;TZID=Europe/Berlin:20250122T170000
DTSTAMP:20260421T172409
CREATED:20250114T164107Z
LAST-MODIFIED:20250114T164107Z
UID:9208-1737561600-1737565200@www.munichfabricstart.com
SUMMARY:GHG emissions\, Biodiversity\, Social improvements – How to implement positive impacts within your own value chain?
DESCRIPTION:Buzzwords like CSRD\, PEF\, CSDDD\, ESG are everywhere … and NOW WHAT?
URL:https://www.munichfabricstart.com/en/event/ghg-emissions-biodiversity-social-improvements-how-to-implement-positive-impacts-within-your-own-value-chain/
LOCATION:THE STAGE | Keyhouse – Hall 7
CATEGORIES:Educational Session
END:VEVENT
BEGIN:VEVENT
DTSTART;TZID=Europe/Berlin:20250122T150000
DTEND;TZID=Europe/Berlin:20250122T160000
DTSTAMP:20260421T172409
CREATED:20250114T153022Z
LAST-MODIFIED:20250117T081347Z
UID:9199-1737558000-1737561600@www.munichfabricstart.com
SUMMARY:Blue Milestones: Exploring Denim's Cutting Edge in Dyeing\, Tech Features\, Innovation and New Approaches. A Deep Dive into What's Next in Denim.
DESCRIPTION:All about ORTA ANADOLU’s new dyeing techniques and recent collaborations with Citizens of Humanity and Pili on bio-indigo\, a new indigo dyestuff made through fermentation and chemical process as an alternative to synthetic indigo & CALIK DENIM’s novelties in their new ENVISIONAGE collection featuring Japanese Denim\, softness and comfort\, luxury denim and multifunctional features. SHARABATI will share their new App and give information about trends and how they are used in their concepts.
URL:https://www.munichfabricstart.com/en/event/blue-milestones-exploring-denims-cutting-edge-in-dyeing-and-tech-features/
LOCATION:THE STAGE | Keyhouse – Hall 7
CATEGORIES:Denim Innovation Talk
END:VEVENT
BEGIN:VEVENT
DTSTART;TZID=Europe/Berlin:20250122T150000
DTEND;TZID=Europe/Berlin:20250122T160000
DTSTAMP:20260421T172409
CREATED:20250110T095249Z
LAST-MODIFIED:20250110T095249Z
UID:9004-1737558000-1737561600@www.munichfabricstart.com
SUMMARY:ENDRIME® x Brother x ISKO™ x Coats: Denim Masterclass Front Fly (J Stitch)
DESCRIPTION:Join Denim Professor Mohsin Sajid. in an examination of Front Fly stitches\, stitching sizes – How it can make or break a jean. From single to twin needle stitching. Each participant will learn many different construction methods – from fast fashion to the premium one piece continuous fly method. Medium to advanced sewers. Limited to 12 People.
URL:https://www.munichfabricstart.com/en/event/endrime-x-brother-x-isko-x-coats-denim-masterclass-front-fly-j-stitch-2/
LOCATION:BLUEZONE | Hall 7 – Booth C 01
CATEGORIES:Workshop
END:VEVENT
BEGIN:VEVENT
DTSTART;TZID=Europe/Berlin:20250122T143000
DTEND;TZID=Europe/Berlin:20250122T150000
DTSTAMP:20260421T172409
CREATED:20250114T140910Z
LAST-MODIFIED:20250114T140910Z
UID:9195-1737556200-1737558000@www.munichfabricstart.com
SUMMARY:DTB X ITA AUGSBURG: Durch Kooperationen auf dem Weg in die Kreislaufwirtschaft am Praxisbeispiel Textilrecycling
DESCRIPTION:Update zu DTB AK Recycling & die aktuellen Projekte des ITA Augsburg
URL:https://www.munichfabricstart.com/en/event/dtb-x-ita-augsburg-durch-kooperationen-auf-dem-weg-in-die-kreislaufwirtschaft-am-praxisbeispiel-textilrecycling/
LOCATION:TREND LECTURES | MOC – Halle 2
CATEGORIES:Circularity Talk
END:VEVENT
BEGIN:VEVENT
DTSTART;TZID=Europe/Berlin:20250122T143000
DTEND;TZID=Europe/Berlin:20250122T150000
DTSTAMP:20260421T172409
CREATED:20250113T152209Z
LAST-MODIFIED:20250113T152209Z
UID:9101-1737556200-1737558000@www.munichfabricstart.com
SUMMARY:Upcycling Farm by Datini Fibres | Embracing Imperfections
DESCRIPTION:
URL:https://www.munichfabricstart.com/en/event/upcycling-farm-by-datini-fibres-embracing-imperfections/
LOCATION:THE STAGE | Keyhouse – Hall 7
CATEGORIES:Sustainability Talk
END:VEVENT
BEGIN:VEVENT
DTSTART;TZID=Europe/Berlin:20250122T140000
DTEND;TZID=Europe/Berlin:20250122T150000
DTSTAMP:20260421T172409
CREATED:20250114T170034Z
LAST-MODIFIED:20250114T171731Z
UID:9212-1737554400-1737558000@www.munichfabricstart.com
SUMMARY:Calling all positive changemakers: What hurdles do you encounter within your company/brand? Join us to explore opportunities for the drivers of change: CSR\, Design\, Procurement
DESCRIPTION:We invite you to a dynamic and thought-provoking roundtable discussion designed to explore opportunities for these drivers of change (CSR\, design\, procurement)\, within the textile and fashion industries. \n📌 Key Topics of Discussion: \n\nHow do we (as innovators and suppliers) empower the “changemakers” (the internal project managers) within companies to drive positive change?\nHow can we improve and activate business development between innovators and brands?\nWhat matters most for brands to integrate new material sources: Is it the aesthetics\, or the positive impact created?\n\nYour Hosts:\n🎤 Simon Angel (Sustainable Innovations Curator) and Niccy Kol (regenerative Business Developer) will open the conversation by sharing example cases and insights to inspire a lively exchange of ideas\, frustrations\, and actionable solutions. \nLet’s spark change together! We look forward to seeing you there.
URL:https://www.munichfabricstart.com/en/event/9212/
LOCATION:ROUND TABLE | Bluezone – Hall 7
CATEGORIES:Open Conversation
END:VEVENT
BEGIN:VEVENT
DTSTART;TZID=Europe/Berlin:20250122T140000
DTEND;TZID=Europe/Berlin:20250122T150000
DTSTAMP:20260421T172409
CREATED:20250110T091030Z
LAST-MODIFIED:20250115T165754Z
UID:8971-1737554400-1737558000@www.munichfabricstart.com
SUMMARY:HMS Creativity Pod X Bluezone – Denim Design Workshop
DESCRIPTION:The Bluezone x HMS Creativity Pod is a dynamic space where attendees can witness live denim customization led by renowned designers Federico Barengo and Andrea Grossi. Using sustainable techniques and tools like the HMS Designer Pen\, these workshops will transform fabrics and upcycle garments into unique\, eco-friendly masterpieces. \nGet ready for an exciting journey where creativity meets sustainability in denim customization. We’ve teamed up with two incredible designers to bring you hands-on experiences and inspiring discussions. \nMeet the Designers: \n\nAndrea Grossi: Known for his avant-garde designs\, Andrea combines sustainability with cutting-edge fashion\, bringing a unique twist to denim customization.\nFederico Barengo: The mastermind behind Garment Workshop\, Federico’s contemporary streetwear and vast online following make him a key figure in the sustainable fashion movement.\n\nWhat to Expect: \n\nWorkshops: Engage in hands-on activities using our HMS Designer Pen to create your own denim masterpieces.\n\n\nPresentations: Learn from Andrea and Federico as they share insights into sustainable fashion and their creative processes.\n\n\nExhibition: Explore an inspiring display of customized denim pieces that showcase the possibilities of eco-friendly customization.\n\nAbout HMS:\nHMS is on a mission to revolutionize the denim industry with sustainable solutions. Our innovative products eliminate harmful waste\, reduce resource consumption\, and enhance the creative process. Through collaborations\, workshops\, and educational initiatives\, we connect stakeholders and bridge the gap between industry practices and consumer awareness. \nJoin us at the HMS Creativity Pod for a fun\, engaging\, and insightful experience into the future of sustainable denim! \n 
URL:https://www.munichfabricstart.com/en/event/hms-creativity-pod-x-bluezone-denim-design-workshop-2/
LOCATION:BLUEZONE | Hall 7 – Booth C 08
CATEGORIES:Workshop
END:VEVENT
BEGIN:VEVENT
DTSTART;TZID=Europe/Berlin:20250122T140000
DTEND;TZID=Europe/Berlin:20250122T143000
DTSTAMP:20260421T172409
CREATED:20250114T140606Z
LAST-MODIFIED:20250114T140659Z
UID:9189-1737554400-1737556200@www.munichfabricstart.com
SUMMARY:DTB X RWTH AACHEN: Europäische Anforderungen an die Kreislaufwirtschaft – ein Update
DESCRIPTION:
URL:https://www.munichfabricstart.com/en/event/europaeische-anforderungen-an-die-kreislaufwirtschaft-ein-update/
LOCATION:TREND LECTURES | MOC – Halle 2
CATEGORIES:Circularity Talk
END:VEVENT
BEGIN:VEVENT
DTSTART;TZID=Europe/Berlin:20250122T133000
DTEND;TZID=Europe/Berlin:20250122T143000
DTSTAMP:20260421T172409
CREATED:20250113T162047Z
LAST-MODIFIED:20250113T173621Z
UID:9111-1737552600-1737556200@www.munichfabricstart.com
SUMMARY:CIRCULARITY EXPERT PANEL: From Waste to Resource – Building a Circular Future for Textiles
DESCRIPTION:Innovating Circularity Through Technology\, Recycling\, and Sustainable Solutions \nDon’t miss this engaging session where industry leaders come together to reimagine the future of textiles! Dive into an inspiring conversation about innovative strategies transforming the industry toward a circular economy. This is your chance to explore cutting-edge solutions for end-of-life textiles and textile-to-textile (T2T) recycling\, all powered by advanced technology and smart waste management. \nModerated by the Muchaneta ten Napel\, this discussion will feature top industry pioneers sharing their insights on reducing waste\, conserving resources\, and paving the way for a sustainable\, resilient future in fashion and textiles.
URL:https://www.munichfabricstart.com/en/event/circularity-expert-panel-from-waste-to-resource-building-a-circular-future-for-textiles/
LOCATION:THE STAGE | Keyhouse – Hall 7
CATEGORIES:Circularity Panel
END:VEVENT
BEGIN:VEVENT
DTSTART;TZID=Europe/Berlin:20250122T130000
DTEND;TZID=Europe/Berlin:20250122T140000
DTSTAMP:20260421T172409
CREATED:20250110T094623Z
LAST-MODIFIED:20250110T094623Z
UID:8995-1737550800-1737554400@www.munichfabricstart.com
SUMMARY:ENDRIME® x Brother x ISKO™ x Coats: Denim Masterclass Front Scoops
DESCRIPTION:Join Denim Professor Mohsin Sajid\, in an examination of the evolution of the Front Scoop pockets.\nThe types of shapes and sizes which popular denim brands use. Together we will examine 1/8” to 3/16”s to 1/4” and everything in between.\nEach Participant will get a chance to sew their own Front Scoop design in our fully operational denim workshop.\nMedium to advanced sewers. Limited to 12 People.
URL:https://www.munichfabricstart.com/en/event/endrime-x-brother-x-isko-x-coats-denim-masterclass-front-scoops-2/
LOCATION:BLUEZONE | Hall 7 – Booth C 01
CATEGORIES:Workshop
END:VEVENT
BEGIN:VEVENT
DTSTART;TZID=Europe/Berlin:20250122T113000
DTEND;TZID=Europe/Berlin:20250122T123000
DTSTAMP:20260421T172409
CREATED:20250109T174905Z
LAST-MODIFIED:20250114T171343Z
UID:8937-1737545400-1737549000@www.munichfabricstart.com
SUMMARY:Synovance & Sonovia: All about Dyeing – New sustainable solutions for indigo dyeing
DESCRIPTION:By 2029\, traditional dyeing process will no longer be viable. Sonovia & Synovance are offering game changing technologies to solve major sustainable issues of the traditional indigo dyeing process.
URL:https://www.munichfabricstart.com/en/event/synovance-sonovia-all-about-dyeing-new-sustainable-solutions-for-indigo-dyeing-2/
LOCATION:ROUND TABLE | Bluezone – Hall 7
CATEGORIES:Innovation Talk
END:VEVENT
BEGIN:VEVENT
DTSTART;TZID=Europe/Berlin:20250122T113000
DTEND;TZID=Europe/Berlin:20250122T123000
DTSTAMP:20260421T172409
CREATED:20241216T144959Z
LAST-MODIFIED:20250110T080420Z
UID:8783-1737545400-1737549000@www.munichfabricstart.com
SUMMARY:TEXroad – In conversation with Traci Kinden: Debunking Textile Data Myths
DESCRIPTION:Join our session with Traci Kinden\, an innovator with over 10 years of experience in circular textiles and director at TEXroad\, the foundation for data as a common language to connect the public and private sectors and optimize the economics and carbon footprint of textile circulation. Traci will debunk misconceptions about textile data and share how industry actors can benefit from putting numbers into action.\n\n\nAs pioneering leader in circular textiles and the director of TEXroad\, Traci will be demystifying the complexities of textile data. The session\, moderated by Muchaneta ten Napel\, explores actionable insights into leveraging data for a sustainable textile industry. Learn how to break through misconceptions\, optimise supply chains\, and embrace data transparency to build a circular economy. The conversation will also unveil the upcoming TEXroad Data Hub\, set to revolutionise how businesses of all sizes approach data-driven solutions. Don’t miss this opportunity to empower your business with practical steps toward sustainability.
URL:https://www.munichfabricstart.com/en/event/texroad-in-conversation-with-traci-kinden-debunking-textile-data-myths/
LOCATION:THE STAGE | Keyhouse – Hall 7
CATEGORIES:Technology Talk
END:VEVENT
BEGIN:VEVENT
DTSTART;TZID=Europe/Berlin:20250122T110000
DTEND;TZID=Europe/Berlin:20250122T120000
DTSTAMP:20260421T172409
CREATED:20250110T093220Z
LAST-MODIFIED:20250110T103315Z
UID:8987-1737543600-1737547200@www.munichfabricstart.com
SUMMARY:ENDRIME® x Brother x ISKO™ x Coats: Denim Masterclass Back Pockets
DESCRIPTION:Join Denim Professor Mohsin Sajid\, and examine key back pocket shapes and arcuate stitching from early workwear from the 1870s to present day. Each participant will get a chance to sew their own back pocket design in our fully operational denim workshop. Learn secrets to a perfect back pocket\, from concealed rivets to blind bar tacks. Medium to advanced sewers. Limited to 12 People
URL:https://www.munichfabricstart.com/en/event/endrime-x-brother-x-isko-x-coats-denim-masterclass-back-pockets-2/
LOCATION:BLUEZONE | Hall 7 – Booth C 01
CATEGORIES:Workshop
END:VEVENT
BEGIN:VEVENT
DTSTART;TZID=Europe/Berlin:20250122T110000
DTEND;TZID=Europe/Berlin:20250122T120000
DTSTAMP:20260421T172409
CREATED:20241219T155046Z
LAST-MODIFIED:20241219T155340Z
UID:8870-1737543600-1737547200@www.munichfabricstart.com
SUMMARY:Munich Fabric Start X O/M COLLECTIVE: FLORESCENCE – Colours\, Fabrics\, Styling (Wo)Mens Key Trends for Spring/Summer 2026
DESCRIPTION:Unter dem Namen o/m collective führen Katharina Majorek und Volker Orthmann ein Stilbüro in Düsseldorf. \nIhr Schwerpunkt liegt auf der Entwicklung von Trendpublikationen\, Farb- und Modekonzepten. Seit 2023 sind sie für die Leitfarben und Trends der MUNICH FABRIC START verantwortlich. In diesem exklusiven Trendvortrag informieren Katharina Majorek und Volker Orthmann über die Farben\, Stoffe und Stylings für die Womens- und Menswear der Saison Spring.Summer 26.
URL:https://www.munichfabricstart.com/en/event/o-m-collective-x-munich-fabric-start-florescence-colours-fabrics-styling-womens-key-trends-for-spring-summer-2026/
LOCATION:MOC – Hall 2
CATEGORIES:Trend Presentation
END:VEVENT
BEGIN:VEVENT
DTSTART;TZID=Europe/Berlin:20250122T110000
DTEND;TZID=Europe/Berlin:20250122T113000
DTSTAMP:20260421T172409
CREATED:20250115T121817Z
LAST-MODIFIED:20250120T164052Z
UID:9241-1737543600-1737545400@www.munichfabricstart.com
SUMMARY:Berto – Where Tradition Meets Innovation
DESCRIPTION:Exploring Premium Denim with a Focus on Sustainability and Italian Heritage
URL:https://www.munichfabricstart.com/en/event/berto-where-tradition-meets-innovation/
LOCATION:ROUND TABLE | Bluezone – Hall 7
CATEGORIES:Denim Talk
END:VEVENT
BEGIN:VEVENT
DTSTART;TZID=Europe/Berlin:20250122T110000
DTEND;TZID=Europe/Berlin:20250122T113000
DTSTAMP:20260421T172409
CREATED:20250113T120712Z
LAST-MODIFIED:20250118T142729Z
UID:9082-1737543600-1737545400@www.munichfabricstart.com
SUMMARY:TURNS faserkreislauf X dm-Drogerie markt: Kreislaufwirtschaft – vom Pilot zum Alltag
DESCRIPTION:Ein Einblick zur umfänglichen Umsetzung von Textilrecycling anhand der Zusammenarbeit von DM x TURNS faserkreislauf.\n\nWie kommen Altkleider zurück in den Kreislauf? Wie kommt die recycelte Faser wieder in ein neues Textil? Und warum lohnt es sich schon jetzt Prozesse in Kreisläufen zu denken? DM und TURNS faserkreislauf legen Herausforderungen und Meilensteine der Zusammenarbeit offen.
URL:https://www.munichfabricstart.com/en/event/turns-faserkreislauf-x-dm-drogeriemarkt-kreislaufwirtschaft-vom-pilot-zum-alltag/
LOCATION:THE STAGE | Keyhouse – Hall 7
CATEGORIES:Recycling Panel
END:VEVENT
BEGIN:VEVENT
DTSTART;TZID=Europe/Berlin:20250122T103000
DTEND;TZID=Europe/Berlin:20250122T110000
DTSTAMP:20260421T172409
CREATED:20241216T125915Z
LAST-MODIFIED:20241217T161607Z
UID:8755-1737541800-1737543600@www.munichfabricstart.com
SUMMARY:Key Conversation and Deep Dive about Future-oriented Sustainable Material Developments
DESCRIPTION:Join Simon Angel and material experts for an inspirational talk about future-proof material solutions that will add value to a sustainable and circular industry.
URL:https://www.munichfabricstart.com/en/event/key-conversation-and-deep-dive-about-future-oriented-sustainable-material-developments-6/
LOCATION:THE STAGE | Keyhouse – Hall 7
CATEGORIES:Innovation Talk
END:VEVENT
BEGIN:VEVENT
DTSTART;TZID=Europe/Berlin:20250122T100000
DTEND;TZID=Europe/Berlin:20250122T110000
DTSTAMP:20260421T172409
CREATED:20250110T185158Z
LAST-MODIFIED:20250110T185158Z
UID:9022-1737540000-1737543600@www.munichfabricstart.com
SUMMARY:All-Holder-Value: Wie die Remei AG eine transparente Wertschöpfungskette & den Systemwandel in der Textilindustrie vorantreibt
DESCRIPTION:Die Remei AG revolutioniert seit 1991 die Textilindustrie durch eine transparente und smallholder-inclusive Wertschöpfungskette.\nVom Anbau der Bio-Baumwolle bis zum fertigen Produkt setzt Remei auf Transparenz und verbindliche Beziehungen. Das Unternehmen bietet B2B-Partnern mit hochwertigen\, rückverfolgbaren Bio-Baumwoll-Textilien den Zugang zu einem innovativen fibre-to-fashion-System. Das Unternehmen zeigt\, dass eine nachhaltige Textilproduktion nicht nur sinnvoll ist\, sondern auch wirtschaftlich erfolgreich sein kann. In diesem Impulsvortrag erfahren Sie\, wie durch gemeinsame Kooperationen die Chance zum Systemwandel entsteht.
URL:https://www.munichfabricstart.com/en/event/all-holder-value-wie-die-remei-ag-eine-transparente-wertschoepfungskette-den-systemwandel-in-der-textilindustrie-vorantreibt/
LOCATION:TREND LECTURES | MOC – Halle 2
CATEGORIES:Impulsvortrag
END:VEVENT
BEGIN:VEVENT
DTSTART;TZID=Europe/Berlin:20250122T100000
DTEND;TZID=Europe/Berlin:20250122T110000
DTSTAMP:20260421T172409
CREATED:20241215T123604Z
LAST-MODIFIED:20250115T125953Z
UID:9254-1737540000-1737543600@www.munichfabricstart.com
SUMMARY:ENDRIME® – Historical Denim Patents and Future Denim Constructions
DESCRIPTION:
URL:https://www.munichfabricstart.com/en/event/endrime-historical-denim-patents-and-future-denim-constructions/
LOCATION:ROUND TABLE | Bluezone – Hall 7
CATEGORIES:Denim Talk
END:VEVENT
BEGIN:VEVENT
DTSTART;TZID=Europe/Berlin:20250122T100000
DTEND;TZID=Europe/Berlin:20250122T103000
DTSTAMP:20260421T172409
CREATED:20241216T125507Z
LAST-MODIFIED:20241217T161626Z
UID:8747-1737540000-1737541800@www.munichfabricstart.com
SUMMARY:MONSIEUR-T.: THE CORE – EXCLUSIVE BLUEZONE DENIM TRENDS
DESCRIPTION:A deep blue dive into key cores of today & tomorrow. Influencing brand management\, looks & products.
URL:https://www.munichfabricstart.com/en/event/monsieur-t-the-core-exclusive-bluezone-denim-trends/
LOCATION:THE STAGE | Keyhouse – Hall 7
CATEGORIES:Trend Presentation
END:VEVENT
END:VCALENDAR