BEGIN:VCALENDAR
VERSION:2.0
PRODID:-//MUNICH FABRIC START - ECPv6.15.12.2//NONSGML v1.0//EN
CALSCALE:GREGORIAN
METHOD:PUBLISH
X-ORIGINAL-URL:https://www.munichfabricstart.com/en/
X-WR-CALDESC:Events for MUNICH FABRIC START
REFRESH-INTERVAL;VALUE=DURATION:PT1H
X-Robots-Tag:noindex
X-PUBLISHED-TTL:PT1H
BEGIN:VTIMEZONE
TZID:Europe/Berlin
BEGIN:DAYLIGHT
TZOFFSETFROM:+0100
TZOFFSETTO:+0200
TZNAME:CEST
DTSTART:20230326T010000
END:DAYLIGHT
BEGIN:STANDARD
TZOFFSETFROM:+0200
TZOFFSETTO:+0100
TZNAME:CET
DTSTART:20231029T010000
END:STANDARD
BEGIN:DAYLIGHT
TZOFFSETFROM:+0100
TZOFFSETTO:+0200
TZNAME:CEST
DTSTART:20240331T010000
END:DAYLIGHT
BEGIN:STANDARD
TZOFFSETFROM:+0200
TZOFFSETTO:+0100
TZNAME:CET
DTSTART:20241027T010000
END:STANDARD
BEGIN:DAYLIGHT
TZOFFSETFROM:+0100
TZOFFSETTO:+0200
TZNAME:CEST
DTSTART:20250330T010000
END:DAYLIGHT
BEGIN:STANDARD
TZOFFSETFROM:+0200
TZOFFSETTO:+0100
TZNAME:CET
DTSTART:20251026T010000
END:STANDARD
BEGIN:DAYLIGHT
TZOFFSETFROM:+0100
TZOFFSETTO:+0200
TZNAME:CEST
DTSTART:20260329T010000
END:DAYLIGHT
BEGIN:STANDARD
TZOFFSETFROM:+0200
TZOFFSETTO:+0100
TZNAME:CET
DTSTART:20261025T010000
END:STANDARD
END:VTIMEZONE
BEGIN:VEVENT
DTSTART;TZID=Europe/Berlin:20250121T120000
DTEND;TZID=Europe/Berlin:20250121T123000
DTSTAMP:20260423T114931
CREATED:20241218T230902Z
LAST-MODIFIED:20250110T124710Z
UID:8860-1737460800-1737462600@www.munichfabricstart.com
SUMMARY:Introducing LOOPER Textile Co – A second life for unwanted garments
DESCRIPTION:Ready to be inspired to rethink the lifecycle of textiles?\n\n\nJoin us for an engaging fireside chat as we introduce Looper Textile Co.\, a pioneering company redefining how the fashion industry tackles textile waste. Through innovative solutions in reuse and recycling\, Looper Textile Co. addresses one of the industry’s most pressing challenges: the staggering volume of garments destined for waste.\n\nIn this session\, Hélène Smits will share the company’s mission\, its action-first “Do First\, Talk Later” strategy\, and the critical role of collaboration among retailers\, policymakers\, and consumers. Moderated by Muchaneta ten Napel\, the conversation will explore cutting-edge innovations in textile recycling\, the distinction between post-consumer and industrial recycled materials\, and the future of circular fashion.
URL:https://www.munichfabricstart.com/en/event/introducing-looper-textile-co-a-second-life-for-unwanted-garments/
LOCATION:THE STAGE | Keyhouse – Hall 7
CATEGORIES:Fireside Chat
END:VEVENT
BEGIN:VEVENT
DTSTART;TZID=Europe/Berlin:20250121T113000
DTEND;TZID=Europe/Berlin:20250121T120000
DTSTAMP:20260423T114931
CREATED:20250109T123750Z
LAST-MODIFIED:20250109T161852Z
UID:8916-1737459000-1737460800@www.munichfabricstart.com
SUMMARY:Synovance & Sonovia: All about Dyeing – New sustainable solutions for indigo dyeing
DESCRIPTION:By 2029\, traditional dyeing process will no longer be viable. Sonovia & Synovance are offering game changing technologies to solve major sustainable issues of the traditional indigo dyeing process.
URL:https://www.munichfabricstart.com/en/event/synovance-sonovia-all-about-dyeing-new-sustainable-solutions-for-indigo-dyeing/
LOCATION:ROUND TABLE | Bluezone – Hall 7
CATEGORIES:Innovation Talk
END:VEVENT
BEGIN:VEVENT
DTSTART;TZID=Europe/Berlin:20250121T113000
DTEND;TZID=Europe/Berlin:20250121T120000
DTSTAMP:20260423T114931
CREATED:20241216T185626Z
LAST-MODIFIED:20241219T123808Z
UID:8805-1737459000-1737460800@www.munichfabricstart.com
SUMMARY:BIOTEXFUTURE – New textile bio-innovations: Providing an outlook for 2025
DESCRIPTION:
URL:https://www.munichfabricstart.com/en/event/biotexfuture-new-textile-bio-innovations-providing-an-outlook-for-2025/
LOCATION:THE STAGE | Keyhouse – Hall 7
CATEGORIES:Innovation Talk
END:VEVENT
BEGIN:VEVENT
DTSTART;TZID=Europe/Berlin:20250121T110000
DTEND;TZID=Europe/Berlin:20250121T120000
DTSTAMP:20260423T114931
CREATED:20250110T092930Z
LAST-MODIFIED:20250110T103416Z
UID:8981-1737457200-1737460800@www.munichfabricstart.com
SUMMARY:ENDRIME® x Brother x ISKO™ x Coats: Denim Masterclass Back Pockets
DESCRIPTION:Join Denim Professor Mohsin Sajid\, and examine key back pocket shapes and arcuate stitching from early workwear from the 1870s to present day. Each participant will get a chance to sew their own back pocket design in our fully operational denim workshop. Learn secrets to a perfect back pocket\, from concealed rivets to blind bar tacks. Medium to advanced sewers. Limited to 12 People
URL:https://www.munichfabricstart.com/en/event/endrime-x-brother-x-isko-x-coats-denim-masterclass-back-pockets/
LOCATION:BLUEZONE | Hall 7 – Booth C 01
CATEGORIES:Workshop
END:VEVENT
BEGIN:VEVENT
DTSTART;TZID=Europe/Berlin:20250121T110000
DTEND;TZID=Europe/Berlin:20250121T113000
DTSTAMP:20260423T114931
CREATED:20250113T171303Z
LAST-MODIFIED:20250113T171303Z
UID:9116-1737457200-1737459000@www.munichfabricstart.com
SUMMARY:Driving Brand Success with 3D and AI [with industry examples]
DESCRIPTION:Learn how interactive showrooms and smart catalogs with 3D fabric and 3D fashion data (AI enhanced) can boost growth and improve your business – featuring real-world success stories.
URL:https://www.munichfabricstart.com/en/event/driving-brand-success-with-3d-and-ai-with-industry-examples/
LOCATION:THE STAGE | Keyhouse – Hall 7
CATEGORIES:Technology Talk
END:VEVENT
BEGIN:VEVENT
DTSTART;TZID=Europe/Berlin:20250121T103000
DTEND;TZID=Europe/Berlin:20250121T110000
DTSTAMP:20260423T114931
CREATED:20241216T125758Z
LAST-MODIFIED:20241217T161839Z
UID:8751-1737455400-1737457200@www.munichfabricstart.com
SUMMARY:Key Conversation and Deep Dive about Future-oriented Sustainable Material Developments
DESCRIPTION:Join Simon Angel and material experts for an inspirational talk about future-proof material solutions that will add value to a sustainable and circular industry.
URL:https://www.munichfabricstart.com/en/event/key-conversation-and-deep-dive-about-future-oriented-sustainable-material-developments-5/
LOCATION:THE STAGE | Keyhouse – Hall 7
CATEGORIES:Innovation Talk
END:VEVENT
BEGIN:VEVENT
DTSTART;TZID=Europe/Berlin:20250121T100000
DTEND;TZID=Europe/Berlin:20250121T103000
DTSTAMP:20260423T114931
CREATED:20241216T125121Z
LAST-MODIFIED:20241217T161902Z
UID:8740-1737453600-1737455400@www.munichfabricstart.com
SUMMARY:MONSIEUR-T.: THE CORE – EXCLUSIVE BLUEZONE DENIM TRENDS
DESCRIPTION:A deep blue dive into key cores of today & tomorrow. Influencing brand management\, looks & products.
URL:https://www.munichfabricstart.com/en/event/bluezone-exclusive-denim-trends-of-the-core/
LOCATION:THE STAGE | Keyhouse – Hall 7
CATEGORIES:Trend Presentation
END:VEVENT
BEGIN:VEVENT
DTSTART;TZID=Europe/Berlin:20240904T170000
DTEND;TZID=Europe/Berlin:20240904T180000
DTSTAMP:20260423T114931
CREATED:20240716T154645Z
LAST-MODIFIED:20240820T131034Z
UID:7596-1725469200-1725472800@www.munichfabricstart.com
SUMMARY:TRUSTRACE X SHAPE INNOVATE – Unlocking the Why\, What and How of Digital Product Passports
DESCRIPTION:A deep dive into Digital Product Passports and Supply Chain Transparency – This session will unlock the potential and guideline for the “How” of DDP. Learn how to move from theoretical sustainability to actionable strategies within the fashion supply chain. Brands and retailers gain valuable knowledge on how the WHY and the WHAT to begin preparing for DPP now and ensure complete inventory transparency.
URL:https://www.munichfabricstart.com/en/event/shape-innovate-x-made2flow-from-data-to-action-the-importance-of-traceability-and-data-accuracy/
LOCATION:TREND LECTURES | Keyhouse – Hall 7
CATEGORIES:Digitisation Talk
END:VEVENT
BEGIN:VEVENT
DTSTART;TZID=Europe/Berlin:20240904T160000
DTEND;TZID=Europe/Berlin:20240904T170000
DTSTAMP:20260423T114931
CREATED:20240716T132655Z
LAST-MODIFIED:20240716T132655Z
UID:7580-1725465600-1725469200@www.munichfabricstart.com
SUMMARY:BIOTEXFUTURE – TransitionLab: Connect. Interact. Improve.
DESCRIPTION:Sharing Results
URL:https://www.munichfabricstart.com/en/event/biotexfuture-transitionlab-connect-interact-improve/
LOCATION:TREND LECTURES | Keyhouse – Hall 7
CATEGORIES:Educational Session
END:VEVENT
BEGIN:VEVENT
DTSTART;TZID=Europe/Berlin:20240904T150000
DTEND;TZID=Europe/Berlin:20240904T160000
DTSTAMP:20260423T114931
CREATED:20240729T172339Z
LAST-MODIFIED:20240729T172539Z
UID:7717-1725462000-1725465600@www.munichfabricstart.com
SUMMARY:Closing the Loop: Breaking Down Barriers in Fiber Recycling for Fashion
DESCRIPTION:Innovations\, Challenges\, and the Path to a Circular Textile Industry.\n\n\nJoin this in-depth panel discussion with industry experts from adidas\, Fashion for Good\, University of Applied Sciences and Säntis Textiles\, moderated by Muchaneta ten Napel from Shape Innovate.
URL:https://www.munichfabricstart.com/en/event/closing-the-loop-breaking-down-barriers-in-fiber-recycling-for-fashion/
LOCATION:TREND LECTURES | Keyhouse – Hall 7
CATEGORIES:Recycling Panel
END:VEVENT
BEGIN:VEVENT
DTSTART;TZID=Europe/Berlin:20240904T140000
DTEND;TZID=Europe/Berlin:20240904T150000
DTSTAMP:20260423T114931
CREATED:20240815T071559Z
LAST-MODIFIED:20240819T100427Z
UID:7911-1725458400-1725462000@www.munichfabricstart.com
SUMMARY:LYCRA® – INTRODUCING A REVOLUTION IN THE WAY YOU DESIGN FOR DENIM – LYCRA FitSense®Denim technology.
DESCRIPTION:For over 60 years\, The LYCRA Company has been at the forefront of fiber innovation and expression – constantly innovating for changing lives and lifestyles. As the leader in fit solutions\, it is our pleasure to announce our latest innovation – LYCRA FitSense®denim technology.\n\nLYCRA FitSense®denim technology is our next game changer – invisible targeted shaping to make every pair of jeans a perfect fit\, for all body types and shapes. Achieved through a combination of fiber\, fabric and garment processing technology\, this latest innovation is a breakthrough approach to deliver a customizable fit and shaping solution to denim.
URL:https://www.munichfabricstart.com/en/event/introducing-a-revolution-in-the-way-you-design-for-denim-lycra-fitsensedenim-technology-2/
LOCATION:ROUND TABLE | Bluezone – Hall 7
CATEGORIES:Educational Session,Educational Talk
END:VEVENT
BEGIN:VEVENT
DTSTART;TZID=Europe/Berlin:20240904T140000
DTEND;TZID=Europe/Berlin:20240904T150000
DTSTAMP:20260423T114931
CREATED:20240726T094341Z
LAST-MODIFIED:20240726T095201Z
UID:7687-1725458400-1725462000@www.munichfabricstart.com
SUMMARY:Unraveling the Fashion Supply Chain: Full Circle Fashion with the Power of Traceability
DESCRIPTION:This expert panel explores the opportunities and challenges of building a transparent and future-proof fashion industry by driving sustainability and consumer trust through transparency.
URL:https://www.munichfabricstart.com/en/event/unraveling-the-fashion-supply-chain-full-circle-fashion-with-the-power-of-traceability/
LOCATION:TREND LECTURES | Keyhouse – Hall 7
CATEGORIES:Traceability Panel
END:VEVENT
BEGIN:VEVENT
DTSTART;TZID=Europe/Berlin:20240904T130000
DTEND;TZID=Europe/Berlin:20240904T140000
DTSTAMP:20260423T114931
CREATED:20240806T144929Z
LAST-MODIFIED:20240808T161216Z
UID:7814-1725454800-1725458400@www.munichfabricstart.com
SUMMARY:Threads of Change – The Environmental and Social Impact of Regenerative Cotton
DESCRIPTION:Hype\, Hope\, and Horizons: Can regenerative cotton help the textile industry build a better manufacturing culture? This panel will explore the potential\, opportunities\, and challenges that regenerative cotton presents for brands\, manufacturers\, and consumers alike. The aim is to explore the social and environmental implications\, including the empowerment of women farmers\, and discuss whether the industry is ready to embrace this sustainable shift. Learn about regenerative cotton from seed to final product\, from garments to labels.
URL:https://www.munichfabricstart.com/en/event/threads-of-change-the-environmental-and-social-impact-of-regenerative-cotton/
LOCATION:TREND LECTURES | Keyhouse – Hall 7
CATEGORIES:Panel Discussion
END:VEVENT
BEGIN:VEVENT
DTSTART;TZID=Europe/Berlin:20240904T123000
DTEND;TZID=Europe/Berlin:20240904T130000
DTSTAMP:20260423T114931
CREATED:20240821T073603Z
LAST-MODIFIED:20240827T140841Z
UID:7990-1725453000-1725454800@www.munichfabricstart.com
SUMMARY:BLUE D.E.W. – DENIM.EDUCATION.WORKSHOP
DESCRIPTION:Explore the Essentials of Fabric Sourcing
URL:https://www.munichfabricstart.com/en/event/blue-d-e-w-denim-education-workshop-2/
LOCATION:ROUND TABLE | Bluezone – Hall 7
CATEGORIES:Workshop
END:VEVENT
BEGIN:VEVENT
DTSTART;TZID=Europe/Berlin:20240904T120000
DTEND;TZID=Europe/Berlin:20240904T130000
DTSTAMP:20260423T114931
CREATED:20240731T153946Z
LAST-MODIFIED:20240813T100729Z
UID:7772-1725451200-1725454800@www.munichfabricstart.com
SUMMARY:GREAT GREEN TECHKNOWLEDGE – A Deep Dive into Tech-Driven Viability That Emerges from Collaboration
DESCRIPTION:Revolutionizing the Fashion Industry with Innovative Fibers\, Machinery\, Processes\, and Open-Source Collaboration.\n\nJoin industry experts and their collaborative approaches from Lycra & Calik Denim\, Officina +39 & Tonello\, Archroma & Kipas Denim as well as Hilo to learn more about the latest innovations on great green techknowledge.
URL:https://www.munichfabricstart.com/en/event/great-green-techknowledge-a-deep-dive-into-tech-driven-viability-that-emerges-from-collaboration/
LOCATION:TREND LECTURES | Keyhouse – Hall 7
CATEGORIES:Innovation Panel
END:VEVENT
BEGIN:VEVENT
DTSTART;TZID=Europe/Berlin:20240904T120000
DTEND;TZID=Europe/Berlin:20240904T123000
DTSTAMP:20260423T114931
CREATED:20240730T083526Z
LAST-MODIFIED:20240731T082318Z
UID:7730-1725451200-1725453000@www.munichfabricstart.com
SUMMARY:SECOND HAND – the sustainable growth driver
DESCRIPTION:Why leave the second-hand market and its sales to peer2peer platforms? Why smart brands should do this themselves – and how to tackle it step by step.
URL:https://www.munichfabricstart.com/en/event/second-hand-the-sustainable-growth-driver/
LOCATION:ROUND TABLE | Bluezone – Hall 7
CATEGORIES:Educational Talk
END:VEVENT
BEGIN:VEVENT
DTSTART;TZID=Europe/Berlin:20240904T113000
DTEND;TZID=Europe/Berlin:20240904T120000
DTSTAMP:20260423T114931
CREATED:20240730T083947Z
LAST-MODIFIED:20240801T140551Z
UID:7735-1725449400-1725451200@www.munichfabricstart.com
SUMMARY:Monsieur-T. – Bluezone Denim Trends
DESCRIPTION:Age & Trend\, Tops & Bottoms\, Cores & Innovation. Insight & Inspiration for upcoming bestsellers.
URL:https://www.munichfabricstart.com/en/event/bluezone-denim-trends/
LOCATION:ROUND TABLE | Bluezone – Hall 7
CATEGORIES:Trend Presentation
END:VEVENT
BEGIN:VEVENT
DTSTART;TZID=Europe/Berlin:20240904T113000
DTEND;TZID=Europe/Berlin:20240904T120000
DTSTAMP:20260423T114931
CREATED:20240710T101406Z
LAST-MODIFIED:20240715T101711Z
UID:7445-1725449400-1725451200@www.munichfabricstart.com
SUMMARY:Cradle2Cradle Certified® – Make Circularity Actionable & Fashionable!
DESCRIPTION:Get to know Cradle to Cradle Certified®\, the circular product standard for positive impact.
URL:https://www.munichfabricstart.com/en/event/cradle2cradle-make-circularity-actionable-fashionable/
LOCATION:TREND LECTURES | Keyhouse – Hall 7
CATEGORIES:Educational Session
END:VEVENT
BEGIN:VEVENT
DTSTART;TZID=Europe/Berlin:20240904T110000
DTEND;TZID=Europe/Berlin:20240904T130000
DTSTAMP:20260423T114931
CREATED:20240701T131555Z
LAST-MODIFIED:20240715T101746Z
UID:7343-1725447600-1725454800@www.munichfabricstart.com
SUMMARY:LI EDELKOORT – Private Lecture On Fashion & Textile Forecast + Colour Forecast Autumn.Winter 25/26
DESCRIPTION:Li Edelkoort will return to Munich once again for one of her exclusive private lectures featuring the Autumn/Winter 2025-26 trends.\nAt MUNICH FABRIC START\, she will present the forecast for fashion and textiles as well as the colours in a 2hrs event. Join the famous trend forecaster and experience her speech live in an intimate setting. \nWHAT CAN YOU EXPECT? \n__Fashion & Textile Forecast \nPARIS: Autumn / Winter 2025—26 \n__Colour Forecast \nILLUSTRATION: Autumn / Winter 2025—26 \nThis forecast is a perfect inspirational source and working tool for all those who love and live design. \n>> Get your ticket here for 295\,00 € \nto join this exclusive private lecture of Li Edelkoort. \nLimited seats available.
URL:https://www.munichfabricstart.com/en/event/li-edelkoort-fashion-textile-forecast-and-colour-forecast-for-autumn-winter-25-26/
LOCATION:Room K1 in front of Hall 1 | MOC
CATEGORIES:Trend Presentation
END:VEVENT
BEGIN:VEVENT
DTSTART;TZID=Europe/Berlin:20240904T110000
DTEND;TZID=Europe/Berlin:20240904T113000
DTSTAMP:20260423T114931
CREATED:20240717T062243Z
LAST-MODIFIED:20240902T143707Z
UID:7604-1725447600-1725449400@www.munichfabricstart.com
SUMMARY:Key Conversation and Deep Dive about Future-oriented Sustainable Material Developments
DESCRIPTION:Join Simon Angel and material experts for an inspirational talk about future-proof material solutions that will add value to a sustainable and circular industry.
URL:https://www.munichfabricstart.com/en/event/key-conversation-and-deep-dive-about-future-oriented-sustainable-material-developments-4/
LOCATION:TREND LECTURES | Keyhouse – Hall 7
CATEGORIES:Educational Talk
END:VEVENT
BEGIN:VEVENT
DTSTART;TZID=Europe/Berlin:20240904T103000
DTEND;TZID=Europe/Berlin:20240904T113000
DTSTAMP:20260423T114931
CREATED:20240815T081820Z
LAST-MODIFIED:20240815T081820Z
UID:7915-1725445800-1725449400@www.munichfabricstart.com
SUMMARY:Explore the ENDRIME® Denim Archive and stories behind the pieces with Mohsin Sajid
DESCRIPTION:
URL:https://www.munichfabricstart.com/en/event/explore-the-endrime-denim-archive-and-stories-behind-the-pieces-with-mohsin-sajid/
LOCATION:ROUND TABLE | Bluezone – Hall 7
CATEGORIES:Denim Talk
END:VEVENT
BEGIN:VEVENT
DTSTART;TZID=Europe/Berlin:20240904T103000
DTEND;TZID=Europe/Berlin:20240904T110000
DTSTAMP:20260423T114931
CREATED:20240627T090402Z
LAST-MODIFIED:20240809T124339Z
UID:7330-1725445800-1725447600@www.munichfabricstart.com
SUMMARY:Hessnatur Stiftung – Von der richtigen Nachhaltigkeitsstrategie\, über die Implementierung zum Unternehmenserfolg – Automatisierung\, Digitalisierung und Datenmanagement
DESCRIPTION:Das richtige Zusammenspiel einer Nachhaltigkeitsstrategie mit passender Software Lösung – Ein Fachgespräch zwischen Nachhaltigkeitsspezialisten und einer IT Expertin zur einfachen Anwendung.\n\nDie Umsetzung einer Nachhaltigkeitsstrategie unter Berücksichtigung von Lieferantenmonitoring\, Risiko Analyse\, Digital Product Passport\, Due Diligence Anforderungen und vielem mehr erzeugt eine sehr große Datenmenge. Dafür braucht es das richtige Software Tool; die komplexen Prozesse wollen einfach und erfolgreich gesteuert werden.
URL:https://www.munichfabricstart.com/en/event/hessnatur-stiftung-von-der-richtigen-nachhaltigkeitsstrategie-ueber-die-implementierung-zum-unternehmenserfolg-automatisierung-digitalisierung-und-datenmanagement/
LOCATION:TREND LECTURES | Keyhouse – Hall 7
CATEGORIES:Ping Pong Session
END:VEVENT
BEGIN:VEVENT
DTSTART;TZID=Europe/Berlin:20240904T100000
DTEND;TZID=Europe/Berlin:20240904T103000
DTSTAMP:20260423T114931
CREATED:20240828T082602Z
LAST-MODIFIED:20240828T102909Z
UID:8063-1725444000-1725445800@www.munichfabricstart.com
SUMMARY:Megatrends: Why They Matter\, How They Impact us and What Senses They Engage With!
DESCRIPTION:Join the Vision of AMD Akademie Mode und Design Students for Various Megatrends in Life: Mobility in Fashion – Rage of the Fast Life | Megatrend Mindfulness – Is Mindfulness the solution? | Selbstoptimierung – Wann sind wir genug? | Urbanisation & Urban Gardening – How to enjoy the benefits of an urban lifestyle while experiencing rural bliss.
URL:https://www.munichfabricstart.com/en/event/megatrends-why-they-matter-how-they-impact-us-and-what-senses-they-engage-with/
LOCATION:TREND LECTURES | Keyhouse – Hall 7
CATEGORIES:Trend Pitch
END:VEVENT
BEGIN:VEVENT
DTSTART;TZID=Europe/Berlin:20240903T180000
DTEND;TZID=Europe/Berlin:20240903T183000
DTSTAMP:20260423T114931
CREATED:20240710T105133Z
LAST-MODIFIED:20240819T100513Z
UID:7465-1725386400-1725388200@www.munichfabricstart.com
SUMMARY:DQS – Navigating the Complexities of the Sustainability Jungle
DESCRIPTION:Venture into the ever-expanding jungle of corporate sustainability regulations\, where acronyms like CSRD\, CSDDD\, and the Green Claims Directive lurk among the undergrowth. This session will be your machete slashing through the dense regulatory foliage\, helping you to get an overview of the most important legal developments. Learn how you can position yourself to not only meet the requirements but stand out from the competition\, opening up new sustainable opportunities.
URL:https://www.munichfabricstart.com/en/event/dqs-durchblick-im-nachaltigkeitsdschungel/
LOCATION:TREND LECTURES | Keyhouse – Hall 7
CATEGORIES:Educational Session
END:VEVENT
BEGIN:VEVENT
DTSTART;TZID=Europe/Berlin:20240903T170000
DTEND;TZID=Europe/Berlin:20240903T183000
DTSTAMP:20260423T114931
CREATED:20240625T142818Z
LAST-MODIFIED:20240809T124626Z
UID:7310-1725382800-1725388200@www.munichfabricstart.com
SUMMARY:HESSNATUR STIFTUNG – Wettbewerbsfähig und erfolgreich mit der richtigen Nachhaltigkeitsstrategie im Unternehmen
DESCRIPTION:WORKSHOP: Wettbewerbsfähig und erfolgreich mit der richtigen Nachhaltigkeitsstrategie im Unternehmen \nPart 1: Die Rolle von CSRD\, Eco Design Directive und weiterer anstehender Regulierungen.\n\n\nStrategische Implementierung der neuen Vorschriften \nPart 2: im Workshop werden anwendungsbezogene Methoden und Lösungsansätze mit den Teilnehmern praxisbezogen erarbeitet\, um neue Regularien effektiv umzusetzen.\n\nKostenfreie Teilnahme mit Voranmeldung per Email an: anja.umann@hessnatur-stiftung.org
URL:https://www.munichfabricstart.com/en/event/hessnatur-stiftung-wettbewerbsfaehig-und-erfolgreich-mit-der-richtigen-nachhaltigkeitsstrategie-im-unternehmen/
LOCATION:Room K1 in front of Hall 1 | MOC
CATEGORIES:Workshop
END:VEVENT
BEGIN:VEVENT
DTSTART;TZID=Europe/Berlin:20240903T170000
DTEND;TZID=Europe/Berlin:20240903T180000
DTSTAMP:20260423T114931
CREATED:20240815T124551Z
LAST-MODIFIED:20240815T124953Z
UID:7919-1725382800-1725386400@www.munichfabricstart.com
SUMMARY:THE WOMEN IN DENIM
DESCRIPTION:Meet inspiring women in denim and know them better through a fun & unexpected Q&A networking session with Lucie Germser & guests.
URL:https://www.munichfabricstart.com/en/event/the-women-in-denim/
LOCATION:ROUND TABLE | Bluezone – Hall 7
CATEGORIES:Denim Talk
END:VEVENT
BEGIN:VEVENT
DTSTART;TZID=Europe/Berlin:20240903T170000
DTEND;TZID=Europe/Berlin:20240903T180000
DTSTAMP:20260423T114931
CREATED:20240703T101906Z
LAST-MODIFIED:20240805T102207Z
UID:7417-1725382800-1725386400@www.munichfabricstart.com
SUMMARY:GREAT GREEN INTELLIGENCE – Join DEVALIA on an interdisciplinary approach and scaled methodology for individuals and companies who wish to SUSTAIN-REMAIN and REGAIN in a fast-evolving industry
DESCRIPTION:Devalia collaborates with public and private scientific institutions to promote the reuse of raw materials and the reintegration of natural resources\, a core principle of the circular economy. The project aims to foster a new culture and scientific research approach within various industries\, enabling users to make ethical choices easily – focusing on methodologies for deceptive communications\, encouragement of interdisciplinary collaboration to manage environmental issues and the DPP data fostering for a transparent and circular economy.
URL:https://www.munichfabricstart.com/en/event/devalia/
LOCATION:TREND LECTURES | Keyhouse – Hall 7
CATEGORIES:Panel Discussion
END:VEVENT
BEGIN:VEVENT
DTSTART;TZID=Europe/Berlin:20240903T160000
DTEND;TZID=Europe/Berlin:20240903T170000
DTSTAMP:20260423T114931
CREATED:20240814T123135Z
LAST-MODIFIED:20240814T123205Z
UID:7903-1725379200-1725382800@www.munichfabricstart.com
SUMMARY:Meet the Farmers Growing the Cotton in Your Jeans
DESCRIPTION:Join us on our #WhoMadeMyCotton journey to the Turkish cotton fields. Discover what we learned from meeting the farmers growing the cotton in our jeans and how these experiences have reshaped our view of the textile supply chain. We’ll share stories from the field\, insights that changed our approach to sustainability\, and why the farmers’ voices are crucial in this conversation as we advocate for at Cotton Diaries.\n\nCome ready to engage — have you ever visited a cotton field? Met the farmers who grow your cotton? Let’s explore what these connections mean for the future of denim.
URL:https://www.munichfabricstart.com/en/event/meet-the-farmers-growing-the-cotton-in-your-jeans/
LOCATION:ROUND TABLE | Bluezone – Hall 7
CATEGORIES:Educational Talk
END:VEVENT
BEGIN:VEVENT
DTSTART;TZID=Europe/Berlin:20240903T160000
DTEND;TZID=Europe/Berlin:20240903T170000
DTSTAMP:20260423T114931
CREATED:20240814T085348Z
LAST-MODIFIED:20240814T085348Z
UID:7895-1725379200-1725382800@www.munichfabricstart.com
SUMMARY:Cotton Diaries – Meet the Farmers Growing the Cotton in Your Jeans
DESCRIPTION:Join us on our #WhoMadeMyCotton journey to the Turkish cotton fields. Discover what we learned from meeting the farmers growing the cotton in our jeans and how these experiences have reshaped our view of the textile supply chain. We’ll share stories from the field\, insights that changed our approach to sustainability\, and why the farmers’ voices are crucial in this conversation as we advocate for at Cotton Diaries.\n\nCome ready to engage — have you ever visited a cotton field? Met the farmers who grow your cotton? Let’s explore what these connections mean for the future of denim.
URL:https://www.munichfabricstart.com/en/event/cotton-diaries-meet-the-farmers-growing-the-cotton-in-your-jeans/
LOCATION:ROUND TABLE | Bluezone – Hall 7
CATEGORIES:Educational Talk
END:VEVENT
BEGIN:VEVENT
DTSTART;TZID=Europe/Berlin:20240903T160000
DTEND;TZID=Europe/Berlin:20240903T170000
DTSTAMP:20260423T114931
CREATED:20240625T141121Z
LAST-MODIFIED:20240808T140114Z
UID:7306-1725379200-1725382800@www.munichfabricstart.com
SUMMARY:Bornemann Etiketten X dm drogeriemarkt: Digital Solutions for international Branding
DESCRIPTION:How dm-drogerie markt and Bornemann-Etiketten simplify complex processes by using digital tools.
URL:https://www.munichfabricstart.com/en/event/bornemann-etiketten-x-dm-drogeriemarkt-einheitliches-branding-fuer-internationale-marken/
LOCATION:TREND LECTURES | Keyhouse – Hall 7
CATEGORIES:Innovation Panel
END:VEVENT
END:VCALENDAR